{"text_format":"1","workbook":"xlsx","n_sheets":8,"sheets":["Calculator","Business Exp","Personal Exp","ScratchPad","National Food","OOP Healthcare","Housing Standards","Transportation"],"not_rendered":{"charts":0,"images":1,"macros":1,"external_links":0,"defined_names":0,"comments":1,"pivot_tables":0},"unopened":[],"bounds":{"document_bytes":16777216,"sheet_cells":100000,"rows_first":2000,"rows_last":500,"rows_between":2000,"halvings":0,"cell_chars":16384,"cell_head_chars":4096},"cells_cut":0,"cells_raw":0,"read":"whole","date_system":"1900"}

{"sheet":"Calculator","index":0,"n_rows":38,"n_cols":23,"rows_kept":38,"cut":false,"hidden":false,"merged":[[10,1,11,1],[17,21,17,22],[4,21,4,22],[25,21,25,22],[12,2,12,8],[5,12,5,16],[24,12,24,16]]}
[]
[null,"# People in household:"]
[null,"# People 65 or over"]
[null,"State"]
[null,"County",null,{"$f":"C5&\" County\"","v":" County"},null,null,null,null,null,null,null,null,null,null,null,null,null,null,null,null,null,"Other Expenses"]
[null,"# Vehicles >",null,null,false,{"$f":"IF(AND(C2<>\"\",OR(C6=\"\",C6=0)),TRUE,FALSE)","v":false},null,null,null,null,null,null,"Household Monthly Income & Expenses",null,null,null,null,"Claimed","Allowable","Override Allowable",null,"Expense","Amount"]
[null,null,"Payment",null,null,null,null,null,null,null,null,null,20,"Wages (Taxpayer)",null,35,"Food, Clothing and Misc.",0,{"$f":"IF(T7=\"\",'National Food'!G7,T7)","v":0}]
[null,"Vehicle 1 Payment",null,null,{"$f":"IF(C8>0,MIN(C8,Transportation!B8),\"\")","v":""},null,null,null,null,null,null,null,21,"Wages (Spouse)",null,36,"Housing and Utilities",0,{"$f":"IF(T8=\"\",'Housing Standards'!K2,T8)","v":0}]
[null,"Vehicle 2 Payment",null,null,{"$f":"IF(AND(C9>0,C6>1),MIN(C9,Transportation!B8),\"\")","v":""},null,null,null,null,null,null,null,22,"Interest - Dividends",null,37,"Vehicle Ownership Costs",{"$f":"SUM(C8:C9)","v":0},{"$f":"IF(T9=\"\",MIN(R9,Transportation!D8),T9)","v":0}]
[null,null,null,null,{"$f":"SUM(E8:E9)","v":0},null,null,null,null,null,null,null,23,"Net Business Income",null,38,"Vehicle Operating Costs",{"$f":"I12","v":0},{"$f":"IF(T10=\"\",MIN(R10,Transportation!K3),T10)","v":0}]
[null,"All Vehicles Operating","Insurance",null,"Gas","Maint.","Other","Manual Total","Operating",null,null,null,24,"Net Rental Income",null,39,"Public Transportation",0,{"$f":"IF(T11=\"\",Transportation!D5,T11)","v":0}]
[null,null,null,null,null,null,null,null,{"$f":"IF(OR(H12=0,H12=\"\"),SUM(C12:G12),H12)","v":0},null,null,null,25,"Distributions (K-1, IRA, etc.)",null,40,"Health Insurance",0,{"$f":"IF(T12=\"\",R12,T12)","v":0}]
[null,null,{"$f":"IF(OR(C4=\"\",C5=\"\"),\"You must add State & County, above to get allowable operating costs.\",\"\")","v":"You must add State & County, above to get allowable operating costs."},null,null,null,null,null,null,null,null,null,26,"Pension (Taxpayer)",null,41,"Out of Pocket Health Care Costs",0,{"$f":"IF(T14=\"\",'OOP Healthcare'!B8,Calculator!T14)","v":0}]
[null,null,null,null,null,null,null,null,null,null,null,null,27,"Pension (Spouse)",null,42,"Court Ordered Payments",0,{"$f":"IF(T14=\"\",R14,T14)","v":0}]
[null,null,null,null,null,null,null,null,null,null,null,null,28,"Social Security (Taxpayer)",null,43,"Child/Dependent Care",0,{"$f":"IF(T15=\"\",R15,T15)","v":0}]
[null,null,null,null,null,null,null,null,null,null,null,null,29,"Social Security (Spouse)",null,44,"Life Insurance",0,0]
[null,null,null,null,null,null,null,null,null,null,null,null,30,"Child Support",null,45,"Current year taxes (Income/FICA)",0,0]
[null,null,null,null,null,null,null,null,null,null,null,null,31,"Alimony",null,46,"Secured Debts (Attach list)",{"$f":"SUM(SecDebtTbl[[#All],[Amount]])","v":0},{"$f":"IF(T18=\"\",SUM(SecDebtTbl[Amount]),T18)","v":0},null,null,"Secured Debts"]
[null,null,null,null,null,null,null,null,null,null,null,null,null,"Other Income (Specify below)",null,47,"Delinquent State or Local Taxes",0,0,null,null,"Lender","Amount"]
[null,null,null,null,null,null,null,null,null,null,null,null,32,null,null,48,"Other Expenses (Attach list)",{"$f":"SUM(OtherExpTbl[[#All],[Amount]])","v":0},{"$f":"IF(T20=\"\",SUM(OtherExpTbl[Amount]),T20)","v":0}]
[null,null,null,null,null,null,null,null,null,null,null,null,33,null,null,49,"Total Living Exps (add lines 35-48)",{"$f":"SUM(R7:R20)","v":0},{"$f":"SUM(S7:S20)","v":0}]
[null,null,null,null,null,null,null,null,null,null,null,null,34,"Total Income (add lines 20-33)",{"$f":"SUM(O7:O21)","v":0},50,"Net difference (Line 34 minus 49)",{"$f":"SUM(O22-R21)","v":0},{"$f":"SUM(O22-S21)","v":0}]
[]
[]
[null,null,null,null,null,null,null,null,null,null,null,null,"Sole Proprietorship/Business Information",null,null,null,null,"Claimed","Allowable"]
[null,null,null,null,null,null,null,null,null,null,null,null,67,"Gross Receipts",null,77,"Materials Purchased",null,null,null,null,"Other Business Expenses"]
[null,null,null,null,null,null,null,null,null,null,null,null,68,"Gross Rental Income",null,78,"Inventory Purchased",null,null,null,null,"Expense","Amount"]
[null,null,null,null,null,null,null,null,null,null,null,null,69,"Interest",null,79,"Gross Wages & Salaries"]
[null,null,null,null,null,null,null,null,null,null,null,null,70,"Dividends",null,80,"Rent"]
[null,null,null,null,null,null,null,null,null,null,null,null,71,"Cash Receipts not incl in 67-70",null,81,"Supplies"]
[null,null,null,null,null,null,null,null,null,null,null,null,null,"Other Income (Specify below)",null,82,"Utilities/Telephone"]
[null,null,null,null,null,null,null,null,null,null,null,null,72,null,null,83,"Vehicle Gasoline/Oil"]
[null,null,null,null,null,null,null,null,null,null,null,null,73,null,null,84,"Repairs & Maintenance"]
[null,null,null,null,null,null,null,null,null,null,null,null,74,null,null,85,"Insurance"]
[null,null,null,null,null,null,null,null,null,null,null,null,75,null,null,86,"Current Taxes"]
[null,null,null,null,null,null,null,null,null,null,null,null,76,"Total Income (Add 67 through 75)",{"$f":"SUM(O26:O35)","v":0},87,"Other Exp, incl install pmts (Specify)",{"$f":"SUM(OtherSPExpTb[[#All],[Amount]])","v":0}]
[null,null,null,null,null,null,null,null,null,null,null,null,null,null,null,88,"Total Exps (Add lines 77 through 87)",{"$f":"SUM(R26:R36)","v":0},{"$f":"SUM(S26:S36)","v":0}]
[null,null,null,null,null,null,null,null,null,null,null,null,null,null,null,89,"Net Bus Income (Line 76 minus 88)",{"$f":"O36-R37","v":0},{"$f":"O36-S37","v":0}]

{"sheet":"Business Exp","index":1,"n_rows":12,"n_cols":8,"rows_kept":12,"cut":false,"hidden":false,"merged":[]}
["Item","Claimed","Allowed","Category",null,77,"Materials Purchased",{"$f":"SUMIF(BusExp[Category],G1,BusExp[Allowed])","v":0}]
[null,null,null,null,null,78,"Inventory Purchased",{"$f":"SUMIF(BusExp[Category],G2,BusExp[Allowed])","v":0}]
[null,null,null,null,null,79,"Gross Wages & Salaries",{"$f":"SUMIF(BusExp[Category],G3,BusExp[Allowed])","v":0}]
[null,null,null,null,null,80,"Rent",{"$f":"SUMIF(BusExp[Category],G4,BusExp[Allowed])","v":0}]
[null,null,null,null,null,81,"Supplies",{"$f":"SUMIF(BusExp[Category],G5,BusExp[Allowed])","v":0}]
[null,null,null,null,null,82,"Utilities/Telephone",{"$f":"SUMIF(BusExp[Category],G6,BusExp[Allowed])","v":0}]
[null,null,null,null,null,83,"Vehicle Gasoline/Oil",{"$f":"SUMIF(BusExp[Category],G7,BusExp[Allowed])","v":0}]
[null,null,null,null,null,84,"Repairs & Maintenance",{"$f":"SUMIF(BusExp[Category],G8,BusExp[Allowed])","v":0}]
[null,null,null,null,null,85,"Insurance",{"$f":"SUMIF(BusExp[Category],G9,BusExp[Allowed])","v":0}]
[null,null,null,null,null,86,"Current Taxes",{"$f":"SUMIF(BusExp[Category],G10,BusExp[Allowed])","v":0}]
[null,null,null,null,null,87,"Other Exp, incl install pmts (Specify)",{"$f":"SUMIF(BusExp[Category],G11,BusExp[Allowed])","v":0}]
[null,null,null,null,null,88,"Total Exps (Add lines 77 through 87)",{"$f":"SUM(H1:H11)","v":0}]

{"sheet":"Personal Exp","index":2,"n_rows":15,"n_cols":8,"rows_kept":15,"cut":false,"hidden":false,"merged":[]}
["Item","Claimed","Allowed","Category",null,35,"Food, Clothing and Misc.",{"$f":"SUMIF(PersExp[Category],G1,PersExp[Allowed])","v":0}]
[null,null,null,null,null,36,"Housing and Utilities",{"$f":"SUMIF(PersExp[Category],G2,PersExp[Allowed])","v":0}]
[null,null,null,null,null,37,"Vehicle Ownership Costs",{"$f":"SUMIF(PersExp[Category],G3,PersExp[Allowed])","v":0}]
[null,null,null,null,null,38,"Vehicle Operating Costs",{"$f":"SUMIF(PersExp[Category],G4,PersExp[Allowed])","v":0}]
[null,null,null,null,null,39,"Public Transportation",{"$f":"SUMIF(PersExp[Category],G5,PersExp[Allowed])","v":0}]
[null,null,null,null,null,40,"Health Insurance",{"$f":"SUMIF(PersExp[Category],G6,PersExp[Allowed])","v":0}]
[null,null,null,null,null,41,"Out of Pocket Health Care Costs",{"$f":"SUMIF(PersExp[Category],G7,PersExp[Allowed])","v":0}]
[null,null,null,null,null,42,"Court Ordered Payments",{"$f":"SUMIF(PersExp[Category],G8,PersExp[Allowed])","v":0}]
[null,null,null,null,null,43,"Child/Dependent Care",{"$f":"SUMIF(PersExp[Category],G9,PersExp[Allowed])","v":0}]
[null,null,null,null,null,44,"Life Insurance",{"$f":"SUMIF(PersExp[Category],G10,PersExp[Allowed])","v":0}]
[null,null,null,null,null,45,"Current year taxes (Income/FICA)",{"$f":"SUMIF(PersExp[Category],G11,PersExp[Allowed])","v":0}]
[null,null,null,null,null,46,"Secured Debts (Attach list)",{"$f":"SUMIF(PersExp[Category],G12,PersExp[Allowed])","v":0}]
[null,null,null,null,null,47,"Delinquent State or Local Taxes",{"$f":"SUMIF(PersExp[Category],G13,PersExp[Allowed])","v":0}]
[null,null,null,null,null,48,"Other Expenses (Attach list)",{"$f":"SUMIF(PersExp[Category],G14,PersExp[Allowed])","v":0}]
[null,null,null,null,null,49,"Total Living Exps (add lines 35-48)",{"$f":"SUM(H1:H14)","v":0}]

{"sheet":"ScratchPad","index":3,"n_rows":0,"n_cols":0,"rows_kept":0,"cut":false,"hidden":false,"merged":[]}

{"sheet":"National Food","index":4,"n_rows":11,"n_cols":7,"rows_kept":11,"cut":false,"hidden":false,"merged":[]}
["Expense",1,2,3,4,null,"Computed"]
["Food",458,820,977,1143,null,{"$f":"_xlfn.IFNA(LOOKUP(Calculator!$C$2,$B$1:$E$1,$B2:$E2),0)","v":0}]
["Housekeeping supplies",44,75,83,82,null,{"$f":"_xlfn.IFNA(LOOKUP(Calculator!$C$2,$B$1:$E$1,$B3:$E3),0)","v":0}]
["Apparel & services",87,157,187,300,null,{"$f":"_xlfn.IFNA(LOOKUP(Calculator!$C$2,$B$1:$E$1,$B4:$E4),0)","v":0}]
["Personal care products & services",48,80,87,97,null,{"$f":"_xlfn.IFNA(LOOKUP(Calculator!$C$2,$B$1:$E$1,$B5:$E5),0)","v":0}]
["Miscellaneous",171,279,343,405,null,{"$f":"_xlfn.IFNA(LOOKUP(Calculator!$C$2,$B$1:$E$1,$B6:$E6),0)","v":0}]
["Total",808,1411,1677,2027,null,{"$f":"_xlfn.IFNA(LOOKUP(Calculator!$C$2,$B$1:$E$1,$B7:$E7)+C11,0)","v":0}]
[]
[]
["More than four persons","Additional Persons Amount"]
["For each additional person, add to four-person total allowance:",386,{"$f":"IF(Calculator!C2>E1,(Calculator!C2-'National Food'!E1)*'National Food'!B11,0)","v":0}]

{"sheet":"OOP Healthcare","index":5,"n_rows":8,"n_cols":2,"rows_kept":8,"cut":false,"hidden":false,"merged":[]}
["Age","Out of Pocket Costs"]
["Under 65",83]
["65 and Older",158]
[]
[]
["Under 65",{"$f":"(Calculator!C2-Calculator!C3)*'OOP Healthcare'!B2","v":0}]
["65 & older",{"$f":"Calculator!C3*'OOP Healthcare'!B3","v":0}]
["Total",{"$f":"SUM(B6:B7)","v":0}]

{"sheet":"Housing Standards","index":6,"n_rows":3225,"n_cols":14,"rows_kept":3225,"cut":false,"hidden":false,"merged":[]}
[null,null,1,2,3,4,5,null,null,{"$f":"SUBSTITUTE(ADDRESS(1, MATCH(Calculator!C2,'Housing Standards'!A1:G1), 4), \"1\", \"\")","v":{"$error":"#N/A"}},{"$f":"_xlfn.XLOOKUP(Calculator!D5&Calculator!C4,Table1[County]&Table1[State Name],Table1[Lookup])","v":{"$error":"#N/A"}},{"$f":"J1&K1","v":{"$error":"#N/A"}}]
["County","State Name","2024 Published\nALE Housing Expense for a Family of 1","2024 Published\nALE Housing Expense for a Family of 2","2024 Published\nALE Housing Expense for a Family of 3","2024 Published\nALE Housing Expense for a Family of 4","2024 Published\nALE Housing Expense for a Family of 5","Lookup",null,null,{"$f":"_xlfn.IFNA(INDIRECT(L1),0)","v":0},null,null,"States"]
["Autauga County","Alabama",1500,1762,1857,2071,2104,{"$f":"ROW()","v":3},null,null,null,null,null,{"$f":"_xlfn.UNIQUE(B3:B3225)","v":"Alabama"}]
["Baldwin County","Alabama",1650,1938,2042,2277,2314,{"$f":"ROW()","v":4},null,null,null,null,null,"Alaska"]
["Barbour County","Alabama",1322,1553,1636,1824,1854,{"$f":"ROW()","v":5},null,null,null,null,null,"Arizona"]
["Bibb County","Alabama",1357,1593,1679,1872,1902,{"$f":"ROW()","v":6},null,null,null,null,null,"Arkansas"]
["Blount County","Alabama",1435,1685,1776,1980,2012,{"$f":"ROW()","v":7},null,null,null,null,null,"California"]
["Bullock County","Alabama",1391,1634,1722,1920,1951,{"$f":"ROW()","v":8},null,null,null,null,null,"Colorado"]
["Butler County","Alabama",1245,1462,1541,1718,1746,{"$f":"ROW()","v":9},null,null,null,null,null,"Connecticut"]
["Calhoun County","Alabama",1329,1561,1645,1834,1864,{"$f":"ROW()","v":10},null,null,null,null,null,"Delaware"]
["Chambers County","Alabama",1307,1535,1617,1803,1832,{"$f":"ROW()","v":11},null,null,null,null,null,"District of Columbia"]
["Cherokee County","Alabama",1412,1658,1747,1948,1979,{"$f":"ROW()","v":12},null,null,null,null,null,"Florida"]
["Chilton County","Alabama",1389,1631,1719,1917,1948,{"$f":"ROW()","v":13},null,null,null,null,null,"Georgia"]
["Choctaw County","Alabama",1272,1494,1574,1755,1783,{"$f":"ROW()","v":14},null,null,null,null,null,"Hawaii"]
["Clarke County","Alabama",1471,1728,1821,2030,2063,{"$f":"ROW()","v":15},null,null,null,null,null,"Idaho"]
["Clay County","Alabama",1311,1540,1623,1810,1839,{"$f":"ROW()","v":16},null,null,null,null,null,"Illinois"]
["Cleburne County","Alabama",1501,1763,1858,2072,2105,{"$f":"ROW()","v":17},null,null,null,null,null,"Indiana"]
["Coffee County","Alabama",1487,1746,1840,2052,2085,{"$f":"ROW()","v":18},null,null,null,null,null,"Iowa"]
["Colbert County","Alabama",1361,1598,1684,1878,1908,{"$f":"ROW()","v":19},null,null,null,null,null,"Kansas"]
["Conecuh County","Alabama",1257,1477,1556,1735,1763,{"$f":"ROW()","v":20},null,null,null,null,null,"Kentucky"]
["Coosa County","Alabama",1250,1468,1547,1725,1753,{"$f":"ROW()","v":21},null,null,null,null,null,"Louisiana"]
["Covington County","Alabama",1315,1545,1628,1815,1845,{"$f":"ROW()","v":22},null,null,null,null,null,"Maine"]
["Crenshaw County","Alabama",1311,1540,1623,1810,1839,{"$f":"ROW()","v":23},null,null,null,null,null,"Maryland"]
["Cullman County","Alabama",1378,1619,1706,1902,1933,{"$f":"ROW()","v":24},null,null,null,null,null,"Massachusetts"]
["Dale County","Alabama",1267,1488,1568,1748,1777,{"$f":"ROW()","v":25},null,null,null,null,null,"Michigan"]
["Dallas County","Alabama",1324,1554,1638,1826,1856,{"$f":"ROW()","v":26},null,null,null,null,null,"Minnesota"]
["DeKalb County","Alabama",1308,1536,1619,1805,1834,{"$f":"ROW()","v":27},null,null,null,null,null,"Mississippi"]
["Elmore County","Alabama",1513,1777,1873,2088,2122,{"$f":"ROW()","v":28},null,null,null,null,null,"Missouri"]
["Escambia County","Alabama",1247,1464,1543,1720,1748,{"$f":"ROW()","v":29},null,null,null,null,null,"Montana"]
["Etowah County","Alabama",1371,1610,1697,1892,1923,{"$f":"ROW()","v":30},null,null,null,null,null,"Nebraska"]
["Fayette County","Alabama",1277,1500,1581,1763,1791,{"$f":"ROW()","v":31},null,null,null,null,null,"Nevada"]
["Franklin County","Alabama",1274,1497,1577,1758,1787,{"$f":"ROW()","v":32},null,null,null,null,null,"New Hampshire"]
["Geneva County","Alabama",1318,1548,1631,1819,1848,{"$f":"ROW()","v":33},null,null,null,null,null,"New Jersey"]
["Greene County","Alabama",1153,1354,1427,1591,1617,{"$f":"ROW()","v":34},null,null,null,null,null,"New Mexico"]
["Hale County","Alabama",1282,1506,1587,1770,1798,{"$f":"ROW()","v":35},null,null,null,null,null,"New York"]
["Henry County","Alabama",1306,1534,1616,1802,1831,{"$f":"ROW()","v":36},null,null,null,null,null,"North Carolina"]
["Houston County","Alabama",1408,1653,1742,1942,1974,{"$f":"ROW()","v":37},null,null,null,null,null,"North Dakota"]
["Jackson County","Alabama",1348,1583,1668,1860,1890,{"$f":"ROW()","v":38},null,null,null,null,null,"Ohio"]
["Jefferson County","Alabama",1648,1936,2040,2275,2311,{"$f":"ROW()","v":39},null,null,null,null,null,"Oklahoma"]
["Lamar County","Alabama",1322,1553,1636,1824,1854,{"$f":"ROW()","v":40},null,null,null,null,null,"Oregon"]
["Lauderdale County","Alabama",1379,1620,1707,1903,1934,{"$f":"ROW()","v":41},null,null,null,null,null,"Pennsylvania"]
["Lawrence County","Alabama",1353,1589,1674,1867,1897,{"$f":"ROW()","v":42},null,null,null,null,null,"Puerto Rico"]
["Lee County","Alabama",1572,1846,1945,2169,2204,{"$f":"ROW()","v":43},null,null,null,null,null,"Rhode Island"]
["Limestone County","Alabama",1553,1824,1922,2143,2178,{"$f":"ROW()","v":44},null,null,null,null,null,"South Carolina"]
["Lowndes County","Alabama",1370,1609,1695,1890,1920,{"$f":"ROW()","v":45},null,null,null,null,null,"South Dakota"]
["Macon County","Alabama",1271,1493,1573,1754,1782,{"$f":"ROW()","v":46},null,null,null,null,null,"Tennessee"]
["Madison County","Alabama",1607,1888,1989,2218,2254,{"$f":"ROW()","v":47},null,null,null,null,null,"Texas"]
["Marengo County","Alabama",1319,1549,1632,1820,1849,{"$f":"ROW()","v":48},null,null,null,null,null,"Utah"]
["Marion County","Alabama",1286,1511,1592,1775,1804,{"$f":"ROW()","v":49},null,null,null,null,null,"Vermont"]
["Marshall County","Alabama",1411,1657,1746,1947,1978,{"$f":"ROW()","v":50},null,null,null,null,null,"Virginia"]
["Mobile County","Alabama",1483,1741,1835,2046,2079,{"$f":"ROW()","v":51},null,null,null,null,null,"Washington"]
["Monroe County","Alabama",1290,1515,1596,1780,1808,{"$f":"ROW()","v":52},null,null,null,null,null,"West Virginia"]
["Montgomery County","Alabama",1444,1696,1787,1993,2025,{"$f":"ROW()","v":53},null,null,null,null,null,"Wisconsin"]
["Morgan County","Alabama",1425,1673,1763,1966,1997,{"$f":"ROW()","v":54},null,null,null,null,null,"Wyoming"]
["Perry County","Alabama",1323,1554,1637,1825,1855,{"$f":"ROW()","v":55}]
["Pickens County","Alabama",1293,1518,1600,1784,1813,{"$f":"ROW()","v":56}]
["Pike County","Alabama",1437,1687,1778,1982,2014,{"$f":"ROW()","v":57}]
["Randolph County","Alabama",1363,1601,1687,1881,1911,{"$f":"ROW()","v":58}]
["Russell County","Alabama",1417,1665,1754,1956,1987,{"$f":"ROW()","v":59}]
["St. Clair County","Alabama",1540,1809,1906,2125,2159,{"$f":"ROW()","v":60}]
["Shelby County","Alabama",1751,2056,2167,2416,2455,{"$f":"ROW()","v":61}]
["Sumter County","Alabama",1273,1496,1576,1757,1786,{"$f":"ROW()","v":62}]
["Talladega County","Alabama",1358,1595,1681,1874,1905,{"$f":"ROW()","v":63}]
["Tallapoosa County","Alabama",1275,1498,1578,1759,1788,{"$f":"ROW()","v":64}]
["Tuscaloosa County","Alabama",1592,1870,1970,2197,2232,{"$f":"ROW()","v":65}]
["Walker County","Alabama",1358,1595,1681,1874,1905,{"$f":"ROW()","v":66}]
["Washington County","Alabama",1486,1745,1839,2050,2084,{"$f":"ROW()","v":67}]
["Wilcox County","Alabama",1290,1516,1597,1781,1809,{"$f":"ROW()","v":68}]
["Winston County","Alabama",1391,1634,1722,1920,1951,{"$f":"ROW()","v":69}]
["Aleutians East Borough","Alaska",1711,2009,2117,2360,2399,{"$f":"ROW()","v":70}]
["Aleutians West Census Area","Alaska",2459,2888,3043,3393,3448,{"$f":"ROW()","v":71}]
["Anchorage Municipality","Alaska",2277,2674,2818,3142,3193,{"$f":"ROW()","v":72}]
["Bethel Census Area","Alaska",1977,2322,2447,2728,2772,{"$f":"ROW()","v":73}]
["Bristol Bay Borough","Alaska",2178,2559,2696,3006,3055,{"$f":"ROW()","v":74}]
["Chugach Census Area, Alaska","Alaska",2199,2582,2721,3034,3083,{"$f":"ROW()","v":75}]
["Copper River Census Area, Alaska","Alaska",1856,2180,2297,2561,2603,{"$f":"ROW()","v":76}]
["Denali Borough","Alaska",1930,2266,2388,2663,2706,{"$f":"ROW()","v":77}]
["Dillingham Census Area","Alaska",2280,2678,2822,3147,3197,{"$f":"ROW()","v":78}]
["Fairbanks North Star Borough","Alaska",2145,2520,2655,2960,3008,{"$f":"ROW()","v":79}]
["Haines Borough","Alaska",1866,2191,2309,2575,2616,{"$f":"ROW()","v":80}]
["Hoonah-Angoon Census Area","Alaska",1578,1853,1953,2178,2213,{"$f":"ROW()","v":81}]
["Juneau City and Borough","Alaska",2329,2736,2883,3215,3266,{"$f":"ROW()","v":82}]
["Kenai Peninsula Borough","Alaska",1916,2250,2371,2644,2686,{"$f":"ROW()","v":83}]
["Ketchikan Gateway Borough","Alaska",2189,2571,2709,3021,3069,{"$f":"ROW()","v":84}]
["Kodiak Island Borough","Alaska",2243,2634,2776,3095,3145,{"$f":"ROW()","v":85}]
["Kusilvak Census Area","Alaska",861,1011,1065,1187,1207,{"$f":"ROW()","v":86}]
["Lake and Peninsula Borough","Alaska",1057,1241,1308,1458,1482,{"$f":"ROW()","v":87}]
["Matanuska-Susitna Borough","Alaska",2009,2359,2486,2772,2817,{"$f":"ROW()","v":88}]
["Nome Census Area","Alaska",1803,2117,2231,2488,2528,{"$f":"ROW()","v":89}]
["North Slope Borough","Alaska",1414,1661,1750,1951,1983,{"$f":"ROW()","v":90}]
["Northwest Arctic Borough","Alaska",1681,1975,2081,2320,2358,{"$f":"ROW()","v":91}]
["Petersburg Borough","Alaska",1780,2091,2203,2456,2496,{"$f":"ROW()","v":92}]
["Prince of Wales-Hyder Census Area","Alaska",1868,2194,2312,2578,2619,{"$f":"ROW()","v":93}]
["Sitka City and Borough","Alaska",2468,2899,3055,3406,3461,{"$f":"ROW()","v":94}]
["Skagway Municipality","Alaska",2349,2759,2907,3241,3294,{"$f":"ROW()","v":95}]
["Southeast Fairbanks Census Area","Alaska",1755,2061,2172,2422,2461,{"$f":"ROW()","v":96}]
["Wrangell City and Borough","Alaska",1622,1905,2007,2238,2274,{"$f":"ROW()","v":97}]
["Yakutat City and Borough","Alaska",1393,1636,1724,1922,1953,{"$f":"ROW()","v":98}]
["Yukon-Koyukuk Census Area","Alaska",1357,1593,1679,1872,1902,{"$f":"ROW()","v":99}]
["Apache County","Arizona",1351,1587,1672,1864,1894,{"$f":"ROW()","v":100}]
["Cochise County","Arizona",1460,1715,1807,2015,2047,{"$f":"ROW()","v":101}]
["Coconino County","Arizona",1990,2337,2463,2746,2791,{"$f":"ROW()","v":102}]
["Gila County","Arizona",1605,1886,1987,2216,2251,{"$f":"ROW()","v":103}]
["Graham County","Arizona",1528,1795,1891,2108,2143,{"$f":"ROW()","v":104}]
["Greenlee County","Arizona",1175,1380,1454,1621,1647,{"$f":"ROW()","v":105}]
["La Paz County","Arizona",1314,1543,1626,1813,1842,{"$f":"ROW()","v":106}]
["Maricopa County","Arizona",1980,2326,2451,2733,2777,{"$f":"ROW()","v":107}]
["Mohave County","Arizona",1446,1698,1789,1995,2027,{"$f":"ROW()","v":108}]
["Navajo County","Arizona",1454,1707,1799,2006,2038,{"$f":"ROW()","v":109}]
["Pima County","Arizona",1680,1973,2079,2318,2356,{"$f":"ROW()","v":110}]
["Pinal County","Arizona",1740,2044,2154,2402,2440,{"$f":"ROW()","v":111}]
["Santa Cruz County","Arizona",1373,1612,1699,1894,1925,{"$f":"ROW()","v":112}]
["Yavapai County","Arizona",1711,2009,2117,2360,2399,{"$f":"ROW()","v":113}]
["Yuma County","Arizona",1441,1692,1783,1988,2020,{"$f":"ROW()","v":114}]
["Arkansas County","Arkansas",1312,1541,1624,1811,1840,{"$f":"ROW()","v":115}]
["Ashley County","Arkansas",1277,1500,1581,1763,1791,{"$f":"ROW()","v":116}]
["Baxter County","Arkansas",1260,1479,1559,1738,1766,{"$f":"ROW()","v":117}]
["Benton County","Arkansas",1679,1972,2078,2317,2354,{"$f":"ROW()","v":118}]
["Boone County","Arkansas",1315,1544,1627,1814,1843,{"$f":"ROW()","v":119}]
["Bradley County","Arkansas",1199,1408,1484,1655,1681,{"$f":"ROW()","v":120}]
["Calhoun County","Arkansas",1242,1459,1537,1714,1741,{"$f":"ROW()","v":121}]
["Carroll County","Arkansas",1396,1640,1728,1927,1958,{"$f":"ROW()","v":122}]
["Chicot County","Arkansas",1157,1359,1432,1597,1622,{"$f":"ROW()","v":123}]
["Clark County","Arkansas",1342,1576,1661,1852,1882,{"$f":"ROW()","v":124}]
["Clay County","Arkansas",1141,1340,1412,1574,1600,{"$f":"ROW()","v":125}]
["Cleburne County","Arkansas",1300,1527,1609,1794,1823,{"$f":"ROW()","v":126}]
["Cleveland County","Arkansas",1277,1499,1580,1762,1790,{"$f":"ROW()","v":127}]
["Columbia County","Arkansas",1350,1586,1671,1863,1893,{"$f":"ROW()","v":128}]
["Conway County","Arkansas",1267,1488,1568,1748,1777,{"$f":"ROW()","v":129}]
["Craighead County","Arkansas",1416,1664,1753,1955,1986,{"$f":"ROW()","v":130}]
["Crawford County","Arkansas",1330,1562,1646,1835,1865,{"$f":"ROW()","v":131}]
["Crittenden County","Arkansas",1408,1654,1743,1943,1975,{"$f":"ROW()","v":132}]
["Cross County","Arkansas",1350,1586,1671,1863,1893,{"$f":"ROW()","v":133}]
["Dallas County","Arkansas",1211,1423,1499,1671,1698,{"$f":"ROW()","v":134}]
["Desha County","Arkansas",1186,1393,1468,1637,1663,{"$f":"ROW()","v":135}]
["Drew County","Arkansas",1293,1518,1600,1784,1813,{"$f":"ROW()","v":136}]
["Faulkner County","Arkansas",1471,1728,1821,2030,2063,{"$f":"ROW()","v":137}]
["Franklin County","Arkansas",1227,1442,1519,1694,1721,{"$f":"ROW()","v":138}]
["Fulton County","Arkansas",1215,1427,1504,1677,1704,{"$f":"ROW()","v":139}]
["Garland County","Arkansas",1363,1601,1687,1881,1911,{"$f":"ROW()","v":140}]
["Grant County","Arkansas",1496,1757,1851,2064,2097,{"$f":"ROW()","v":141}]
["Greene County","Arkansas",1351,1587,1672,1864,1894,{"$f":"ROW()","v":142}]
["Hempstead County","Arkansas",1252,1471,1550,1728,1756,{"$f":"ROW()","v":143}]
["Hot Spring County","Arkansas",1285,1509,1590,1773,1801,{"$f":"ROW()","v":144}]
["Howard County","Arkansas",1294,1519,1601,1785,1814,{"$f":"ROW()","v":145}]
["Independence County","Arkansas",1214,1426,1503,1676,1703,{"$f":"ROW()","v":146}]
["Izard County","Arkansas",1172,1377,1451,1618,1644,{"$f":"ROW()","v":147}]
["Jackson County","Arkansas",1151,1351,1424,1588,1613,{"$f":"ROW()","v":148}]
["Jefferson County","Arkansas",1318,1548,1631,1819,1848,{"$f":"ROW()","v":149}]
["Johnson County","Arkansas",1266,1487,1567,1747,1775,{"$f":"ROW()","v":150}]
["Lafayette County","Arkansas",1093,1284,1353,1509,1533,{"$f":"ROW()","v":151}]
["Lawrence County","Arkansas",1104,1296,1366,1523,1548,{"$f":"ROW()","v":152}]
["Lee County","Arkansas",1206,1417,1493,1665,1692,{"$f":"ROW()","v":153}]
["Lincoln County","Arkansas",1239,1456,1534,1710,1738,{"$f":"ROW()","v":154}]
["Little River County","Arkansas",1237,1453,1531,1707,1735,{"$f":"ROW()","v":155}]
["Logan County","Arkansas",1203,1413,1489,1660,1687,{"$f":"ROW()","v":156}]
["Lonoke County","Arkansas",1488,1748,1842,2054,2087,{"$f":"ROW()","v":157}]
["Madison County","Arkansas",1239,1456,1534,1710,1738,{"$f":"ROW()","v":158}]
["Marion County","Arkansas",1218,1430,1507,1680,1707,{"$f":"ROW()","v":159}]
["Miller County","Arkansas",1437,1688,1779,1984,2016,{"$f":"ROW()","v":160}]
["Mississippi County","Arkansas",1313,1542,1625,1812,1841,{"$f":"ROW()","v":161}]
["Monroe County","Arkansas",1166,1369,1443,1609,1635,{"$f":"ROW()","v":162}]
["Montgomery County","Arkansas",1341,1575,1660,1851,1881,{"$f":"ROW()","v":163}]
["Nevada County","Arkansas",1129,1326,1397,1558,1583,{"$f":"ROW()","v":164}]
["Newton County","Arkansas",1291,1517,1598,1782,1811,{"$f":"ROW()","v":165}]
["Ouachita County","Arkansas",1204,1414,1490,1661,1688,{"$f":"ROW()","v":166}]
["Perry County","Arkansas",1218,1431,1508,1681,1709,{"$f":"ROW()","v":167}]
["Phillips County","Arkansas",1260,1479,1559,1738,1766,{"$f":"ROW()","v":168}]
["Pike County","Arkansas",1233,1448,1526,1701,1729,{"$f":"ROW()","v":169}]
["Poinsett County","Arkansas",1161,1364,1437,1602,1628,{"$f":"ROW()","v":170}]
["Polk County","Arkansas",1247,1464,1543,1720,1748,{"$f":"ROW()","v":171}]
["Pope County","Arkansas",1275,1498,1578,1759,1788,{"$f":"ROW()","v":172}]
["Prairie County","Arkansas",1236,1452,1530,1706,1733,{"$f":"ROW()","v":173}]
["Pulaski County","Arkansas",1553,1824,1922,2143,2178,{"$f":"ROW()","v":174}]
["Randolph County","Arkansas",1168,1371,1445,1611,1637,{"$f":"ROW()","v":175}]
["St. Francis County","Arkansas",1173,1378,1452,1619,1645,{"$f":"ROW()","v":176}]
["Saline County","Arkansas",1513,1777,1872,2087,2121,{"$f":"ROW()","v":177}]
["Scott County","Arkansas",1216,1428,1505,1678,1705,{"$f":"ROW()","v":178}]
["Searcy County","Arkansas",1311,1539,1622,1809,1838,{"$f":"ROW()","v":179}]
["Sebastian County","Arkansas",1369,1608,1694,1889,1919,{"$f":"ROW()","v":180}]
["Sevier County","Arkansas",1235,1451,1529,1705,1732,{"$f":"ROW()","v":181}]
["Sharp County","Arkansas",1147,1347,1419,1582,1608,{"$f":"ROW()","v":182}]
["Stone County","Arkansas",1261,1481,1561,1741,1769,{"$f":"ROW()","v":183}]
["Union County","Arkansas",1347,1582,1667,1859,1889,{"$f":"ROW()","v":184}]
["Van Buren County","Arkansas",1291,1517,1598,1782,1811,{"$f":"ROW()","v":185}]
["Washington County","Arkansas",1623,1907,2009,2240,2276,{"$f":"ROW()","v":186}]
["White County","Arkansas",1330,1562,1646,1835,1865,{"$f":"ROW()","v":187}]
["Woodruff County","Arkansas",1296,1522,1604,1788,1817,{"$f":"ROW()","v":188}]
["Yell County","Arkansas",1297,1523,1605,1790,1818,{"$f":"ROW()","v":189}]
["Alameda County","California",3369,3956,4169,4648,4723,{"$f":"ROW()","v":190}]
["Alpine County","California",2446,2873,3027,3375,3430,{"$f":"ROW()","v":191}]
["Amador County","California",2150,2525,2661,2967,3015,{"$f":"ROW()","v":192}]
["Butte County","California",2035,2390,2518,2808,2853,{"$f":"ROW()","v":193}]
["Calaveras County","California",2188,2570,2708,3019,3068,{"$f":"ROW()","v":194}]
["Colusa County","California",1964,2307,2431,2711,2754,{"$f":"ROW()","v":195}]
["Contra Costa County","California",3085,3623,3818,4257,4326,{"$f":"ROW()","v":196}]
["Del Norte County","California",1699,1996,2103,2345,2383,{"$f":"ROW()","v":197}]
["El Dorado County","California",2736,3213,3386,3775,3836,{"$f":"ROW()","v":198}]
["Fresno County","California",2003,2353,2479,2764,2809,{"$f":"ROW()","v":199}]
["Glenn County","California",1820,2137,2252,2511,2552,{"$f":"ROW()","v":200}]
["Humboldt County","California",2073,2434,2565,2860,2906,{"$f":"ROW()","v":201}]
["Imperial County","California",1817,2134,2249,2508,2548,{"$f":"ROW()","v":202}]
["Inyo County","California",2238,2629,2770,3089,3138,{"$f":"ROW()","v":203}]
["Kern County","California",1925,2261,2383,2657,2700,{"$f":"ROW()","v":204}]
["Kings County","California",1849,2171,2288,2551,2592,{"$f":"ROW()","v":205}]
["Lake County","California",1930,2266,2388,2663,2706,{"$f":"ROW()","v":206}]
["Lassen County","California",1759,2066,2177,2427,2467,{"$f":"ROW()","v":207}]
["Los Angeles County","California",2877,3379,3561,3971,4035,{"$f":"ROW()","v":208}]
["Madera County","California",2000,2349,2475,2760,2804,{"$f":"ROW()","v":209}]
["Marin County","California",4134,4855,5116,5704,5796,{"$f":"ROW()","v":210}]
["Mariposa County","California",2052,2410,2539,2831,2877,{"$f":"ROW()","v":211}]
["Mendocino County","California",2282,2680,2824,3149,3200,{"$f":"ROW()","v":212}]
["Merced County","California",1892,2223,2342,2611,2653,{"$f":"ROW()","v":213}]
["Modoc County","California",1436,1686,1777,1981,2013,{"$f":"ROW()","v":214}]
["Mono County","California",2474,2906,3062,3414,3469,{"$f":"ROW()","v":215}]
["Monterey County","California",2674,3141,3310,3691,3750,{"$f":"ROW()","v":216}]
["Napa County","California",3067,3602,3796,4233,4301,{"$f":"ROW()","v":217}]
["Nevada County","California",2586,3037,3200,3568,3626,{"$f":"ROW()","v":218}]
["Orange County","California",3112,3655,3851,4294,4363,{"$f":"ROW()","v":219}]
["Placer County","California",2801,3289,3466,3865,3927,{"$f":"ROW()","v":220}]
["Plumas County","California",1861,2186,2303,2568,2609,{"$f":"ROW()","v":221}]
["Riverside County","California",2436,2861,3015,3362,3416,{"$f":"ROW()","v":222}]
["Sacramento County","California",2341,2749,2897,3230,3282,{"$f":"ROW()","v":223}]
["San Benito County","California",3053,3586,3779,4214,4282,{"$f":"ROW()","v":224}]
["San Bernardino County","California",2212,2598,2738,3053,3102,{"$f":"ROW()","v":225}]
["San Diego County","California",2958,3474,3661,4082,4148,{"$f":"ROW()","v":226}]
["San Francisco County","California",3998,4696,4948,5517,5606,{"$f":"ROW()","v":227}]
["San Joaquin County","California",2338,2745,2893,3226,3278,{"$f":"ROW()","v":228}]
["San Luis Obispo County","California",2727,3203,3375,3763,3824,{"$f":"ROW()","v":229}]
["San Mateo County","California",3882,4560,4805,5358,5444,{"$f":"ROW()","v":230}]
["Santa Barbara County","California",2780,3265,3440,3836,3898,{"$f":"ROW()","v":231}]
["Santa Clara County","California",3920,4605,4852,5410,5497,{"$f":"ROW()","v":232}]
["Santa Cruz County","California",3280,3852,4059,4526,4599,{"$f":"ROW()","v":233}]
["Shasta County","California",1971,2315,2439,2719,2763,{"$f":"ROW()","v":234}]
["Sierra County","California",1831,2150,2266,2527,2567,{"$f":"ROW()","v":235}]
["Siskiyou County","California",1765,2073,2184,2435,2474,{"$f":"ROW()","v":236}]
["Solano County","California",2590,3042,3205,3574,3631,{"$f":"ROW()","v":237}]
["Sonoma County","California",2897,3403,3586,3998,4063,{"$f":"ROW()","v":238}]
["Stanislaus County","California",2102,2468,2601,2900,2947,{"$f":"ROW()","v":239}]
["Sutter County","California",2039,2394,2523,2813,2859,{"$f":"ROW()","v":240}]
["Tehama County","California",1777,2087,2199,2452,2491,{"$f":"ROW()","v":241}]
["Trinity County","California",1891,2221,2340,2609,2651,{"$f":"ROW()","v":242}]
["Tulare County","California",1830,2149,2265,2525,2566,{"$f":"ROW()","v":243}]
["Tuolumne County","California",2224,2613,2753,3070,3119,{"$f":"ROW()","v":244}]
["Ventura County","California",2920,3430,3614,4030,4095,{"$f":"ROW()","v":245}]
["Yolo County","California",2540,2984,3144,3506,3562,{"$f":"ROW()","v":246}]
["Yuba County","California",2123,2493,2627,2929,2976,{"$f":"ROW()","v":247}]
["Adams County","Colorado",2156,2532,2668,2975,3023,{"$f":"ROW()","v":248}]
["Alamosa County","Colorado",1427,1676,1766,1969,2001,{"$f":"ROW()","v":249}]
["Arapahoe County","Colorado",2224,2613,2753,3070,3119,{"$f":"ROW()","v":250}]
["Archuleta County","Colorado",1846,2168,2285,2548,2589,{"$f":"ROW()","v":251}]
["Baca County","Colorado",1220,1433,1510,1684,1711,{"$f":"ROW()","v":252}]
["Bent County","Colorado",1311,1539,1622,1809,1838,{"$f":"ROW()","v":253}]
["Boulder County","Colorado",2503,2940,3098,3454,3510,{"$f":"ROW()","v":254}]
["Broomfield County","Colorado",2378,2793,2943,3281,3334,{"$f":"ROW()","v":255}]
["Chaffee County","Colorado",1858,2183,2300,2565,2606,{"$f":"ROW()","v":256}]
["Cheyenne County","Colorado",1418,1665,1755,1957,1988,{"$f":"ROW()","v":257}]
["Clear Creek County","Colorado",2135,2507,2642,2946,2993,{"$f":"ROW()","v":258}]
["Conejos County","Colorado",1325,1556,1640,1829,1858,{"$f":"ROW()","v":259}]
["Costilla County","Colorado",1374,1614,1701,1897,1927,{"$f":"ROW()","v":260}]
["Crowley County","Colorado",1333,1566,1650,1840,1869,{"$f":"ROW()","v":261}]
["Custer County","Colorado",1809,2125,2239,2496,2537,{"$f":"ROW()","v":262}]
["Delta County","Colorado",1566,1839,1938,2161,2196,{"$f":"ROW()","v":263}]
["Denver County","Colorado",2270,2666,2809,3132,3183,{"$f":"ROW()","v":264}]
["Dolores County","Colorado",1356,1592,1678,1871,1901,{"$f":"ROW()","v":265}]
["Douglas County","Colorado",2652,3115,3282,3659,3719,{"$f":"ROW()","v":266}]
["Eagle County","Colorado",2593,3045,3209,3578,3636,{"$f":"ROW()","v":267}]
["Elbert County","Colorado",2563,3010,3172,3537,3594,{"$f":"ROW()","v":268}]
["El Paso County","Colorado",2027,2381,2509,2798,2843,{"$f":"ROW()","v":269}]
["Fremont County","Colorado",1599,1878,1979,2207,2242,{"$f":"ROW()","v":270}]
["Garfield County","Colorado",2198,2581,2720,3033,3082,{"$f":"ROW()","v":271}]
["Gilpin County","Colorado",2084,2447,2579,2876,2922,{"$f":"ROW()","v":272}]
["Grand County","Colorado",1993,2340,2466,2750,2794,{"$f":"ROW()","v":273}]
["Gunnison County","Colorado",2073,2434,2565,2860,2906,{"$f":"ROW()","v":274}]
["Hinsdale County","Colorado",2161,2538,2674,2982,3030,{"$f":"ROW()","v":275}]
["Huerfano County","Colorado",1427,1676,1766,1969,2001,{"$f":"ROW()","v":276}]
["Jackson County","Colorado",1516,1780,1876,2092,2126,{"$f":"ROW()","v":277}]
["Jefferson County","Colorado",2263,2658,2801,3123,3174,{"$f":"ROW()","v":278}]
["Kiowa County","Colorado",1311,1540,1623,1810,1839,{"$f":"ROW()","v":279}]
["Kit Carson County","Colorado",1540,1809,1906,2125,2159,{"$f":"ROW()","v":280}]
["Lake County","Colorado",1788,2100,2213,2467,2507,{"$f":"ROW()","v":281}]
["La Plata County","Colorado",2066,2427,2557,2851,2897,{"$f":"ROW()","v":282}]
["Larimer County","Colorado",2198,2581,2720,3033,3082,{"$f":"ROW()","v":283}]
["Las Animas County","Colorado",1532,1799,1896,2114,2148,{"$f":"ROW()","v":284}]
["Lincoln County","Colorado",1612,1893,1995,2224,2260,{"$f":"ROW()","v":285}]
["Logan County","Colorado",1639,1926,2029,2262,2299,{"$f":"ROW()","v":286}]
["Mesa County","Colorado",1657,1946,2051,2287,2324,{"$f":"ROW()","v":287}]
["Mineral County","Colorado",1824,2142,2257,2517,2557,{"$f":"ROW()","v":288}]
["Moffat County","Colorado",1656,1945,2049,2285,2322,{"$f":"ROW()","v":289}]
["Montezuma County","Colorado",1592,1870,1970,2197,2232,{"$f":"ROW()","v":290}]
["Montrose County","Colorado",1636,1922,2025,2258,2294,{"$f":"ROW()","v":291}]
["Morgan County","Colorado",1911,2244,2365,2637,2680,{"$f":"ROW()","v":292}]
["Otero County","Colorado",1331,1563,1647,1836,1866,{"$f":"ROW()","v":293}]
["Ouray County","Colorado",1970,2314,2438,2718,2762,{"$f":"ROW()","v":294}]
["Park County","Colorado",1984,2330,2455,2737,2782,{"$f":"ROW()","v":295}]
["Phillips County","Colorado",1566,1839,1938,2161,2196,{"$f":"ROW()","v":296}]
["Pitkin County","Colorado",2650,3113,3280,3657,3716,{"$f":"ROW()","v":297}]
["Prowers County","Colorado",1345,1579,1664,1855,1885,{"$f":"ROW()","v":298}]
["Pueblo County","Colorado",1622,1906,2008,2239,2275,{"$f":"ROW()","v":299}]
["Rio Blanco County","Colorado",1559,1832,1930,2152,2187,{"$f":"ROW()","v":300}]
["Rio Grande County","Colorado",1439,1690,1781,1986,2018,{"$f":"ROW()","v":301}]
["Routt County","Colorado",2380,2795,2945,3284,3337,{"$f":"ROW()","v":302}]
["Saguache County","Colorado",1467,1722,1815,2024,2056,{"$f":"ROW()","v":303}]
["San Juan County","Colorado",1830,2149,2265,2525,2566,{"$f":"ROW()","v":304}]
["San Miguel County","Colorado",2329,2735,2882,3213,3265,{"$f":"ROW()","v":305}]
["Sedgwick County","Colorado",1268,1489,1569,1749,1778,{"$f":"ROW()","v":306}]
["Summit County","Colorado",2347,2757,2905,3239,3291,{"$f":"ROW()","v":307}]
["Teller County","Colorado",1810,2126,2240,2498,2538,{"$f":"ROW()","v":308}]
["Washington County","Colorado",1651,1939,2043,2278,2315,{"$f":"ROW()","v":309}]
["Weld County","Colorado",2127,2498,2632,2935,2982,{"$f":"ROW()","v":310}]
["Yuma County","Colorado",1643,1929,2033,2267,2303,{"$f":"ROW()","v":311}]
["Capitol Planning Region","Connecticut",2234,2624,2765,3083,3133,{"$f":"ROW()","v":312}]
["Greater Bridgeport Planning Region","Connecticut",2658,3121,3289,3667,3726,{"$f":"ROW()","v":313}]
["Lower Connecticut River Valley Planning Region","Connecticut",2323,2728,2875,3206,3257,{"$f":"ROW()","v":314}]
["Naugatuck Valley Planning Region","Connecticut",2205,2590,2729,3043,3092,{"$f":"ROW()","v":315}]
["Northeastern Connecticut Planning Region","Connecticut",1998,2347,2473,2757,2802,{"$f":"ROW()","v":316}]
["Northwest Hills Planning Region","Connecticut",2165,2543,2680,2988,3036,{"$f":"ROW()","v":317}]
["South Central Connecticut Planning Region","Connecticut",2341,2749,2897,3230,3282,{"$f":"ROW()","v":318}]
["Southeastern Connecticut Planning Region","Connecticut",2109,2477,2610,2910,2957,{"$f":"ROW()","v":319}]
["Western Connecticut Planning Region","Connecticut",3272,3843,4049,4515,4588,{"$f":"ROW()","v":320}]
["Kent County","Delaware",1740,2044,2154,2402,2440,{"$f":"ROW()","v":321}]
["New Castle County","Delaware",1955,2297,2420,2698,2742,{"$f":"ROW()","v":322}]
["Sussex County","Delaware",1753,2059,2170,2420,2459,{"$f":"ROW()","v":323}]
["District of Columbia","District of Columbia",2910,3418,3602,4016,4081,{"$f":"ROW()","v":324}]
["Alachua County","Florida",1735,2038,2147,2394,2433,{"$f":"ROW()","v":325}]
["Baker County","Florida",1547,1817,1915,2135,2170,{"$f":"ROW()","v":326}]
["Bay County","Florida",1706,2003,2111,2354,2392,{"$f":"ROW()","v":327}]
["Bradford County","Florida",1395,1639,1727,1926,1957,{"$f":"ROW()","v":328}]
["Brevard County","Florida",1740,2044,2154,2402,2440,{"$f":"ROW()","v":329}]
["Broward County","Florida",2270,2667,2810,3133,3184,{"$f":"ROW()","v":330}]
["Calhoun County","Florida",1333,1566,1650,1840,1869,{"$f":"ROW()","v":331}]
["Charlotte County","Florida",1678,1971,2077,2316,2353,{"$f":"ROW()","v":332}]
["Citrus County","Florida",1361,1598,1684,1878,1908,{"$f":"ROW()","v":333}]
["Clay County","Florida",1701,1998,2105,2347,2385,{"$f":"ROW()","v":334}]
["Collier County","Florida",2203,2587,2726,3039,3089,{"$f":"ROW()","v":335}]
["Columbia County","Florida",1458,1713,1805,2013,2045,{"$f":"ROW()","v":336}]
["DeSoto County","Florida",1379,1620,1707,1903,1934,{"$f":"ROW()","v":337}]
["Dixie County","Florida",1311,1539,1622,1809,1838,{"$f":"ROW()","v":338}]
["Duval County","Florida",1723,2024,2133,2378,2417,{"$f":"ROW()","v":339}]
["Escambia County","Florida",1608,1889,1990,2219,2255,{"$f":"ROW()","v":340}]
["Flagler County","Florida",1690,1984,2091,2331,2369,{"$f":"ROW()","v":341}]
["Franklin County","Florida",1492,1752,1846,2058,2092,{"$f":"ROW()","v":342}]
["Gadsden County","Florida",1407,1652,1741,1941,1973,{"$f":"ROW()","v":343}]
["Gilchrist County","Florida",1471,1728,1821,2030,2063,{"$f":"ROW()","v":344}]
["Glades County","Florida",1340,1573,1658,1849,1879,{"$f":"ROW()","v":345}]
["Gulf County","Florida",1483,1741,1835,2046,2079,{"$f":"ROW()","v":346}]
["Hamilton County","Florida",1295,1521,1603,1787,1816,{"$f":"ROW()","v":347}]
["Hardee County","Florida",1391,1634,1722,1920,1951,{"$f":"ROW()","v":348}]
["Hendry County","Florida",1452,1705,1797,2004,2036,{"$f":"ROW()","v":349}]
["Hernando County","Florida",1526,1792,1888,2105,2139,{"$f":"ROW()","v":350}]
["Highlands County","Florida",1412,1658,1747,1948,1979,{"$f":"ROW()","v":351}]
["Hillsborough County","Florida",1912,2245,2366,2638,2681,{"$f":"ROW()","v":352}]
["Holmes County","Florida",1314,1543,1626,1813,1842,{"$f":"ROW()","v":353}]
["Indian River County","Florida",1679,1972,2078,2317,2354,{"$f":"ROW()","v":354}]
["Jackson County","Florida",1271,1493,1573,1754,1782,{"$f":"ROW()","v":355}]
["Jefferson County","Florida",1538,1807,1904,2123,2157,{"$f":"ROW()","v":356}]
["Lafayette County","Florida",1431,1681,1771,1975,2007,{"$f":"ROW()","v":357}]
["Lake County","Florida",1717,2017,2125,2369,2408,{"$f":"ROW()","v":358}]
["Lee County","Florida",1815,2131,2246,2504,2545,{"$f":"ROW()","v":359}]
["Leon County","Florida",1752,2057,2168,2417,2456,{"$f":"ROW()","v":360}]
["Levy County","Florida",1391,1634,1722,1920,1951,{"$f":"ROW()","v":361}]
["Liberty County","Florida",1260,1480,1560,1739,1767,{"$f":"ROW()","v":362}]
["Madison County","Florida",1324,1554,1638,1826,1856,{"$f":"ROW()","v":363}]
["Manatee County","Florida",1964,2307,2431,2711,2754,{"$f":"ROW()","v":364}]
["Marion County","Florida",1445,1697,1788,1994,2026,{"$f":"ROW()","v":365}]
["Martin County","Florida",2031,2385,2513,2802,2847,{"$f":"ROW()","v":366}]
["Miami-Dade County","Florida",2291,2691,2836,3162,3213,{"$f":"ROW()","v":367}]
["Monroe County","Florida",3065,3600,3793,4229,4297,{"$f":"ROW()","v":368}]
["Nassau County","Florida",1796,2110,2223,2479,2519,{"$f":"ROW()","v":369}]
["Okaloosa County","Florida",1850,2172,2289,2552,2593,{"$f":"ROW()","v":370}]
["Okeechobee County","Florida",1488,1748,1842,2054,2087,{"$f":"ROW()","v":371}]
["Orange County","Florida",1951,2292,2415,2693,2736,{"$f":"ROW()","v":372}]
["Osceola County","Florida",1796,2110,2223,2479,2519,{"$f":"ROW()","v":373}]
["Palm Beach County","Florida",2215,2601,2741,3056,3106,{"$f":"ROW()","v":374}]
["Pasco County","Florida",1760,2067,2178,2428,2468,{"$f":"ROW()","v":375}]
["Pinellas County","Florida",1868,2194,2312,2578,2619,{"$f":"ROW()","v":376}]
["Polk County","Florida",1635,1921,2024,2257,2293,{"$f":"ROW()","v":377}]
["Putnam County","Florida",1375,1615,1702,1898,1928,{"$f":"ROW()","v":378}]
["St. Johns County","Florida",2160,2537,2673,2980,3029,{"$f":"ROW()","v":379}]
["St. Lucie County","Florida",1815,2131,2246,2504,2545,{"$f":"ROW()","v":380}]
["Santa Rosa County","Florida",1787,2099,2212,2466,2506,{"$f":"ROW()","v":381}]
["Sarasota County","Florida",1862,2187,2305,2570,2612,{"$f":"ROW()","v":382}]
["Seminole County","Florida",1940,2279,2401,2677,2720,{"$f":"ROW()","v":383}]
["Sumter County","Florida",1659,1948,2053,2289,2326,{"$f":"ROW()","v":384}]
["Suwannee County","Florida",1333,1566,1650,1840,1869,{"$f":"ROW()","v":385}]
["Taylor County","Florida",1379,1620,1707,1903,1934,{"$f":"ROW()","v":386}]
["Union County","Florida",1324,1554,1638,1826,1856,{"$f":"ROW()","v":387}]
["Volusia County","Florida",1643,1929,2033,2267,2303,{"$f":"ROW()","v":388}]
["Wakulla County","Florida",1553,1824,1922,2143,2178,{"$f":"ROW()","v":389}]
["Walton County","Florida",1957,2298,2422,2701,2744,{"$f":"ROW()","v":390}]
["Washington County","Florida",1423,1671,1761,1964,1995,{"$f":"ROW()","v":391}]
["Appling County","Georgia",1217,1429,1506,1679,1706,{"$f":"ROW()","v":392}]
["Atkinson County","Georgia",1215,1427,1504,1677,1704,{"$f":"ROW()","v":393}]
["Bacon County","Georgia",1222,1435,1512,1686,1713,{"$f":"ROW()","v":394}]
["Baker County","Georgia",1370,1610,1696,1891,1922,{"$f":"ROW()","v":395}]
["Baldwin County","Georgia",1492,1753,1847,2059,2093,{"$f":"ROW()","v":396}]
["Banks County","Georgia",1513,1777,1872,2087,2121,{"$f":"ROW()","v":397}]
["Barrow County","Georgia",1587,1864,1964,2190,2225,{"$f":"ROW()","v":398}]
["Bartow County","Georgia",1635,1921,2024,2257,2293,{"$f":"ROW()","v":399}]
["Ben Hill County","Georgia",1302,1529,1611,1796,1825,{"$f":"ROW()","v":400}]
["Berrien County","Georgia",1318,1548,1631,1819,1848,{"$f":"ROW()","v":401}]
["Bibb County","Georgia",1511,1775,1870,2085,2119,{"$f":"ROW()","v":402}]
["Bleckley County","Georgia",1500,1762,1857,2071,2104,{"$f":"ROW()","v":403}]
["Brantley County","Georgia",1332,1565,1649,1839,1868,{"$f":"ROW()","v":404}]
["Brooks County","Georgia",1351,1587,1672,1864,1894,{"$f":"ROW()","v":405}]
["Bryan County","Georgia",1970,2314,2438,2718,2762,{"$f":"ROW()","v":406}]
["Bulloch County","Georgia",1508,1771,1866,2081,2114,{"$f":"ROW()","v":407}]
["Burke County","Georgia",1451,1704,1796,2003,2035,{"$f":"ROW()","v":408}]
["Butts County","Georgia",1479,1738,1831,2042,2075,{"$f":"ROW()","v":409}]
["Calhoun County","Georgia",1349,1585,1670,1862,1892,{"$f":"ROW()","v":410}]
["Camden County","Georgia",1550,1820,1918,2139,2173,{"$f":"ROW()","v":411}]
["Candler County","Georgia",1322,1553,1636,1824,1854,{"$f":"ROW()","v":412}]
["Carroll County","Georgia",1497,1758,1853,2066,2099,{"$f":"ROW()","v":413}]
["Catoosa County","Georgia",1460,1715,1807,2015,2047,{"$f":"ROW()","v":414}]
["Charlton County","Georgia",1351,1587,1672,1864,1894,{"$f":"ROW()","v":415}]
["Chatham County","Georgia",1795,2109,2222,2478,2518,{"$f":"ROW()","v":416}]
["Chattahoochee County","Georgia",1668,1959,2064,2301,2339,{"$f":"ROW()","v":417}]
["Chattooga County","Georgia",1268,1489,1569,1749,1778,{"$f":"ROW()","v":418}]
["Cherokee County","Georgia",1964,2307,2431,2711,2754,{"$f":"ROW()","v":419}]
["Clarke County","Georgia",1603,1883,1984,2212,2248,{"$f":"ROW()","v":420}]
["Clay County","Georgia",1357,1594,1680,1873,1903,{"$f":"ROW()","v":421}]
["Clayton County","Georgia",1497,1758,1853,2066,2099,{"$f":"ROW()","v":422}]
["Clinch County","Georgia",1251,1469,1548,1726,1754,{"$f":"ROW()","v":423}]
["Cobb County","Georgia",1986,2333,2458,2741,2785,{"$f":"ROW()","v":424}]
["Coffee County","Georgia",1371,1610,1697,1892,1923,{"$f":"ROW()","v":425}]
["Colquitt County","Georgia",1329,1561,1645,1834,1864,{"$f":"ROW()","v":426}]
["Columbia County","Georgia",1818,2135,2250,2509,2549,{"$f":"ROW()","v":427}]
["Cook County","Georgia",1369,1608,1694,1889,1919,{"$f":"ROW()","v":428}]
["Coweta County","Georgia",1832,2151,2267,2528,2569,{"$f":"ROW()","v":429}]
["Crawford County","Georgia",1357,1593,1679,1872,1902,{"$f":"ROW()","v":430}]
["Crisp County","Georgia",1401,1646,1734,1933,1965,{"$f":"ROW()","v":431}]
["Dade County","Georgia",1493,1754,1848,2061,2094,{"$f":"ROW()","v":432}]
["Dawson County","Georgia",1854,2177,2294,2558,2599,{"$f":"ROW()","v":433}]
["Decatur County","Georgia",1391,1633,1721,1919,1950,{"$f":"ROW()","v":434}]
["DeKalb County","Georgia",1918,2253,2374,2647,2690,{"$f":"ROW()","v":435}]
["Dodge County","Georgia",1519,1784,1880,2096,2130,{"$f":"ROW()","v":436}]
["Dooly County","Georgia",1331,1563,1647,1836,1866,{"$f":"ROW()","v":437}]
["Dougherty County","Georgia",1418,1665,1755,1957,1988,{"$f":"ROW()","v":438}]
["Douglas County","Georgia",1666,1957,2062,2299,2336,{"$f":"ROW()","v":439}]
["Early County","Georgia",1469,1725,1818,2027,2060,{"$f":"ROW()","v":440}]
["Echols County","Georgia",1216,1428,1505,1678,1705,{"$f":"ROW()","v":441}]
["Effingham County","Georgia",1694,1990,2097,2338,2376,{"$f":"ROW()","v":442}]
["Elbert County","Georgia",1342,1576,1661,1852,1882,{"$f":"ROW()","v":443}]
["Emanuel County","Georgia",1207,1418,1494,1666,1693,{"$f":"ROW()","v":444}]
["Evans County","Georgia",1277,1500,1581,1763,1791,{"$f":"ROW()","v":445}]
["Fannin County","Georgia",1546,1815,1913,2133,2167,{"$f":"ROW()","v":446}]
["Fayette County","Georgia",2183,2564,2702,3013,3061,{"$f":"ROW()","v":447}]
["Floyd County","Georgia",1530,1797,1894,2112,2146,{"$f":"ROW()","v":448}]
["Forsyth County","Georgia",2352,2763,2911,3246,3298,{"$f":"ROW()","v":449}]
["Franklin County","Georgia",1440,1691,1782,1987,2019,{"$f":"ROW()","v":450}]
["Fulton County","Georgia",2248,2640,2782,3102,3152,{"$f":"ROW()","v":451}]
["Gilmer County","Georgia",1518,1783,1879,2095,2129,{"$f":"ROW()","v":452}]
["Glascock County","Georgia",1789,2101,2214,2469,2508,{"$f":"ROW()","v":453}]
["Glynn County","Georgia",1663,1953,2058,2295,2332,{"$f":"ROW()","v":454}]
["Gordon County","Georgia",1416,1663,1752,1953,1985,{"$f":"ROW()","v":455}]
["Grady County","Georgia",1455,1709,1801,2008,2041,{"$f":"ROW()","v":456}]
["Greene County","Georgia",1896,2227,2347,2617,2659,{"$f":"ROW()","v":457}]
["Gwinnett County","Georgia",1938,2276,2398,2674,2717,{"$f":"ROW()","v":458}]
["Habersham County","Georgia",1542,1811,1908,2127,2162,{"$f":"ROW()","v":459}]
["Hall County","Georgia",1730,2032,2141,2387,2426,{"$f":"ROW()","v":460}]
["Hancock County","Georgia",1670,1962,2067,2305,2342,{"$f":"ROW()","v":461}]
["Haralson County","Georgia",1636,1922,2025,2258,2294,{"$f":"ROW()","v":462}]
["Harris County","Georgia",1952,2293,2416,2694,2737,{"$f":"ROW()","v":463}]
["Hart County","Georgia",1466,1721,1814,2023,2055,{"$f":"ROW()","v":464}]
["Heard County","Georgia",1473,1730,1823,2033,2065,{"$f":"ROW()","v":465}]
["Henry County","Georgia",1744,2048,2158,2406,2445,{"$f":"ROW()","v":466}]
["Houston County","Georgia",1605,1885,1986,2214,2250,{"$f":"ROW()","v":467}]
["Irwin County","Georgia",1301,1528,1610,1795,1824,{"$f":"ROW()","v":468}]
["Jackson County","Georgia",1765,2073,2184,2435,2474,{"$f":"ROW()","v":469}]
["Jasper County","Georgia",1408,1653,1742,1942,1974,{"$f":"ROW()","v":470}]
["Jeff Davis County","Georgia",1369,1608,1694,1889,1919,{"$f":"ROW()","v":471}]
["Jefferson County","Georgia",1281,1504,1585,1767,1796,{"$f":"ROW()","v":472}]
["Jenkins County","Georgia",1345,1580,1665,1856,1886,{"$f":"ROW()","v":473}]
["Johnson County","Georgia",1296,1522,1604,1788,1817,{"$f":"ROW()","v":474}]
["Jones County","Georgia",1592,1870,1970,2197,2232,{"$f":"ROW()","v":475}]
["Lamar County","Georgia",1545,1814,1912,2132,2166,{"$f":"ROW()","v":476}]
["Lanier County","Georgia",1404,1649,1738,1938,1969,{"$f":"ROW()","v":477}]
["Laurens County","Georgia",1416,1663,1752,1953,1985,{"$f":"ROW()","v":478}]
["Lee County","Georgia",1649,1937,2041,2276,2312,{"$f":"ROW()","v":479}]
["Liberty County","Georgia",1464,1720,1812,2020,2053,{"$f":"ROW()","v":480}]
["Lincoln County","Georgia",1654,1943,2047,2282,2319,{"$f":"ROW()","v":481}]
["Long County","Georgia",1605,1886,1987,2216,2251,{"$f":"ROW()","v":482}]
["Lowndes County","Georgia",1470,1726,1819,2028,2061,{"$f":"ROW()","v":483}]
["Lumpkin County","Georgia",1559,1832,1930,2152,2187,{"$f":"ROW()","v":484}]
["McDuffie County","Georgia",1449,1702,1793,1999,2031,{"$f":"ROW()","v":485}]
["McIntosh County","Georgia",1548,1818,1916,2136,2171,{"$f":"ROW()","v":486}]
["Macon County","Georgia",1281,1504,1585,1767,1796,{"$f":"ROW()","v":487}]
["Madison County","Georgia",1402,1647,1735,1935,1966,{"$f":"ROW()","v":488}]
["Marion County","Georgia",1311,1540,1623,1810,1839,{"$f":"ROW()","v":489}]
["Meriwether County","Georgia",1493,1754,1848,2061,2094,{"$f":"ROW()","v":490}]
["Miller County","Georgia",1497,1758,1853,2066,2099,{"$f":"ROW()","v":491}]
["Mitchell County","Georgia",1385,1627,1714,1911,1942,{"$f":"ROW()","v":492}]
["Monroe County","Georgia",1765,2073,2184,2435,2474,{"$f":"ROW()","v":493}]
["Montgomery County","Georgia",1394,1637,1725,1923,1954,{"$f":"ROW()","v":494}]
["Morgan County","Georgia",1820,2138,2253,2512,2553,{"$f":"ROW()","v":495}]
["Murray County","Georgia",1340,1573,1658,1849,1879,{"$f":"ROW()","v":496}]
["Muscogee County","Georgia",1566,1839,1938,2161,2196,{"$f":"ROW()","v":497}]
["Newton County","Georgia",1617,1899,2001,2231,2267,{"$f":"ROW()","v":498}]
["Oconee County","Georgia",2099,2466,2598,2897,2944,{"$f":"ROW()","v":499}]
["Oglethorpe County","Georgia",1469,1725,1818,2027,2060,{"$f":"ROW()","v":500}]
["Paulding County","Georgia",1723,2024,2133,2378,2417,{"$f":"ROW()","v":501}]
["Peach County","Georgia",1559,1831,1929,2151,2186,{"$f":"ROW()","v":502}]
["Pickens County","Georgia",1604,1884,1985,2213,2249,{"$f":"ROW()","v":503}]
["Pierce County","Georgia",1351,1587,1672,1864,1894,{"$f":"ROW()","v":504}]
["Pike County","Georgia",1744,2049,2159,2407,2446,{"$f":"ROW()","v":505}]
["Polk County","Georgia",1496,1757,1851,2064,2097,{"$f":"ROW()","v":506}]
["Pulaski County","Georgia",1351,1587,1672,1864,1894,{"$f":"ROW()","v":507}]
["Putnam County","Georgia",1517,1782,1878,2094,2128,{"$f":"ROW()","v":508}]
["Quitman County","Georgia",1005,1181,1244,1387,1409,{"$f":"ROW()","v":509}]
["Rabun County","Georgia",1517,1782,1878,2094,2128,{"$f":"ROW()","v":510}]
["Randolph County","Georgia",1214,1426,1503,1676,1703,{"$f":"ROW()","v":511}]
["Richmond County","Georgia",1438,1689,1780,1985,2017,{"$f":"ROW()","v":512}]
["Rockdale County","Georgia",1698,1994,2101,2343,2380,{"$f":"ROW()","v":513}]
["Schley County","Georgia",1563,1835,1934,2156,2191,{"$f":"ROW()","v":514}]
["Screven County","Georgia",1367,1606,1692,1887,1917,{"$f":"ROW()","v":515}]
["Seminole County","Georgia",1340,1573,1658,1849,1879,{"$f":"ROW()","v":516}]
["Spalding County","Georgia",1500,1761,1856,2069,2103,{"$f":"ROW()","v":517}]
["Stephens County","Georgia",1396,1640,1728,1927,1958,{"$f":"ROW()","v":518}]
["Stewart County","Georgia",1238,1454,1532,1708,1736,{"$f":"ROW()","v":519}]
["Sumter County","Georgia",1377,1617,1704,1900,1931,{"$f":"ROW()","v":520}]
["Talbot County","Georgia",1441,1693,1784,1989,2021,{"$f":"ROW()","v":521}]
["Taliaferro County","Georgia",1277,1500,1581,1763,1791,{"$f":"ROW()","v":522}]
["Tattnall County","Georgia",1353,1589,1674,1867,1897,{"$f":"ROW()","v":523}]
["Taylor County","Georgia",1260,1479,1559,1738,1766,{"$f":"ROW()","v":524}]
["Telfair County","Georgia",1460,1715,1807,2015,2047,{"$f":"ROW()","v":525}]
["Terrell County","Georgia",1266,1487,1567,1747,1775,{"$f":"ROW()","v":526}]
["Thomas County","Georgia",1582,1858,1958,2183,2218,{"$f":"ROW()","v":527}]
["Tift County","Georgia",1436,1686,1777,1981,2013,{"$f":"ROW()","v":528}]
["Toombs County","Georgia",1394,1637,1725,1923,1954,{"$f":"ROW()","v":529}]
["Towns County","Georgia",1524,1790,1886,2103,2137,{"$f":"ROW()","v":530}]
["Treutlen County","Georgia",1361,1598,1684,1878,1908,{"$f":"ROW()","v":531}]
["Troup County","Georgia",1528,1795,1891,2108,2143,{"$f":"ROW()","v":532}]
["Turner County","Georgia",1289,1514,1595,1778,1807,{"$f":"ROW()","v":533}]
["Twiggs County","Georgia",1290,1516,1597,1781,1809,{"$f":"ROW()","v":534}]
["Union County","Georgia",1622,1905,2007,2238,2274,{"$f":"ROW()","v":535}]
["Upson County","Georgia",1339,1572,1657,1848,1877,{"$f":"ROW()","v":536}]
["Walker County","Georgia",1442,1694,1785,1990,2022,{"$f":"ROW()","v":537}]
["Walton County","Georgia",1781,2092,2204,2457,2497,{"$f":"ROW()","v":538}]
["Ware County","Georgia",1197,1406,1482,1652,1679,{"$f":"ROW()","v":539}]
["Warren County","Georgia",1362,1600,1686,1880,1910,{"$f":"ROW()","v":540}]
["Washington County","Georgia",1399,1644,1732,1931,1962,{"$f":"ROW()","v":541}]
["Wayne County","Georgia",1403,1647,1736,1936,1967,{"$f":"ROW()","v":542}]
["Webster County","Georgia",1286,1511,1592,1775,1804,{"$f":"ROW()","v":543}]
["Wheeler County","Georgia",1138,1337,1409,1571,1596,{"$f":"ROW()","v":544}]
["White County","Georgia",1572,1847,1946,2170,2205,{"$f":"ROW()","v":545}]
["Whitfield County","Georgia",1429,1679,1769,1972,2004,{"$f":"ROW()","v":546}]
["Wilcox County","Georgia",1393,1636,1724,1922,1953,{"$f":"ROW()","v":547}]
["Wilkes County","Georgia",1391,1633,1721,1919,1950,{"$f":"ROW()","v":548}]
["Wilkinson County","Georgia",1283,1507,1588,1771,1799,{"$f":"ROW()","v":549}]
["Worth County","Georgia",1304,1532,1614,1800,1829,{"$f":"ROW()","v":550}]
["Hawaii County","Hawaii",2098,2465,2597,2896,2942,{"$f":"ROW()","v":551}]
["Honolulu County","Hawaii",2895,3400,3583,3995,4060,{"$f":"ROW()","v":552}]
["Kalawao County","Hawaii",2610,3065,3230,3601,3660,{"$f":"ROW()","v":553}]
["Kauai County","Hawaii",2657,3120,3288,3666,3725,{"$f":"ROW()","v":554}]
["Maui County","Hawaii",2735,3212,3385,3774,3835,{"$f":"ROW()","v":555}]
["Ada County","Idaho",1846,2168,2285,2548,2589,{"$f":"ROW()","v":556}]
["Adams County","Idaho",1717,2017,2125,2369,2408,{"$f":"ROW()","v":557}]
["Bannock County","Idaho",1517,1782,1878,2094,2128,{"$f":"ROW()","v":558}]
["Bear Lake County","Idaho",1384,1626,1713,1910,1941,{"$f":"ROW()","v":559}]
["Benewah County","Idaho",1530,1797,1894,2112,2146,{"$f":"ROW()","v":560}]
["Bingham County","Idaho",1522,1788,1884,2101,2135,{"$f":"ROW()","v":561}]
["Blaine County","Idaho",2042,2398,2527,2818,2863,{"$f":"ROW()","v":562}]
["Boise County","Idaho",1749,2055,2165,2414,2453,{"$f":"ROW()","v":563}]
["Bonner County","Idaho",1783,2094,2207,2461,2501,{"$f":"ROW()","v":564}]
["Bonneville County","Idaho",1605,1886,1987,2216,2251,{"$f":"ROW()","v":565}]
["Boundary County","Idaho",1586,1863,1963,2189,2224,{"$f":"ROW()","v":566}]
["Butte County","Idaho",1499,1760,1855,2068,2102,{"$f":"ROW()","v":567}]
["Camas County","Idaho",1504,1766,1861,2075,2109,{"$f":"ROW()","v":568}]
["Canyon County","Idaho",1580,1856,1956,2181,2216,{"$f":"ROW()","v":569}]
["Caribou County","Idaho",1441,1693,1784,1989,2021,{"$f":"ROW()","v":570}]
["Cassia County","Idaho",1410,1656,1745,1946,1977,{"$f":"ROW()","v":571}]
["Clark County","Idaho",1721,2021,2130,2375,2413,{"$f":"ROW()","v":572}]
["Clearwater County","Idaho",1428,1677,1767,1970,2002,{"$f":"ROW()","v":573}]
["Custer County","Idaho",1518,1783,1879,2095,2129,{"$f":"ROW()","v":574}]
["Elmore County","Idaho",1458,1713,1805,2013,2045,{"$f":"ROW()","v":575}]
["Franklin County","Idaho",1610,1890,1992,2221,2257,{"$f":"ROW()","v":576}]
["Fremont County","Idaho",1513,1777,1873,2088,2122,{"$f":"ROW()","v":577}]
["Gem County","Idaho",1530,1797,1894,2112,2146,{"$f":"ROW()","v":578}]
["Gooding County","Idaho",1339,1572,1657,1848,1877,{"$f":"ROW()","v":579}]
["Idaho County","Idaho",1532,1799,1896,2114,2148,{"$f":"ROW()","v":580}]
["Jefferson County","Idaho",1700,1997,2104,2346,2384,{"$f":"ROW()","v":581}]
["Jerome County","Idaho",1462,1717,1809,2017,2050,{"$f":"ROW()","v":582}]
["Kootenai County","Idaho",1769,2077,2189,2441,2480,{"$f":"ROW()","v":583}]
["Latah County","Idaho",1753,2058,2169,2418,2457,{"$f":"ROW()","v":584}]
["Lemhi County","Idaho",1486,1745,1839,2050,2084,{"$f":"ROW()","v":585}]
["Lewis County","Idaho",1389,1631,1719,1917,1948,{"$f":"ROW()","v":586}]
["Lincoln County","Idaho",1424,1672,1762,1965,1996,{"$f":"ROW()","v":587}]
["Madison County","Idaho",1635,1920,2023,2256,2292,{"$f":"ROW()","v":588}]
["Minidoka County","Idaho",1418,1665,1755,1957,1988,{"$f":"ROW()","v":589}]
["Nez Perce County","Idaho",1660,1949,2054,2290,2327,{"$f":"ROW()","v":590}]
["Oneida County","Idaho",1396,1640,1728,1927,1958,{"$f":"ROW()","v":591}]
["Owyhee County","Idaho",1657,1946,2051,2287,2324,{"$f":"ROW()","v":592}]
["Payette County","Idaho",1448,1701,1792,1998,2030,{"$f":"ROW()","v":593}]
["Power County","Idaho",1385,1627,1714,1911,1942,{"$f":"ROW()","v":594}]
["Shoshone County","Idaho",1358,1595,1681,1874,1905,{"$f":"ROW()","v":595}]
["Teton County","Idaho",1958,2299,2423,2702,2745,{"$f":"ROW()","v":596}]
["Twin Falls County","Idaho",1555,1826,1924,2145,2180,{"$f":"ROW()","v":597}]
["Valley County","Idaho",1908,2242,2362,2634,2676,{"$f":"ROW()","v":598}]
["Washington County","Idaho",1393,1636,1724,1922,1953,{"$f":"ROW()","v":599}]
["Adams County","Illinois",1356,1592,1678,1871,1901,{"$f":"ROW()","v":600}]
["Alexander County","Illinois",1292,1517,1599,1783,1812,{"$f":"ROW()","v":601}]
["Bond County","Illinois",1457,1711,1803,2010,2043,{"$f":"ROW()","v":602}]
["Boone County","Illinois",1642,1928,2032,2266,2302,{"$f":"ROW()","v":603}]
["Brown County","Illinois",1239,1455,1533,1709,1737,{"$f":"ROW()","v":604}]
["Bureau County","Illinois",1378,1618,1705,1901,1932,{"$f":"ROW()","v":605}]
["Calhoun County","Illinois",1643,1930,2034,2268,2305,{"$f":"ROW()","v":606}]
["Carroll County","Illinois",1345,1580,1665,1856,1886,{"$f":"ROW()","v":607}]
["Cass County","Illinois",1311,1540,1623,1810,1839,{"$f":"ROW()","v":608}]
["Champaign County","Illinois",1708,2006,2114,2357,2395,{"$f":"ROW()","v":609}]
["Christian County","Illinois",1299,1526,1608,1793,1822,{"$f":"ROW()","v":610}]
["Clark County","Illinois",1325,1556,1640,1829,1858,{"$f":"ROW()","v":611}]
["Clay County","Illinois",1342,1576,1661,1852,1882,{"$f":"ROW()","v":612}]
["Clinton County","Illinois",1608,1889,1990,2219,2255,{"$f":"ROW()","v":613}]
["Coles County","Illinois",1317,1547,1630,1817,1847,{"$f":"ROW()","v":614}]
["Cook County","Illinois",2247,2639,2781,3101,3151,{"$f":"ROW()","v":615}]
["Crawford County","Illinois",1328,1560,1644,1833,1863,{"$f":"ROW()","v":616}]
["Cumberland County","Illinois",1337,1571,1655,1845,1875,{"$f":"ROW()","v":617}]
["DeKalb County","Illinois",1908,2242,2362,2634,2676,{"$f":"ROW()","v":618}]
["De Witt County","Illinois",1364,1602,1688,1882,1913,{"$f":"ROW()","v":619}]
["Douglas County","Illinois",1420,1668,1758,1960,1992,{"$f":"ROW()","v":620}]
["DuPage County","Illinois",2405,2825,2977,3319,3373,{"$f":"ROW()","v":621}]
["Edgar County","Illinois",1248,1466,1545,1723,1750,{"$f":"ROW()","v":622}]
["Edwards County","Illinois",1216,1428,1505,1678,1705,{"$f":"ROW()","v":623}]
["Effingham County","Illinois",1484,1743,1837,2048,2081,{"$f":"ROW()","v":624}]
["Fayette County","Illinois",1317,1547,1630,1817,1847,{"$f":"ROW()","v":625}]
["Ford County","Illinois",1353,1589,1674,1867,1897,{"$f":"ROW()","v":626}]
["Franklin County","Illinois",1283,1507,1588,1771,1799,{"$f":"ROW()","v":627}]
["Fulton County","Illinois",1330,1562,1646,1835,1865,{"$f":"ROW()","v":628}]
["Gallatin County","Illinois",1239,1455,1533,1709,1737,{"$f":"ROW()","v":629}]
["Greene County","Illinois",1230,1444,1522,1697,1724,{"$f":"ROW()","v":630}]
["Grundy County","Illinois",1983,2329,2454,2736,2780,{"$f":"ROW()","v":631}]
["Hamilton County","Illinois",1269,1490,1570,1751,1779,{"$f":"ROW()","v":632}]
["Hancock County","Illinois",1277,1499,1580,1762,1790,{"$f":"ROW()","v":633}]
["Hardin County","Illinois",1219,1432,1509,1683,1710,{"$f":"ROW()","v":634}]
["Henderson County","Illinois",1312,1541,1624,1811,1840,{"$f":"ROW()","v":635}]
["Henry County","Illinois",1448,1701,1792,1998,2030,{"$f":"ROW()","v":636}]
["Iroquois County","Illinois",1384,1626,1713,1910,1941,{"$f":"ROW()","v":637}]
["Jackson County","Illinois",1449,1702,1793,1999,2031,{"$f":"ROW()","v":638}]
["Jasper County","Illinois",1372,1611,1698,1893,1924,{"$f":"ROW()","v":639}]
["Jefferson County","Illinois",1388,1630,1718,1916,1946,{"$f":"ROW()","v":640}]
["Jersey County","Illinois",1576,1851,1950,2174,2209,{"$f":"ROW()","v":641}]
["Jo Daviess County","Illinois",1530,1797,1894,2112,2146,{"$f":"ROW()","v":642}]
["Johnson County","Illinois",1464,1720,1812,2020,2053,{"$f":"ROW()","v":643}]
["Kane County","Illinois",2211,2596,2736,3051,3100,{"$f":"ROW()","v":644}]
["Kankakee County","Illinois",1697,1993,2100,2342,2379,{"$f":"ROW()","v":645}]
["Kendall County","Illinois",2250,2643,2785,3105,3155,{"$f":"ROW()","v":646}]
["Knox County","Illinois",1271,1493,1573,1754,1782,{"$f":"ROW()","v":647}]
["Lake County","Illinois",2439,2864,3018,3365,3419,{"$f":"ROW()","v":648}]
["La Salle County","Illinois",1524,1790,1886,2103,2137,{"$f":"ROW()","v":649}]
["Lawrence County","Illinois",1252,1471,1550,1728,1756,{"$f":"ROW()","v":650}]
["Lee County","Illinois",1493,1754,1848,2061,2094,{"$f":"ROW()","v":651}]
["Livingston County","Illinois",1436,1686,1777,1981,2013,{"$f":"ROW()","v":652}]
["Logan County","Illinois",1342,1576,1661,1852,1882,{"$f":"ROW()","v":653}]
["McDonough County","Illinois",1265,1486,1566,1746,1774,{"$f":"ROW()","v":654}]
["McHenry County","Illinois",2116,2485,2619,2920,2967,{"$f":"ROW()","v":655}]
["McLean County","Illinois",1729,2031,2140,2386,2425,{"$f":"ROW()","v":656}]
["Macon County","Illinois",1403,1647,1736,1936,1967,{"$f":"ROW()","v":657}]
["Macoupin County","Illinois",1355,1591,1677,1870,1900,{"$f":"ROW()","v":658}]
["Madison County","Illinois",1593,1871,1972,2199,2234,{"$f":"ROW()","v":659}]
["Marion County","Illinois",1327,1558,1642,1831,1860,{"$f":"ROW()","v":660}]
["Marshall County","Illinois",1361,1599,1685,1879,1909,{"$f":"ROW()","v":661}]
["Mason County","Illinois",1285,1509,1590,1773,1801,{"$f":"ROW()","v":662}]
["Massac County","Illinois",1354,1591,1676,1869,1899,{"$f":"ROW()","v":663}]
["Menard County","Illinois",1559,1831,1929,2151,2186,{"$f":"ROW()","v":664}]
["Mercer County","Illinois",1406,1651,1740,1940,1971,{"$f":"ROW()","v":665}]
["Monroe County","Illinois",1988,2335,2461,2744,2788,{"$f":"ROW()","v":666}]
["Montgomery County","Illinois",1301,1528,1610,1795,1824,{"$f":"ROW()","v":667}]
["Morgan County","Illinois",1362,1600,1686,1880,1910,{"$f":"ROW()","v":668}]
["Moultrie County","Illinois",1278,1501,1582,1764,1792,{"$f":"ROW()","v":669}]
["Ogle County","Illinois",1577,1852,1952,2176,2212,{"$f":"ROW()","v":670}]
["Peoria County","Illinois",1549,1819,1917,2137,2172,{"$f":"ROW()","v":671}]
["Perry County","Illinois",1282,1506,1587,1770,1798,{"$f":"ROW()","v":672}]
["Piatt County","Illinois",1599,1878,1979,2207,2242,{"$f":"ROW()","v":673}]
["Pike County","Illinois",1224,1438,1515,1689,1716,{"$f":"ROW()","v":674}]
["Pope County","Illinois",1407,1652,1741,1941,1973,{"$f":"ROW()","v":675}]
["Pulaski County","Illinois",1146,1346,1418,1581,1607,{"$f":"ROW()","v":676}]
["Putnam County","Illinois",1638,1924,2027,2260,2297,{"$f":"ROW()","v":677}]
["Randolph County","Illinois",1389,1631,1719,1917,1948,{"$f":"ROW()","v":678}]
["Richland County","Illinois",1288,1513,1594,1777,1806,{"$f":"ROW()","v":679}]
["Rock Island County","Illinois",1450,1703,1795,2001,2034,{"$f":"ROW()","v":680}]
["St. Clair County","Illinois",1684,1978,2084,2324,2361,{"$f":"ROW()","v":681}]
["Saline County","Illinois",1290,1515,1596,1780,1808,{"$f":"ROW()","v":682}]
["Sangamon County","Illinois",1567,1840,1939,2162,2197,{"$f":"ROW()","v":683}]
["Schuyler County","Illinois",1313,1542,1625,1812,1841,{"$f":"ROW()","v":684}]
["Scott County","Illinois",1269,1491,1571,1752,1780,{"$f":"ROW()","v":685}]
["Shelby County","Illinois",1319,1549,1632,1820,1849,{"$f":"ROW()","v":686}]
["Stark County","Illinois",1308,1536,1619,1805,1834,{"$f":"ROW()","v":687}]
["Stephenson County","Illinois",1427,1676,1766,1969,2001,{"$f":"ROW()","v":688}]
["Tazewell County","Illinois",1547,1817,1915,2135,2170,{"$f":"ROW()","v":689}]
["Union County","Illinois",1448,1701,1792,1998,2030,{"$f":"ROW()","v":690}]
["Vermilion County","Illinois",1279,1502,1583,1765,1794,{"$f":"ROW()","v":691}]
["Wabash County","Illinois",1418,1665,1755,1957,1988,{"$f":"ROW()","v":692}]
["Warren County","Illinois",1243,1460,1538,1715,1743,{"$f":"ROW()","v":693}]
["Washington County","Illinois",1536,1804,1901,2120,2154,{"$f":"ROW()","v":694}]
["Wayne County","Illinois",1303,1531,1613,1798,1828,{"$f":"ROW()","v":695}]
["White County","Illinois",1275,1498,1578,1759,1788,{"$f":"ROW()","v":696}]
["Whiteside County","Illinois",1355,1591,1677,1870,1900,{"$f":"ROW()","v":697}]
["Will County","Illinois",2221,2609,2749,3065,3115,{"$f":"ROW()","v":698}]
["Williamson County","Illinois",1454,1707,1799,2006,2038,{"$f":"ROW()","v":699}]
["Winnebago County","Illinois",1488,1747,1841,2053,2086,{"$f":"ROW()","v":700}]
["Woodford County","Illinois",1692,1987,2094,2335,2373,{"$f":"ROW()","v":701}]
["Adams County","Indiana",1290,1516,1597,1781,1809,{"$f":"ROW()","v":702}]
["Allen County","Indiana",1379,1620,1707,1903,1934,{"$f":"ROW()","v":703}]
["Bartholomew County","Indiana",1484,1743,1837,2048,2081,{"$f":"ROW()","v":704}]
["Benton County","Indiana",1274,1497,1577,1758,1787,{"$f":"ROW()","v":705}]
["Blackford County","Indiana",1216,1428,1505,1678,1705,{"$f":"ROW()","v":706}]
["Boone County","Indiana",1922,2258,2379,2653,2695,{"$f":"ROW()","v":707}]
["Brown County","Indiana",1448,1701,1792,1998,2030,{"$f":"ROW()","v":708}]
["Carroll County","Indiana",1294,1519,1601,1785,1814,{"$f":"ROW()","v":709}]
["Cass County","Indiana",1224,1438,1515,1689,1716,{"$f":"ROW()","v":710}]
["Clark County","Indiana",1482,1740,1834,2045,2078,{"$f":"ROW()","v":711}]
["Clay County","Indiana",1297,1523,1605,1790,1818,{"$f":"ROW()","v":712}]
["Clinton County","Indiana",1300,1527,1609,1794,1823,{"$f":"ROW()","v":713}]
["Crawford County","Indiana",1308,1536,1619,1805,1834,{"$f":"ROW()","v":714}]
["Daviess County","Indiana",1366,1605,1691,1885,1916,{"$f":"ROW()","v":715}]
["Dearborn County","Indiana",1556,1828,1926,2147,2182,{"$f":"ROW()","v":716}]
["Decatur County","Indiana",1393,1636,1724,1922,1953,{"$f":"ROW()","v":717}]
["DeKalb County","Indiana",1316,1546,1629,1816,1846,{"$f":"ROW()","v":718}]
["Delaware County","Indiana",1248,1466,1545,1723,1750,{"$f":"ROW()","v":719}]
["Dubois County","Indiana",1405,1650,1739,1939,1970,{"$f":"ROW()","v":720}]
["Elkhart County","Indiana",1396,1640,1728,1927,1958,{"$f":"ROW()","v":721}]
["Fayette County","Indiana",1174,1379,1453,1620,1646,{"$f":"ROW()","v":722}]
["Floyd County","Indiana",1556,1828,1926,2147,2182,{"$f":"ROW()","v":723}]
["Fountain County","Indiana",1272,1494,1574,1755,1783,{"$f":"ROW()","v":724}]
["Franklin County","Indiana",1581,1857,1957,2182,2217,{"$f":"ROW()","v":725}]
["Fulton County","Indiana",1277,1499,1580,1762,1790,{"$f":"ROW()","v":726}]
["Gibson County","Indiana",1373,1612,1699,1894,1925,{"$f":"ROW()","v":727}]
["Grant County","Indiana",1239,1455,1533,1709,1737,{"$f":"ROW()","v":728}]
["Greene County","Indiana",1332,1565,1649,1839,1868,{"$f":"ROW()","v":729}]
["Hamilton County","Indiana",2032,2387,2515,2804,2849,{"$f":"ROW()","v":730}]
["Hancock County","Indiana",1563,1835,1934,2156,2191,{"$f":"ROW()","v":731}]
["Harrison County","Indiana",1417,1665,1754,1956,1987,{"$f":"ROW()","v":732}]
["Hendricks County","Indiana",1695,1991,2098,2339,2377,{"$f":"ROW()","v":733}]
["Henry County","Indiana",1226,1440,1517,1691,1719,{"$f":"ROW()","v":734}]
["Howard County","Indiana",1264,1484,1564,1744,1772,{"$f":"ROW()","v":735}]
["Huntington County","Indiana",1287,1512,1593,1776,1805,{"$f":"ROW()","v":736}]
["Jackson County","Indiana",1343,1577,1662,1853,1883,{"$f":"ROW()","v":737}]
["Jasper County","Indiana",1489,1749,1843,2055,2088,{"$f":"ROW()","v":738}]
["Jay County","Indiana",1189,1397,1472,1641,1668,{"$f":"ROW()","v":739}]
["Jefferson County","Indiana",1370,1610,1696,1891,1922,{"$f":"ROW()","v":740}]
["Jennings County","Indiana",1332,1564,1648,1838,1867,{"$f":"ROW()","v":741}]
["Johnson County","Indiana",1576,1851,1950,2174,2209,{"$f":"ROW()","v":742}]
["Knox County","Indiana",1295,1521,1603,1787,1816,{"$f":"ROW()","v":743}]
["Kosciusko County","Indiana",1402,1647,1735,1935,1966,{"$f":"ROW()","v":744}]
["LaGrange County","Indiana",1445,1697,1788,1994,2026,{"$f":"ROW()","v":745}]
["Lake County","Indiana",1572,1846,1945,2169,2204,{"$f":"ROW()","v":746}]
["LaPorte County","Indiana",1369,1608,1694,1889,1919,{"$f":"ROW()","v":747}]
["Lawrence County","Indiana",1339,1572,1657,1848,1877,{"$f":"ROW()","v":748}]
["Madison County","Indiana",1313,1542,1625,1812,1841,{"$f":"ROW()","v":749}]
["Marion County","Indiana",1485,1744,1838,2049,2082,{"$f":"ROW()","v":750}]
["Marshall County","Indiana",1382,1623,1710,1907,1937,{"$f":"ROW()","v":751}]
["Martin County","Indiana",1394,1637,1725,1923,1954,{"$f":"ROW()","v":752}]
["Miami County","Indiana",1182,1388,1463,1631,1658,{"$f":"ROW()","v":753}]
["Monroe County","Indiana",1552,1823,1921,2142,2176,{"$f":"ROW()","v":754}]
["Montgomery County","Indiana",1337,1571,1655,1845,1875,{"$f":"ROW()","v":755}]
["Morgan County","Indiana",1507,1770,1865,2079,2113,{"$f":"ROW()","v":756}]
["Newton County","Indiana",1375,1615,1702,1898,1928,{"$f":"ROW()","v":757}]
["Noble County","Indiana",1365,1603,1689,1883,1914,{"$f":"ROW()","v":758}]
["Ohio County","Indiana",1506,1769,1864,2078,2112,{"$f":"ROW()","v":759}]
["Orange County","Indiana",1303,1531,1613,1798,1828,{"$f":"ROW()","v":760}]
["Owen County","Indiana",1333,1566,1650,1840,1869,{"$f":"ROW()","v":761}]
["Parke County","Indiana",1207,1418,1494,1666,1693,{"$f":"ROW()","v":762}]
["Perry County","Indiana",1269,1490,1570,1751,1779,{"$f":"ROW()","v":763}]
["Pike County","Indiana",1288,1513,1594,1777,1806,{"$f":"ROW()","v":764}]
["Porter County","Indiana",1708,2006,2114,2357,2395,{"$f":"ROW()","v":765}]
["Posey County","Indiana",1496,1757,1851,2064,2097,{"$f":"ROW()","v":766}]
["Pulaski County","Indiana",1207,1418,1494,1666,1693,{"$f":"ROW()","v":767}]
["Putnam County","Indiana",1472,1729,1822,2032,2064,{"$f":"ROW()","v":768}]
["Randolph County","Indiana",1205,1415,1491,1662,1689,{"$f":"ROW()","v":769}]
["Ripley County","Indiana",1449,1702,1793,1999,2031,{"$f":"ROW()","v":770}]
["Rush County","Indiana",1382,1624,1711,1908,1939,{"$f":"ROW()","v":771}]
["St. Joseph County","Indiana",1373,1612,1699,1894,1925,{"$f":"ROW()","v":772}]
["Scott County","Indiana",1329,1561,1645,1834,1864,{"$f":"ROW()","v":773}]
["Shelby County","Indiana",1445,1697,1788,1994,2026,{"$f":"ROW()","v":774}]
["Spencer County","Indiana",1450,1703,1795,2001,2034,{"$f":"ROW()","v":775}]
["Starke County","Indiana",1281,1504,1585,1767,1796,{"$f":"ROW()","v":776}]
["Steuben County","Indiana",1397,1641,1729,1928,1959,{"$f":"ROW()","v":777}]
["Sullivan County","Indiana",1219,1432,1509,1683,1710,{"$f":"ROW()","v":778}]
["Switzerland County","Indiana",1458,1713,1805,2013,2045,{"$f":"ROW()","v":779}]
["Tippecanoe County","Indiana",1420,1668,1758,1960,1992,{"$f":"ROW()","v":780}]
["Tipton County","Indiana",1333,1566,1650,1840,1869,{"$f":"ROW()","v":781}]
["Union County","Indiana",1349,1585,1670,1862,1892,{"$f":"ROW()","v":782}]
["Vanderburgh County","Indiana",1407,1652,1741,1941,1973,{"$f":"ROW()","v":783}]
["Vermillion County","Indiana",1190,1398,1473,1642,1669,{"$f":"ROW()","v":784}]
["Vigo County","Indiana",1295,1521,1603,1787,1816,{"$f":"ROW()","v":785}]
["Wabash County","Indiana",1252,1471,1550,1728,1756,{"$f":"ROW()","v":786}]
["Warren County","Indiana",1334,1567,1651,1841,1871,{"$f":"ROW()","v":787}]
["Warrick County","Indiana",1552,1823,1921,2142,2176,{"$f":"ROW()","v":788}]
["Washington County","Indiana",1361,1599,1685,1879,1909,{"$f":"ROW()","v":789}]
["Wayne County","Indiana",1240,1457,1535,1712,1739,{"$f":"ROW()","v":790}]
["Wells County","Indiana",1322,1553,1636,1824,1854,{"$f":"ROW()","v":791}]
["White County","Indiana",1363,1601,1687,1881,1911,{"$f":"ROW()","v":792}]
["Whitley County","Indiana",1387,1629,1717,1914,1945,{"$f":"ROW()","v":793}]
["Adair County","Iowa",1446,1699,1790,1996,2028,{"$f":"ROW()","v":794}]
["Adams County","Iowa",1427,1676,1766,1969,2001,{"$f":"ROW()","v":795}]
["Allamakee County","Iowa",1476,1734,1827,2037,2070,{"$f":"ROW()","v":796}]
["Appanoose County","Iowa",1329,1561,1645,1834,1864,{"$f":"ROW()","v":797}]
["Audubon County","Iowa",1243,1460,1538,1715,1743,{"$f":"ROW()","v":798}]
["Benton County","Iowa",1574,1849,1948,2172,2207,{"$f":"ROW()","v":799}]
["Black Hawk County","Iowa",1505,1768,1863,2077,2111,{"$f":"ROW()","v":800}]
["Boone County","Iowa",1572,1847,1946,2170,2205,{"$f":"ROW()","v":801}]
["Bremer County","Iowa",1597,1876,1977,2204,2240,{"$f":"ROW()","v":802}]
["Buchanan County","Iowa",1496,1758,1852,2065,2098,{"$f":"ROW()","v":803}]
["Buena Vista County","Iowa",1350,1586,1671,1863,1893,{"$f":"ROW()","v":804}]
["Butler County","Iowa",1373,1612,1699,1894,1925,{"$f":"ROW()","v":805}]
["Calhoun County","Iowa",1255,1474,1553,1732,1760,{"$f":"ROW()","v":806}]
["Carroll County","Iowa",1384,1626,1713,1910,1941,{"$f":"ROW()","v":807}]
["Cass County","Iowa",1301,1528,1610,1795,1824,{"$f":"ROW()","v":808}]
["Cedar County","Iowa",1547,1817,1915,2135,2170,{"$f":"ROW()","v":809}]
["Cerro Gordo County","Iowa",1441,1692,1783,1988,2020,{"$f":"ROW()","v":810}]
["Cherokee County","Iowa",1318,1548,1631,1819,1848,{"$f":"ROW()","v":811}]
["Chickasaw County","Iowa",1386,1628,1715,1912,1943,{"$f":"ROW()","v":812}]
["Clarke County","Iowa",1538,1807,1904,2123,2157,{"$f":"ROW()","v":813}]
["Clay County","Iowa",1400,1645,1733,1932,1963,{"$f":"ROW()","v":814}]
["Clayton County","Iowa",1401,1646,1734,1933,1965,{"$f":"ROW()","v":815}]
["Clinton County","Iowa",1430,1680,1770,1974,2005,{"$f":"ROW()","v":816}]
["Crawford County","Iowa",1326,1557,1641,1830,1859,{"$f":"ROW()","v":817}]
["Dallas County","Iowa",2087,2451,2583,2880,2927,{"$f":"ROW()","v":818}]
["Davis County","Iowa",1501,1763,1858,2072,2105,{"$f":"ROW()","v":819}]
["Decatur County","Iowa",1370,1609,1695,1890,1920,{"$f":"ROW()","v":820}]
["Delaware County","Iowa",1471,1727,1820,2029,2062,{"$f":"ROW()","v":821}]
["Des Moines County","Iowa",1408,1654,1743,1943,1975,{"$f":"ROW()","v":822}]
["Dickinson County","Iowa",1509,1773,1868,2083,2116,{"$f":"ROW()","v":823}]
["Dubuque County","Iowa",1631,1915,2018,2250,2286,{"$f":"ROW()","v":824}]
["Emmet County","Iowa",1199,1408,1484,1655,1681,{"$f":"ROW()","v":825}]
["Fayette County","Iowa",1349,1585,1670,1862,1892,{"$f":"ROW()","v":826}]
["Floyd County","Iowa",1342,1576,1661,1852,1882,{"$f":"ROW()","v":827}]
["Franklin County","Iowa",1201,1411,1487,1658,1685,{"$f":"ROW()","v":828}]
["Fremont County","Iowa",1427,1676,1766,1969,2001,{"$f":"ROW()","v":829}]
["Greene County","Iowa",1280,1503,1584,1766,1795,{"$f":"ROW()","v":830}]
["Grundy County","Iowa",1522,1788,1884,2101,2135,{"$f":"ROW()","v":831}]
["Guthrie County","Iowa",1530,1797,1894,2112,2146,{"$f":"ROW()","v":832}]
["Hamilton County","Iowa",1317,1547,1630,1817,1847,{"$f":"ROW()","v":833}]
["Hancock County","Iowa",1283,1507,1588,1771,1799,{"$f":"ROW()","v":834}]
["Hardin County","Iowa",1325,1556,1640,1829,1858,{"$f":"ROW()","v":835}]
["Harrison County","Iowa",1442,1694,1785,1990,2022,{"$f":"ROW()","v":836}]
["Henry County","Iowa",1399,1644,1732,1931,1962,{"$f":"ROW()","v":837}]
["Howard County","Iowa",1315,1544,1627,1814,1843,{"$f":"ROW()","v":838}]
["Humboldt County","Iowa",1338,1572,1656,1846,1876,{"$f":"ROW()","v":839}]
["Ida County","Iowa",1230,1444,1522,1697,1724,{"$f":"ROW()","v":840}]
["Iowa County","Iowa",1601,1880,1981,2209,2244,{"$f":"ROW()","v":841}]
["Jackson County","Iowa",1458,1712,1804,2011,2044,{"$f":"ROW()","v":842}]
["Jasper County","Iowa",1485,1744,1838,2049,2082,{"$f":"ROW()","v":843}]
["Jefferson County","Iowa",1460,1715,1807,2015,2047,{"$f":"ROW()","v":844}]
["Johnson County","Iowa",1957,2298,2422,2701,2744,{"$f":"ROW()","v":845}]
["Jones County","Iowa",1509,1772,1867,2082,2115,{"$f":"ROW()","v":846}]
["Keokuk County","Iowa",1326,1557,1641,1830,1859,{"$f":"ROW()","v":847}]
["Kossuth County","Iowa",1327,1558,1642,1831,1860,{"$f":"ROW()","v":848}]
["Lee County","Iowa",1370,1610,1696,1891,1922,{"$f":"ROW()","v":849}]
["Linn County","Iowa",1623,1907,2009,2240,2276,{"$f":"ROW()","v":850}]
["Louisa County","Iowa",1433,1684,1774,1978,2010,{"$f":"ROW()","v":851}]
["Lucas County","Iowa",1413,1660,1749,1950,1982,{"$f":"ROW()","v":852}]
["Lyon County","Iowa",1438,1689,1780,1985,2017,{"$f":"ROW()","v":853}]
["Madison County","Iowa",1847,2169,2286,2549,2590,{"$f":"ROW()","v":854}]
["Mahaska County","Iowa",1399,1644,1732,1931,1962,{"$f":"ROW()","v":855}]
["Marion County","Iowa",1576,1851,1951,2175,2210,{"$f":"ROW()","v":856}]
["Marshall County","Iowa",1380,1621,1708,1904,1935,{"$f":"ROW()","v":857}]
["Mills County","Iowa",1644,1931,2035,2269,2306,{"$f":"ROW()","v":858}]
["Mitchell County","Iowa",1390,1632,1720,1918,1949,{"$f":"ROW()","v":859}]
["Monona County","Iowa",1297,1523,1605,1790,1818,{"$f":"ROW()","v":860}]
["Monroe County","Iowa",1321,1552,1635,1823,1852,{"$f":"ROW()","v":861}]
["Montgomery County","Iowa",1227,1442,1519,1694,1721,{"$f":"ROW()","v":862}]
["Muscatine County","Iowa",1519,1784,1880,2096,2130,{"$f":"ROW()","v":863}]
["O'Brien County","Iowa",1426,1675,1765,1968,2000,{"$f":"ROW()","v":864}]
["Osceola County","Iowa",1304,1532,1614,1800,1829,{"$f":"ROW()","v":865}]
["Page County","Iowa",1275,1498,1578,1759,1788,{"$f":"ROW()","v":866}]
["Palo Alto County","Iowa",1292,1517,1599,1783,1812,{"$f":"ROW()","v":867}]
["Plymouth County","Iowa",1538,1807,1904,2123,2157,{"$f":"ROW()","v":868}]
["Pocahontas County","Iowa",1302,1529,1611,1796,1825,{"$f":"ROW()","v":869}]
["Polk County","Iowa",1753,2058,2169,2418,2457,{"$f":"ROW()","v":870}]
["Pottawattamie County","Iowa",1572,1846,1945,2169,2204,{"$f":"ROW()","v":871}]
["Poweshiek County","Iowa",1561,1833,1932,2154,2189,{"$f":"ROW()","v":872}]
["Ringgold County","Iowa",1580,1855,1955,2180,2215,{"$f":"ROW()","v":873}]
["Sac County","Iowa",1269,1491,1571,1752,1780,{"$f":"ROW()","v":874}]
["Scott County","Iowa",1637,1923,2026,2259,2295,{"$f":"ROW()","v":875}]
["Shelby County","Iowa",1469,1725,1818,2027,2060,{"$f":"ROW()","v":876}]
["Sioux County","Iowa",1591,1869,1969,2195,2231,{"$f":"ROW()","v":877}]
["Story County","Iowa",1742,2046,2156,2404,2443,{"$f":"ROW()","v":878}]
["Tama County","Iowa",1462,1717,1809,2017,2050,{"$f":"ROW()","v":879}]
["Taylor County","Iowa",1306,1534,1616,1802,1831,{"$f":"ROW()","v":880}]
["Union County","Iowa",1294,1519,1601,1785,1814,{"$f":"ROW()","v":881}]
["Van Buren County","Iowa",1437,1688,1779,1984,2016,{"$f":"ROW()","v":882}]
["Wapello County","Iowa",1319,1549,1632,1820,1849,{"$f":"ROW()","v":883}]
["Warren County","Iowa",1770,2079,2191,2443,2482,{"$f":"ROW()","v":884}]
["Washington County","Iowa",1660,1949,2054,2290,2327,{"$f":"ROW()","v":885}]
["Wayne County","Iowa",1285,1509,1590,1773,1801,{"$f":"ROW()","v":886}]
["Webster County","Iowa",1338,1572,1656,1846,1876,{"$f":"ROW()","v":887}]
["Winnebago County","Iowa",1381,1622,1709,1906,1936,{"$f":"ROW()","v":888}]
["Winneshiek County","Iowa",1628,1912,2015,2247,2283,{"$f":"ROW()","v":889}]
["Woodbury County","Iowa",1475,1732,1825,2035,2068,{"$f":"ROW()","v":890}]
["Worth County","Iowa",1290,1516,1597,1781,1809,{"$f":"ROW()","v":891}]
["Wright County","Iowa",1180,1386,1460,1628,1654,{"$f":"ROW()","v":892}]
["Allen County","Kansas",1334,1567,1651,1841,1871,{"$f":"ROW()","v":893}]
["Anderson County","Kansas",1484,1743,1837,2048,2081,{"$f":"ROW()","v":894}]
["Atchison County","Kansas",1515,1779,1875,2091,2124,{"$f":"ROW()","v":895}]
["Barber County","Kansas",1345,1580,1665,1856,1886,{"$f":"ROW()","v":896}]
["Barton County","Kansas",1440,1691,1782,1987,2019,{"$f":"ROW()","v":897}]
["Bourbon County","Kansas",1325,1556,1640,1829,1858,{"$f":"ROW()","v":898}]
["Brown County","Kansas",1342,1576,1661,1852,1882,{"$f":"ROW()","v":899}]
["Butler County","Kansas",1717,2017,2125,2369,2408,{"$f":"ROW()","v":900}]
["Chase County","Kansas",1319,1549,1632,1820,1849,{"$f":"ROW()","v":901}]
["Chautauqua County","Kansas",1441,1693,1784,1989,2021,{"$f":"ROW()","v":902}]
["Cherokee County","Kansas",1256,1476,1555,1734,1762,{"$f":"ROW()","v":903}]
["Cheyenne County","Kansas",1251,1469,1548,1726,1754,{"$f":"ROW()","v":904}]
["Clark County","Kansas",1280,1503,1584,1766,1795,{"$f":"ROW()","v":905}]
["Clay County","Kansas",1496,1758,1852,2065,2098,{"$f":"ROW()","v":906}]
["Cloud County","Kansas",1257,1477,1556,1735,1763,{"$f":"ROW()","v":907}]
["Coffey County","Kansas",1431,1681,1771,1975,2007,{"$f":"ROW()","v":908}]
["Comanche County","Kansas",1268,1489,1569,1749,1778,{"$f":"ROW()","v":909}]
["Cowley County","Kansas",1357,1594,1680,1873,1903,{"$f":"ROW()","v":910}]
["Crawford County","Kansas",1373,1612,1699,1894,1925,{"$f":"ROW()","v":911}]
["Decatur County","Kansas",1079,1268,1336,1490,1514,{"$f":"ROW()","v":912}]
["Dickinson County","Kansas",1498,1759,1854,2067,2101,{"$f":"ROW()","v":913}]
["Doniphan County","Kansas",1377,1617,1704,1900,1931,{"$f":"ROW()","v":914}]
["Douglas County","Kansas",1866,2191,2309,2575,2616,{"$f":"ROW()","v":915}]
["Edwards County","Kansas",1130,1327,1398,1559,1584,{"$f":"ROW()","v":916}]
["Elk County","Kansas",1227,1442,1519,1694,1721,{"$f":"ROW()","v":917}]
["Ellis County","Kansas",1670,1962,2067,2305,2342,{"$f":"ROW()","v":918}]
["Ellsworth County","Kansas",1320,1551,1634,1822,1851,{"$f":"ROW()","v":919}]
["Finney County","Kansas",1716,2016,2124,2368,2406,{"$f":"ROW()","v":920}]
["Ford County","Kansas",1462,1718,1810,2018,2051,{"$f":"ROW()","v":921}]
["Franklin County","Kansas",1676,1968,2074,2313,2350,{"$f":"ROW()","v":922}]
["Geary County","Kansas",1671,1963,2068,2306,2343,{"$f":"ROW()","v":923}]
["Gove County","Kansas",1437,1687,1778,1982,2014,{"$f":"ROW()","v":924}]
["Graham County","Kansas",1408,1654,1743,1943,1975,{"$f":"ROW()","v":925}]
["Grant County","Kansas",1399,1643,1731,1930,1961,{"$f":"ROW()","v":926}]
["Gray County","Kansas",1546,1815,1913,2133,2167,{"$f":"ROW()","v":927}]
["Greeley County","Kansas",1580,1856,1956,2181,2216,{"$f":"ROW()","v":928}]
["Greenwood County","Kansas",1218,1430,1507,1680,1707,{"$f":"ROW()","v":929}]
["Hamilton County","Kansas",1429,1679,1769,1972,2004,{"$f":"ROW()","v":930}]
["Harper County","Kansas",1348,1583,1668,1860,1890,{"$f":"ROW()","v":931}]
["Harvey County","Kansas",1564,1837,1936,2159,2193,{"$f":"ROW()","v":932}]
["Haskell County","Kansas",1597,1875,1976,2203,2239,{"$f":"ROW()","v":933}]
["Hodgeman County","Kansas",1471,1728,1821,2030,2063,{"$f":"ROW()","v":934}]
["Jackson County","Kansas",1605,1885,1986,2214,2250,{"$f":"ROW()","v":935}]
["Jefferson County","Kansas",1652,1940,2044,2279,2316,{"$f":"ROW()","v":936}]
["Jewell County","Kansas",1256,1475,1554,1733,1761,{"$f":"ROW()","v":937}]
["Johnson County","Kansas",2144,2519,2654,2959,3007,{"$f":"ROW()","v":938}]
["Kearny County","Kansas",1648,1936,2040,2275,2311,{"$f":"ROW()","v":939}]
["Kingman County","Kansas",1388,1630,1718,1916,1946,{"$f":"ROW()","v":940}]
["Kiowa County","Kansas",1526,1792,1888,2105,2139,{"$f":"ROW()","v":941}]
["Labette County","Kansas",1515,1779,1875,2091,2124,{"$f":"ROW()","v":942}]
["Lane County","Kansas",1322,1553,1636,1824,1854,{"$f":"ROW()","v":943}]
["Leavenworth County","Kansas",1840,2161,2277,2539,2580,{"$f":"ROW()","v":944}]
["Lincoln County","Kansas",1391,1634,1722,1920,1951,{"$f":"ROW()","v":945}]
["Linn County","Kansas",1465,1721,1813,2021,2054,{"$f":"ROW()","v":946}]
["Logan County","Kansas",1361,1598,1684,1878,1908,{"$f":"ROW()","v":947}]
["Lyon County","Kansas",1436,1686,1777,1981,2013,{"$f":"ROW()","v":948}]
["McPherson County","Kansas",1537,1805,1902,2121,2155,{"$f":"ROW()","v":949}]
["Marion County","Kansas",1358,1595,1681,1874,1905,{"$f":"ROW()","v":950}]
["Marshall County","Kansas",1378,1619,1706,1902,1933,{"$f":"ROW()","v":951}]
["Meade County","Kansas",1539,1808,1905,2124,2158,{"$f":"ROW()","v":952}]
["Miami County","Kansas",1866,2192,2310,2576,2617,{"$f":"ROW()","v":953}]
["Mitchell County","Kansas",1390,1632,1720,1918,1949,{"$f":"ROW()","v":954}]
["Montgomery County","Kansas",1375,1615,1702,1898,1928,{"$f":"ROW()","v":955}]
["Morris County","Kansas",1415,1662,1751,1952,1984,{"$f":"ROW()","v":956}]
["Morton County","Kansas",1338,1572,1656,1846,1876,{"$f":"ROW()","v":957}]
["Nemaha County","Kansas",1568,1841,1940,2163,2198,{"$f":"ROW()","v":958}]
["Neosho County","Kansas",1300,1527,1609,1794,1823,{"$f":"ROW()","v":959}]
["Ness County","Kansas",1281,1505,1586,1768,1797,{"$f":"ROW()","v":960}]
["Norton County","Kansas",1222,1435,1512,1686,1713,{"$f":"ROW()","v":961}]
["Osage County","Kansas",1446,1698,1789,1995,2027,{"$f":"ROW()","v":962}]
["Osborne County","Kansas",1151,1352,1425,1589,1615,{"$f":"ROW()","v":963}]
["Ottawa County","Kansas",1655,1944,2048,2284,2320,{"$f":"ROW()","v":964}]
["Pawnee County","Kansas",1368,1607,1693,1888,1918,{"$f":"ROW()","v":965}]
["Phillips County","Kansas",1214,1426,1503,1676,1703,{"$f":"ROW()","v":966}]
["Pottawatomie County","Kansas",1798,2112,2225,2481,2521,{"$f":"ROW()","v":967}]
["Pratt County","Kansas",1375,1615,1702,1898,1928,{"$f":"ROW()","v":968}]
["Rawlins County","Kansas",1553,1824,1922,2143,2178,{"$f":"ROW()","v":969}]
["Reno County","Kansas",1402,1647,1735,1935,1966,{"$f":"ROW()","v":970}]
["Republic County","Kansas",1345,1580,1665,1856,1886,{"$f":"ROW()","v":971}]
["Rice County","Kansas",1342,1576,1661,1852,1882,{"$f":"ROW()","v":972}]
["Riley County","Kansas",1806,2121,2235,2492,2532,{"$f":"ROW()","v":973}]
["Rooks County","Kansas",1245,1462,1541,1718,1746,{"$f":"ROW()","v":974}]
["Rush County","Kansas",1182,1388,1463,1631,1658,{"$f":"ROW()","v":975}]
["Russell County","Kansas",1507,1770,1865,2079,2113,{"$f":"ROW()","v":976}]
["Saline County","Kansas",1450,1703,1794,2000,2033,{"$f":"ROW()","v":977}]
["Scott County","Kansas",1378,1619,1706,1902,1933,{"$f":"ROW()","v":978}]
["Sedgwick County","Kansas",1607,1888,1989,2218,2254,{"$f":"ROW()","v":979}]
["Seward County","Kansas",1570,1844,1943,2166,2201,{"$f":"ROW()","v":980}]
["Shawnee County","Kansas",1518,1783,1879,2095,2129,{"$f":"ROW()","v":981}]
["Sheridan County","Kansas",1515,1779,1875,2091,2124,{"$f":"ROW()","v":982}]
["Sherman County","Kansas",1404,1649,1738,1938,1969,{"$f":"ROW()","v":983}]
["Smith County","Kansas",1256,1476,1555,1734,1762,{"$f":"ROW()","v":984}]
["Stafford County","Kansas",1387,1628,1716,1913,1944,{"$f":"ROW()","v":985}]
["Stanton County","Kansas",1436,1686,1777,1981,2013,{"$f":"ROW()","v":986}]
["Stevens County","Kansas",1699,1996,2103,2345,2383,{"$f":"ROW()","v":987}]
["Sumner County","Kansas",1542,1812,1909,2129,2163,{"$f":"ROW()","v":988}]
["Thomas County","Kansas",1378,1619,1706,1902,1933,{"$f":"ROW()","v":989}]
["Trego County","Kansas",1354,1591,1676,1869,1899,{"$f":"ROW()","v":990}]
["Wabaunsee County","Kansas",1536,1804,1901,2120,2154,{"$f":"ROW()","v":991}]
["Wallace County","Kansas",1399,1644,1732,1931,1962,{"$f":"ROW()","v":992}]
["Washington County","Kansas",1305,1533,1615,1801,1830,{"$f":"ROW()","v":993}]
["Wichita County","Kansas",1534,1801,1898,2116,2150,{"$f":"ROW()","v":994}]
["Wilson County","Kansas",1281,1504,1585,1767,1796,{"$f":"ROW()","v":995}]
["Woodson County","Kansas",1443,1695,1786,1991,2024,{"$f":"ROW()","v":996}]
["Wyandotte County","Kansas",1559,1832,1930,2152,2187,{"$f":"ROW()","v":997}]
["Adair County","Kentucky",1221,1434,1511,1685,1712,{"$f":"ROW()","v":998}]
["Allen County","Kentucky",1337,1571,1655,1845,1875,{"$f":"ROW()","v":999}]
["Anderson County","Kentucky",1488,1748,1842,2054,2087,{"$f":"ROW()","v":1000}]
["Ballard County","Kentucky",1364,1602,1688,1882,1913,{"$f":"ROW()","v":1001}]
["Barren County","Kentucky",1359,1596,1682,1875,1906,{"$f":"ROW()","v":1002}]
["Bath County","Kentucky",1285,1509,1590,1773,1801,{"$f":"ROW()","v":1003}]
["Bell County","Kentucky",1212,1424,1500,1673,1700,{"$f":"ROW()","v":1004}]
["Boone County","Kentucky",1681,1974,2080,2319,2357,{"$f":"ROW()","v":1005}]
["Bourbon County","Kentucky",1462,1718,1810,2018,2051,{"$f":"ROW()","v":1006}]
["Boyd County","Kentucky",1375,1615,1702,1898,1928,{"$f":"ROW()","v":1007}]
["Boyle County","Kentucky",1412,1659,1748,1949,1980,{"$f":"ROW()","v":1008}]
["Bracken County","Kentucky",1312,1541,1624,1811,1840,{"$f":"ROW()","v":1009}]
["Breathitt County","Kentucky",1249,1467,1546,1724,1752,{"$f":"ROW()","v":1010}]
["Breckinridge County","Kentucky",1328,1560,1644,1833,1863,{"$f":"ROW()","v":1011}]
["Bullitt County","Kentucky",1589,1866,1966,2192,2227,{"$f":"ROW()","v":1012}]
["Butler County","Kentucky",1268,1489,1569,1749,1778,{"$f":"ROW()","v":1013}]
["Caldwell County","Kentucky",1378,1618,1705,1901,1932,{"$f":"ROW()","v":1014}]
["Calloway County","Kentucky",1441,1692,1783,1988,2020,{"$f":"ROW()","v":1015}]
["Campbell County","Kentucky",1654,1943,2047,2282,2319,{"$f":"ROW()","v":1016}]
["Carlisle County","Kentucky",1312,1541,1624,1811,1840,{"$f":"ROW()","v":1017}]
["Carroll County","Kentucky",1326,1557,1641,1830,1859,{"$f":"ROW()","v":1018}]
["Carter County","Kentucky",1349,1584,1669,1861,1891,{"$f":"ROW()","v":1019}]
["Casey County","Kentucky",1273,1495,1575,1756,1784,{"$f":"ROW()","v":1020}]
["Christian County","Kentucky",1409,1655,1744,1945,1976,{"$f":"ROW()","v":1021}]
["Clark County","Kentucky",1450,1703,1795,2001,2034,{"$f":"ROW()","v":1022}]
["Clay County","Kentucky",1175,1380,1454,1621,1647,{"$f":"ROW()","v":1023}]
["Clinton County","Kentucky",1150,1350,1423,1587,1612,{"$f":"ROW()","v":1024}]
["Crittenden County","Kentucky",1190,1398,1473,1642,1669,{"$f":"ROW()","v":1025}]
["Cumberland County","Kentucky",1334,1567,1651,1841,1871,{"$f":"ROW()","v":1026}]
["Daviess County","Kentucky",1479,1737,1830,2040,2073,{"$f":"ROW()","v":1027}]
["Edmonson County","Kentucky",1307,1535,1617,1803,1832,{"$f":"ROW()","v":1028}]
["Elliott County","Kentucky",1327,1558,1642,1831,1860,{"$f":"ROW()","v":1029}]
["Estill County","Kentucky",1241,1458,1536,1713,1740,{"$f":"ROW()","v":1030}]
["Fayette County","Kentucky",1651,1939,2043,2278,2315,{"$f":"ROW()","v":1031}]
["Fleming County","Kentucky",1190,1398,1473,1642,1669,{"$f":"ROW()","v":1032}]
["Floyd County","Kentucky",1330,1562,1646,1835,1865,{"$f":"ROW()","v":1033}]
["Franklin County","Kentucky",1542,1812,1909,2129,2163,{"$f":"ROW()","v":1034}]
["Fulton County","Kentucky",1196,1405,1480,1650,1677,{"$f":"ROW()","v":1035}]
["Gallatin County","Kentucky",1429,1678,1768,1971,2003,{"$f":"ROW()","v":1036}]
["Garrard County","Kentucky",1393,1636,1724,1922,1953,{"$f":"ROW()","v":1037}]
["Grant County","Kentucky",1516,1780,1876,2092,2126,{"$f":"ROW()","v":1038}]
["Graves County","Kentucky",1345,1580,1665,1856,1886,{"$f":"ROW()","v":1039}]
["Grayson County","Kentucky",1308,1536,1619,1805,1834,{"$f":"ROW()","v":1040}]
["Green County","Kentucky",1096,1287,1356,1512,1536,{"$f":"ROW()","v":1041}]
["Greenup County","Kentucky",1385,1627,1714,1911,1942,{"$f":"ROW()","v":1042}]
["Hancock County","Kentucky",1324,1555,1639,1827,1857,{"$f":"ROW()","v":1043}]
["Hardin County","Kentucky",1507,1770,1865,2079,2113,{"$f":"ROW()","v":1044}]
["Harlan County","Kentucky",1160,1363,1436,1601,1627,{"$f":"ROW()","v":1045}]
["Harrison County","Kentucky",1418,1665,1755,1957,1988,{"$f":"ROW()","v":1046}]
["Hart County","Kentucky",1250,1468,1547,1725,1753,{"$f":"ROW()","v":1047}]
["Henderson County","Kentucky",1418,1665,1755,1957,1988,{"$f":"ROW()","v":1048}]
["Henry County","Kentucky",1413,1660,1749,1950,1982,{"$f":"ROW()","v":1049}]
["Hickman County","Kentucky",1404,1649,1738,1938,1969,{"$f":"ROW()","v":1050}]
["Hopkins County","Kentucky",1279,1502,1583,1765,1794,{"$f":"ROW()","v":1051}]
["Jackson County","Kentucky",1235,1450,1528,1704,1731,{"$f":"ROW()","v":1052}]
["Jefferson County","Kentucky",1624,1907,2010,2241,2277,{"$f":"ROW()","v":1053}]
["Jessamine County","Kentucky",1578,1853,1953,2178,2213,{"$f":"ROW()","v":1054}]
["Johnson County","Kentucky",1382,1623,1710,1907,1937,{"$f":"ROW()","v":1055}]
["Kenton County","Kentucky",1589,1867,1967,2193,2229,{"$f":"ROW()","v":1056}]
["Knott County","Kentucky",1286,1511,1592,1775,1804,{"$f":"ROW()","v":1057}]
["Knox County","Kentucky",1226,1440,1517,1691,1719,{"$f":"ROW()","v":1058}]
["Larue County","Kentucky",1371,1610,1697,1892,1923,{"$f":"ROW()","v":1059}]
["Laurel County","Kentucky",1308,1536,1619,1805,1834,{"$f":"ROW()","v":1060}]
["Lawrence County","Kentucky",1297,1523,1605,1790,1818,{"$f":"ROW()","v":1061}]
["Lee County","Kentucky",1157,1359,1432,1597,1622,{"$f":"ROW()","v":1062}]
["Leslie County","Kentucky",1193,1401,1476,1646,1672,{"$f":"ROW()","v":1063}]
["Letcher County","Kentucky",1265,1486,1566,1746,1774,{"$f":"ROW()","v":1064}]
["Lewis County","Kentucky",1096,1288,1357,1513,1537,{"$f":"ROW()","v":1065}]
["Lincoln County","Kentucky",1204,1414,1490,1661,1688,{"$f":"ROW()","v":1066}]
["Livingston County","Kentucky",1302,1529,1611,1796,1825,{"$f":"ROW()","v":1067}]
["Logan County","Kentucky",1391,1633,1721,1919,1950,{"$f":"ROW()","v":1068}]
["Lyon County","Kentucky",1460,1715,1807,2015,2047,{"$f":"ROW()","v":1069}]
["McCracken County","Kentucky",1416,1663,1752,1953,1985,{"$f":"ROW()","v":1070}]
["McCreary County","Kentucky",1191,1399,1474,1644,1670,{"$f":"ROW()","v":1071}]
["McLean County","Kentucky",1306,1534,1616,1802,1831,{"$f":"ROW()","v":1072}]
["Madison County","Kentucky",1521,1787,1883,2100,2133,{"$f":"ROW()","v":1073}]
["Magoffin County","Kentucky",1221,1434,1511,1685,1712,{"$f":"ROW()","v":1074}]
["Marion County","Kentucky",1317,1547,1630,1817,1847,{"$f":"ROW()","v":1075}]
["Marshall County","Kentucky",1395,1638,1726,1924,1956,{"$f":"ROW()","v":1076}]
["Martin County","Kentucky",1397,1641,1729,1928,1959,{"$f":"ROW()","v":1077}]
["Mason County","Kentucky",1436,1686,1777,1981,2013,{"$f":"ROW()","v":1078}]
["Meade County","Kentucky",1453,1706,1798,2005,2037,{"$f":"ROW()","v":1079}]
["Menifee County","Kentucky",1070,1256,1324,1476,1500,{"$f":"ROW()","v":1080}]
["Mercer County","Kentucky",1381,1622,1709,1906,1936,{"$f":"ROW()","v":1081}]
["Metcalfe County","Kentucky",1214,1425,1502,1675,1702,{"$f":"ROW()","v":1082}]
["Monroe County","Kentucky",1273,1496,1576,1757,1786,{"$f":"ROW()","v":1083}]
["Montgomery County","Kentucky",1374,1613,1700,1896,1926,{"$f":"ROW()","v":1084}]
["Morgan County","Kentucky",1328,1560,1644,1833,1863,{"$f":"ROW()","v":1085}]
["Muhlenberg County","Kentucky",1302,1529,1611,1796,1825,{"$f":"ROW()","v":1086}]
["Nelson County","Kentucky",1442,1694,1785,1990,2022,{"$f":"ROW()","v":1087}]
["Nicholas County","Kentucky",1265,1486,1566,1746,1774,{"$f":"ROW()","v":1088}]
["Ohio County","Kentucky",1261,1481,1561,1741,1769,{"$f":"ROW()","v":1089}]
["Oldham County","Kentucky",2144,2518,2653,2958,3006,{"$f":"ROW()","v":1090}]
["Owen County","Kentucky",1494,1755,1849,2062,2095,{"$f":"ROW()","v":1091}]
["Owsley County","Kentucky",1159,1361,1434,1599,1625,{"$f":"ROW()","v":1092}]
["Pendleton County","Kentucky",1399,1644,1732,1931,1962,{"$f":"ROW()","v":1093}]
["Perry County","Kentucky",1341,1575,1660,1851,1881,{"$f":"ROW()","v":1094}]
["Pike County","Kentucky",1392,1635,1723,1921,1952,{"$f":"ROW()","v":1095}]
["Powell County","Kentucky",1203,1413,1489,1660,1687,{"$f":"ROW()","v":1096}]
["Pulaski County","Kentucky",1335,1568,1652,1842,1872,{"$f":"ROW()","v":1097}]
["Robertson County","Kentucky",1317,1547,1630,1817,1847,{"$f":"ROW()","v":1098}]
["Rockcastle County","Kentucky",1188,1395,1470,1639,1666,{"$f":"ROW()","v":1099}]
["Rowan County","Kentucky",1404,1649,1738,1938,1969,{"$f":"ROW()","v":1100}]
["Russell County","Kentucky",1256,1475,1554,1733,1761,{"$f":"ROW()","v":1101}]
["Scott County","Kentucky",1640,1926,2030,2263,2300,{"$f":"ROW()","v":1102}]
["Shelby County","Kentucky",1647,1934,2038,2272,2309,{"$f":"ROW()","v":1103}]
["Simpson County","Kentucky",1385,1627,1714,1911,1942,{"$f":"ROW()","v":1104}]
["Spencer County","Kentucky",1703,2000,2108,2350,2388,{"$f":"ROW()","v":1105}]
["Taylor County","Kentucky",1303,1531,1613,1798,1828,{"$f":"ROW()","v":1106}]
["Todd County","Kentucky",1251,1469,1548,1726,1754,{"$f":"ROW()","v":1107}]
["Trigg County","Kentucky",1481,1740,1833,2044,2077,{"$f":"ROW()","v":1108}]
["Trimble County","Kentucky",1531,1798,1895,2113,2147,{"$f":"ROW()","v":1109}]
["Union County","Kentucky",1366,1604,1690,1884,1915,{"$f":"ROW()","v":1110}]
["Warren County","Kentucky",1546,1815,1913,2133,2167,{"$f":"ROW()","v":1111}]
["Washington County","Kentucky",1214,1425,1502,1675,1702,{"$f":"ROW()","v":1112}]
["Wayne County","Kentucky",1160,1363,1436,1601,1627,{"$f":"ROW()","v":1113}]
["Webster County","Kentucky",1323,1554,1637,1825,1855,{"$f":"ROW()","v":1114}]
["Whitley County","Kentucky",1275,1498,1578,1759,1788,{"$f":"ROW()","v":1115}]
["Wolfe County","Kentucky",1142,1341,1413,1575,1601,{"$f":"ROW()","v":1116}]
["Woodford County","Kentucky",1648,1935,2039,2273,2310,{"$f":"ROW()","v":1117}]
["Acadia Parish","Louisiana",1409,1655,1744,1945,1976,{"$f":"ROW()","v":1118}]
["Allen Parish","Louisiana",1349,1584,1669,1861,1891,{"$f":"ROW()","v":1119}]
["Ascension Parish","Louisiana",1817,2134,2249,2508,2548,{"$f":"ROW()","v":1120}]
["Assumption Parish","Louisiana",1405,1650,1739,1939,1970,{"$f":"ROW()","v":1121}]
["Avoyelles Parish","Louisiana",1252,1470,1549,1727,1755,{"$f":"ROW()","v":1122}]
["Beauregard Parish","Louisiana",1491,1751,1845,2057,2090,{"$f":"ROW()","v":1123}]
["Bienville Parish","Louisiana",1180,1386,1460,1628,1654,{"$f":"ROW()","v":1124}]
["Bossier Parish","Louisiana",1639,1926,2029,2262,2299,{"$f":"ROW()","v":1125}]
["Caddo Parish","Louisiana",1514,1778,1874,2090,2123,{"$f":"ROW()","v":1126}]
["Calcasieu Parish","Louisiana",1542,1812,1909,2129,2163,{"$f":"ROW()","v":1127}]
["Caldwell Parish","Louisiana",1462,1718,1810,2018,2051,{"$f":"ROW()","v":1128}]
["Cameron Parish","Louisiana",1440,1691,1782,1987,2019,{"$f":"ROW()","v":1129}]
["Catahoula Parish","Louisiana",1270,1492,1572,1753,1781,{"$f":"ROW()","v":1130}]
["Claiborne Parish","Louisiana",1117,1312,1383,1542,1567,{"$f":"ROW()","v":1131}]
["Concordia Parish","Louisiana",1270,1492,1572,1753,1781,{"$f":"ROW()","v":1132}]
["De Soto Parish","Louisiana",1404,1649,1738,1938,1969,{"$f":"ROW()","v":1133}]
["East Baton Rouge Parish","Louisiana",1731,2033,2142,2388,2427,{"$f":"ROW()","v":1134}]
["East Carroll Parish","Louisiana",1223,1437,1514,1688,1715,{"$f":"ROW()","v":1135}]
["East Feliciana Parish","Louisiana",1520,1785,1881,2097,2131,{"$f":"ROW()","v":1136}]
["Evangeline Parish","Louisiana",1311,1539,1622,1809,1838,{"$f":"ROW()","v":1137}]
["Franklin Parish","Louisiana",1262,1482,1562,1742,1770,{"$f":"ROW()","v":1138}]
["Grant Parish","Louisiana",1402,1647,1735,1935,1966,{"$f":"ROW()","v":1139}]
["Iberia Parish","Louisiana",1417,1665,1754,1956,1987,{"$f":"ROW()","v":1140}]
["Iberville Parish","Louisiana",1529,1796,1892,2110,2144,{"$f":"ROW()","v":1141}]
["Jackson Parish","Louisiana",1281,1504,1585,1767,1796,{"$f":"ROW()","v":1142}]
["Jefferson Parish","Louisiana",1735,2038,2147,2394,2433,{"$f":"ROW()","v":1143}]
["Jefferson Davis Parish","Louisiana",1412,1658,1747,1948,1979,{"$f":"ROW()","v":1144}]
["Lafayette Parish","Louisiana",1629,1913,2016,2248,2284,{"$f":"ROW()","v":1145}]
["Lafourche Parish","Louisiana",1542,1811,1908,2127,2162,{"$f":"ROW()","v":1146}]
["La Salle Parish","Louisiana",1500,1762,1857,2071,2104,{"$f":"ROW()","v":1147}]
["Lincoln Parish","Louisiana",1589,1866,1966,2192,2227,{"$f":"ROW()","v":1148}]
["Livingston Parish","Louisiana",1647,1934,2038,2272,2309,{"$f":"ROW()","v":1149}]
["Madison Parish","Louisiana",1435,1685,1776,1980,2012,{"$f":"ROW()","v":1150}]
["Morehouse Parish","Louisiana",1338,1572,1656,1846,1876,{"$f":"ROW()","v":1151}]
["Natchitoches Parish","Louisiana",1446,1698,1789,1995,2027,{"$f":"ROW()","v":1152}]
["Orleans Parish","Louisiana",2031,2385,2513,2802,2847,{"$f":"ROW()","v":1153}]
["Ouachita Parish","Louisiana",1527,1794,1890,2107,2141,{"$f":"ROW()","v":1154}]
["Plaquemines Parish","Louisiana",1943,2282,2405,2682,2725,{"$f":"ROW()","v":1155}]
["Pointe Coupee Parish","Louisiana",1618,1900,2002,2232,2268,{"$f":"ROW()","v":1156}]
["Rapides Parish","Louisiana",1526,1793,1889,2106,2140,{"$f":"ROW()","v":1157}]
["Red River Parish","Louisiana",1248,1466,1545,1723,1750,{"$f":"ROW()","v":1158}]
["Richland Parish","Louisiana",1353,1590,1675,1868,1898,{"$f":"ROW()","v":1159}]
["Sabine Parish","Louisiana",1419,1666,1756,1958,1990,{"$f":"ROW()","v":1160}]
["St. Bernard Parish","Louisiana",1409,1655,1744,1945,1976,{"$f":"ROW()","v":1161}]
["St. Charles Parish","Louisiana",1839,2160,2276,2538,2579,{"$f":"ROW()","v":1162}]
["St. Helena Parish","Louisiana",1185,1392,1467,1636,1662,{"$f":"ROW()","v":1163}]
["St. James Parish","Louisiana",1642,1928,2032,2266,2302,{"$f":"ROW()","v":1164}]
["St. John the Baptist Parish","Louisiana",1533,1800,1897,2115,2149,{"$f":"ROW()","v":1165}]
["St. Landry Parish","Louisiana",1371,1610,1697,1892,1923,{"$f":"ROW()","v":1166}]
["St. Martin Parish","Louisiana",1512,1776,1871,2086,2120,{"$f":"ROW()","v":1167}]
["St. Mary Parish","Louisiana",1463,1719,1811,2019,2052,{"$f":"ROW()","v":1168}]
["St. Tammany Parish","Louisiana",1812,2128,2242,2500,2540,{"$f":"ROW()","v":1169}]
["Tangipahoa Parish","Louisiana",1526,1792,1888,2105,2139,{"$f":"ROW()","v":1170}]
["Tensas Parish","Louisiana",1170,1374,1448,1615,1641,{"$f":"ROW()","v":1171}]
["Terrebonne Parish","Louisiana",1594,1872,1973,2200,2235,{"$f":"ROW()","v":1172}]
["Union Parish","Louisiana",1333,1566,1650,1840,1869,{"$f":"ROW()","v":1173}]
["Vermilion Parish","Louisiana",1513,1777,1873,2088,2122,{"$f":"ROW()","v":1174}]
["Vernon Parish","Louisiana",1489,1749,1843,2055,2088,{"$f":"ROW()","v":1175}]
["Washington Parish","Louisiana",1338,1572,1656,1846,1876,{"$f":"ROW()","v":1176}]
["Webster Parish","Louisiana",1304,1532,1614,1800,1829,{"$f":"ROW()","v":1177}]
["West Baton Rouge Parish","Louisiana",1634,1919,2022,2255,2291,{"$f":"ROW()","v":1178}]
["West Carroll Parish","Louisiana",1335,1568,1652,1842,1872,{"$f":"ROW()","v":1179}]
["West Feliciana Parish","Louisiana",1737,2040,2150,2397,2436,{"$f":"ROW()","v":1180}]
["Winn Parish","Louisiana",1268,1489,1569,1749,1778,{"$f":"ROW()","v":1181}]
["Androscoggin County","Maine",1652,1940,2044,2279,2316,{"$f":"ROW()","v":1182}]
["Aroostook County","Maine",1305,1533,1615,1801,1830,{"$f":"ROW()","v":1183}]
["Cumberland County","Maine",2089,2453,2585,2882,2929,{"$f":"ROW()","v":1184}]
["Franklin County","Maine",1405,1650,1739,1939,1970,{"$f":"ROW()","v":1185}]
["Hancock County","Maine",1619,1902,2004,2234,2271,{"$f":"ROW()","v":1186}]
["Kennebec County","Maine",1550,1820,1918,2139,2173,{"$f":"ROW()","v":1187}]
["Knox County","Maine",1738,2041,2151,2398,2437,{"$f":"ROW()","v":1188}]
["Lincoln County","Maine",1644,1931,2035,2269,2306,{"$f":"ROW()","v":1189}]
["Oxford County","Maine",1458,1712,1804,2011,2044,{"$f":"ROW()","v":1190}]
["Penobscot County","Maine",1575,1850,1949,2173,2208,{"$f":"ROW()","v":1191}]
["Piscataquis County","Maine",1405,1650,1739,1939,1970,{"$f":"ROW()","v":1192}]
["Sagadahoc County","Maine",1810,2126,2240,2498,2538,{"$f":"ROW()","v":1193}]
["Somerset County","Maine",1370,1609,1695,1890,1920,{"$f":"ROW()","v":1194}]
["Waldo County","Maine",1553,1824,1922,2143,2178,{"$f":"ROW()","v":1195}]
["Washington County","Maine",1374,1614,1701,1897,1927,{"$f":"ROW()","v":1196}]
["York County","Maine",1941,2279,2402,2678,2721,{"$f":"ROW()","v":1197}]
["Allegany County","Maryland",1345,1579,1664,1855,1885,{"$f":"ROW()","v":1198}]
["Anne Arundel County","Maryland",2345,2754,2902,3236,3288,{"$f":"ROW()","v":1199}]
["Baltimore County","Maryland",1984,2330,2455,2737,2782,{"$f":"ROW()","v":1200}]
["Calvert County","Maryland",2334,2742,2889,3221,3273,{"$f":"ROW()","v":1201}]
["Caroline County","Maryland",1774,2084,2196,2449,2488,{"$f":"ROW()","v":1202}]
["Carroll County","Maryland",2216,2602,2742,3057,3107,{"$f":"ROW()","v":1203}]
["Cecil County","Maryland",2028,2382,2510,2799,2844,{"$f":"ROW()","v":1204}]
["Charles County","Maryland",2435,2859,3013,3359,3414,{"$f":"ROW()","v":1205}]
["Dorchester County","Maryland",1751,2056,2167,2416,2455,{"$f":"ROW()","v":1206}]
["Frederick County","Maryland",2346,2755,2903,3237,3289,{"$f":"ROW()","v":1207}]
["Garrett County","Maryland",1676,1968,2074,2313,2350,{"$f":"ROW()","v":1208}]
["Harford County","Maryland",2070,2431,2562,2857,2903,{"$f":"ROW()","v":1209}]
["Howard County","Maryland",2777,3262,3437,3832,3894,{"$f":"ROW()","v":1210}]
["Kent County","Maryland",1885,2214,2333,2601,2643,{"$f":"ROW()","v":1211}]
["Montgomery County","Maryland",2810,3301,3478,3878,3941,{"$f":"ROW()","v":1212}]
["Prince George's County","Maryland",2384,2800,2950,3289,3342,{"$f":"ROW()","v":1213}]
["Queen Anne's County","Maryland",2338,2745,2893,3226,3278,{"$f":"ROW()","v":1214}]
["St. Mary's County","Maryland",2239,2630,2771,3090,3140,{"$f":"ROW()","v":1215}]
["Somerset County","Maryland",1523,1789,1885,2102,2136,{"$f":"ROW()","v":1216}]
["Talbot County","Maryland",2110,2478,2611,2911,2958,{"$f":"ROW()","v":1217}]
["Washington County","Maryland",1803,2117,2231,2488,2528,{"$f":"ROW()","v":1218}]
["Wicomico County","Maryland",1689,1983,2090,2330,2368,{"$f":"ROW()","v":1219}]
["Worcester County","Maryland",1869,2195,2313,2579,2621,{"$f":"ROW()","v":1220}]
["Baltimore city","Maryland",1749,2055,2165,2414,2453,{"$f":"ROW()","v":1221}]
["Barnstable County","Massachusetts",2334,2742,2889,3221,3273,{"$f":"ROW()","v":1222}]
["Berkshire County","Massachusetts",1831,2150,2266,2527,2567,{"$f":"ROW()","v":1223}]
["Bristol County","Massachusetts",2291,2691,2836,3162,3213,{"$f":"ROW()","v":1224}]
["Dukes County","Massachusetts",3110,3653,3849,4292,4361,{"$f":"ROW()","v":1225}]
["Essex County","Massachusetts",2753,3233,3407,3799,3860,{"$f":"ROW()","v":1226}]
["Franklin County","Massachusetts",1926,2262,2384,2658,2701,{"$f":"ROW()","v":1227}]
["Hampden County","Massachusetts",1931,2268,2390,2665,2708,{"$f":"ROW()","v":1228}]
["Hampshire County","Massachusetts",2201,2585,2724,3037,3086,{"$f":"ROW()","v":1229}]
["Middlesex County","Massachusetts",3026,3554,3745,4176,4243,{"$f":"ROW()","v":1230}]
["Nantucket County","Massachusetts",3634,4268,4497,5014,5095,{"$f":"ROW()","v":1231}]
["Norfolk County","Massachusetts",2976,3495,3683,4107,4173,{"$f":"ROW()","v":1232}]
["Plymouth County","Massachusetts",2671,3137,3306,3686,3746,{"$f":"ROW()","v":1233}]
["Suffolk County","Massachusetts",2813,3303,3481,3881,3944,{"$f":"ROW()","v":1234}]
["Worcester County","Massachusetts",2281,2679,2823,3148,3198,{"$f":"ROW()","v":1235}]
["Alcona County","Michigan",1227,1441,1518,1693,1720,{"$f":"ROW()","v":1236}]
["Alger County","Michigan",1348,1583,1668,1860,1890,{"$f":"ROW()","v":1237}]
["Allegan County","Michigan",1544,1814,1911,2131,2165,{"$f":"ROW()","v":1238}]
["Alpena County","Michigan",1244,1461,1539,1716,1744,{"$f":"ROW()","v":1239}]
["Antrim County","Michigan",1433,1684,1774,1978,2010,{"$f":"ROW()","v":1240}]
["Arenac County","Michigan",1287,1512,1593,1776,1805,{"$f":"ROW()","v":1241}]
["Baraga County","Michigan",1302,1530,1612,1797,1826,{"$f":"ROW()","v":1242}]
["Barry County","Michigan",1643,1929,2033,2267,2303,{"$f":"ROW()","v":1243}]
["Bay County","Michigan",1357,1593,1679,1872,1902,{"$f":"ROW()","v":1244}]
["Benzie County","Michigan",1507,1770,1865,2079,2113,{"$f":"ROW()","v":1245}]
["Berrien County","Michigan",1512,1776,1871,2086,2120,{"$f":"ROW()","v":1246}]
["Branch County","Michigan",1333,1566,1650,1840,1869,{"$f":"ROW()","v":1247}]
["Calhoun County","Michigan",1379,1620,1707,1903,1934,{"$f":"ROW()","v":1248}]
["Cass County","Michigan",1455,1709,1801,2008,2041,{"$f":"ROW()","v":1249}]
["Charlevoix County","Michigan",1485,1744,1838,2049,2082,{"$f":"ROW()","v":1250}]
["Cheboygan County","Michigan",1397,1641,1729,1928,1959,{"$f":"ROW()","v":1251}]
["Chippewa County","Michigan",1315,1545,1628,1815,1845,{"$f":"ROW()","v":1252}]
["Clare County","Michigan",1256,1476,1555,1734,1762,{"$f":"ROW()","v":1253}]
["Clinton County","Michigan",1730,2032,2141,2387,2426,{"$f":"ROW()","v":1254}]
["Crawford County","Michigan",1297,1523,1605,1790,1818,{"$f":"ROW()","v":1255}]
["Delta County","Michigan",1343,1577,1662,1853,1883,{"$f":"ROW()","v":1256}]
["Dickinson County","Michigan",1239,1455,1533,1709,1737,{"$f":"ROW()","v":1257}]
["Eaton County","Michigan",1591,1869,1969,2195,2231,{"$f":"ROW()","v":1258}]
["Emmet County","Michigan",1604,1884,1985,2213,2249,{"$f":"ROW()","v":1259}]
["Genesee County","Michigan",1518,1783,1879,2095,2129,{"$f":"ROW()","v":1260}]
["Gladwin County","Michigan",1337,1571,1655,1845,1875,{"$f":"ROW()","v":1261}]
["Gogebic County","Michigan",1193,1401,1476,1646,1672,{"$f":"ROW()","v":1262}]
["Grand Traverse County","Michigan",1610,1891,1993,2222,2258,{"$f":"ROW()","v":1263}]
["Gratiot County","Michigan",1339,1572,1657,1848,1877,{"$f":"ROW()","v":1264}]
["Hillsdale County","Michigan",1345,1580,1665,1856,1886,{"$f":"ROW()","v":1265}]
["Houghton County","Michigan",1332,1565,1649,1839,1868,{"$f":"ROW()","v":1266}]
["Huron County","Michigan",1265,1485,1565,1745,1773,{"$f":"ROW()","v":1267}]
["Ingham County","Michigan",1567,1840,1939,2162,2197,{"$f":"ROW()","v":1268}]
["Ionia County","Michigan",1448,1701,1792,1998,2030,{"$f":"ROW()","v":1269}]
["Iosco County","Michigan",1173,1378,1452,1619,1645,{"$f":"ROW()","v":1270}]
["Iron County","Michigan",1298,1525,1607,1792,1821,{"$f":"ROW()","v":1271}]
["Isabella County","Michigan",1438,1689,1780,1985,2017,{"$f":"ROW()","v":1272}]
["Jackson County","Michigan",1450,1703,1795,2001,2034,{"$f":"ROW()","v":1273}]
["Kalamazoo County","Michigan",1622,1905,2007,2238,2274,{"$f":"ROW()","v":1274}]
["Kalkaska County","Michigan",1363,1601,1687,1881,1911,{"$f":"ROW()","v":1275}]
["Kent County","Michigan",1616,1898,2000,2230,2266,{"$f":"ROW()","v":1276}]
["Keweenaw County","Michigan",1336,1570,1654,1844,1874,{"$f":"ROW()","v":1277}]
["Lake County","Michigan",1296,1522,1604,1788,1817,{"$f":"ROW()","v":1278}]
["Lapeer County","Michigan",1586,1863,1963,2189,2224,{"$f":"ROW()","v":1279}]
["Leelanau County","Michigan",1751,2056,2167,2416,2455,{"$f":"ROW()","v":1280}]
["Lenawee County","Michigan",1488,1747,1841,2053,2086,{"$f":"ROW()","v":1281}]
["Livingston County","Michigan",1887,2217,2336,2605,2647,{"$f":"ROW()","v":1282}]
["Luce County","Michigan",1193,1401,1476,1646,1672,{"$f":"ROW()","v":1283}]
["Mackinac County","Michigan",1358,1595,1681,1874,1905,{"$f":"ROW()","v":1284}]
["Macomb County","Michigan",1673,1964,2070,2308,2345,{"$f":"ROW()","v":1285}]
["Manistee County","Michigan",1361,1599,1685,1879,1909,{"$f":"ROW()","v":1286}]
["Marquette County","Michigan",1455,1709,1801,2008,2041,{"$f":"ROW()","v":1287}]
["Mason County","Michigan",1401,1646,1734,1933,1965,{"$f":"ROW()","v":1288}]
["Mecosta County","Michigan",1367,1606,1692,1887,1917,{"$f":"ROW()","v":1289}]
["Menominee County","Michigan",1273,1495,1575,1756,1784,{"$f":"ROW()","v":1290}]
["Midland County","Michigan",1536,1804,1901,2120,2154,{"$f":"ROW()","v":1291}]
["Missaukee County","Michigan",1376,1616,1703,1899,1929,{"$f":"ROW()","v":1292}]
["Monroe County","Michigan",1613,1894,1996,2226,2261,{"$f":"ROW()","v":1293}]
["Montcalm County","Michigan",1398,1642,1730,1929,1960,{"$f":"ROW()","v":1294}]
["Montmorency County","Michigan",1224,1438,1515,1689,1716,{"$f":"ROW()","v":1295}]
["Muskegon County","Michigan",1386,1628,1715,1912,1943,{"$f":"ROW()","v":1296}]
["Newaygo County","Michigan",1411,1657,1746,1947,1978,{"$f":"ROW()","v":1297}]
["Oakland County","Michigan",1970,2314,2438,2718,2762,{"$f":"ROW()","v":1298}]
["Oceana County","Michigan",1397,1641,1729,1928,1959,{"$f":"ROW()","v":1299}]
["Ogemaw County","Michigan",1264,1484,1564,1744,1772,{"$f":"ROW()","v":1300}]
["Ontonagon County","Michigan",1177,1383,1457,1625,1651,{"$f":"ROW()","v":1301}]
["Osceola County","Michigan",1297,1523,1605,1790,1818,{"$f":"ROW()","v":1302}]
["Oscoda County","Michigan",1202,1412,1488,1659,1686,{"$f":"ROW()","v":1303}]
["Otsego County","Michigan",1403,1647,1736,1936,1967,{"$f":"ROW()","v":1304}]
["Ottawa County","Michigan",1666,1957,2062,2299,2336,{"$f":"ROW()","v":1305}]
["Presque Isle County","Michigan",1236,1452,1530,1706,1733,{"$f":"ROW()","v":1306}]
["Roscommon County","Michigan",1256,1476,1555,1734,1762,{"$f":"ROW()","v":1307}]
["Saginaw County","Michigan",1382,1623,1710,1907,1937,{"$f":"ROW()","v":1308}]
["St. Clair County","Michigan",1555,1826,1924,2145,2180,{"$f":"ROW()","v":1309}]
["St. Joseph County","Michigan",1378,1619,1706,1902,1933,{"$f":"ROW()","v":1310}]
["Sanilac County","Michigan",1324,1555,1639,1827,1857,{"$f":"ROW()","v":1311}]
["Schoolcraft County","Michigan",1316,1546,1629,1816,1846,{"$f":"ROW()","v":1312}]
["Shiawassee County","Michigan",1403,1648,1737,1937,1968,{"$f":"ROW()","v":1313}]
["Tuscola County","Michigan",1350,1586,1671,1863,1893,{"$f":"ROW()","v":1314}]
["Van Buren County","Michigan",1505,1768,1863,2077,2111,{"$f":"ROW()","v":1315}]
["Washtenaw County","Michigan",2075,2437,2568,2863,2910,{"$f":"ROW()","v":1316}]
["Wayne County","Michigan",1612,1893,1995,2224,2260,{"$f":"ROW()","v":1317}]
["Wexford County","Michigan",1374,1613,1700,1896,1926,{"$f":"ROW()","v":1318}]
["Aitkin County","Minnesota",1574,1849,1948,2172,2207,{"$f":"ROW()","v":1319}]
["Anoka County","Minnesota",1933,2270,2392,2667,2710,{"$f":"ROW()","v":1320}]
["Becker County","Minnesota",1702,1999,2106,2348,2386,{"$f":"ROW()","v":1321}]
["Beltrami County","Minnesota",1623,1907,2009,2240,2276,{"$f":"ROW()","v":1322}]
["Benton County","Minnesota",1710,2008,2116,2359,2397,{"$f":"ROW()","v":1323}]
["Big Stone County","Minnesota",1275,1498,1578,1759,1788,{"$f":"ROW()","v":1324}]
["Blue Earth County","Minnesota",1694,1989,2096,2337,2375,{"$f":"ROW()","v":1325}]
["Brown County","Minnesota",1463,1719,1811,2019,2052,{"$f":"ROW()","v":1326}]
["Carlton County","Minnesota",1690,1984,2091,2331,2369,{"$f":"ROW()","v":1327}]
["Carver County","Minnesota",2351,2762,2910,3245,3297,{"$f":"ROW()","v":1328}]
["Cass County","Minnesota",1586,1863,1963,2189,2224,{"$f":"ROW()","v":1329}]
["Chippewa County","Minnesota",1471,1727,1820,2029,2062,{"$f":"ROW()","v":1330}]
["Chisago County","Minnesota",1982,2328,2453,2735,2779,{"$f":"ROW()","v":1331}]
["Clay County","Minnesota",1813,2130,2244,2502,2542,{"$f":"ROW()","v":1332}]
["Clearwater County","Minnesota",1568,1841,1940,2163,2198,{"$f":"ROW()","v":1333}]
["Cook County","Minnesota",1768,2076,2188,2440,2479,{"$f":"ROW()","v":1334}]
["Cottonwood County","Minnesota",1414,1661,1750,1951,1983,{"$f":"ROW()","v":1335}]
["Crow Wing County","Minnesota",1621,1904,2006,2237,2273,{"$f":"ROW()","v":1336}]
["Dakota County","Minnesota",2060,2419,2549,2842,2888,{"$f":"ROW()","v":1337}]
["Dodge County","Minnesota",1812,2128,2242,2500,2540,{"$f":"ROW()","v":1338}]
["Douglas County","Minnesota",1738,2041,2151,2398,2437,{"$f":"ROW()","v":1339}]
["Faribault County","Minnesota",1352,1588,1673,1865,1896,{"$f":"ROW()","v":1340}]
["Fillmore County","Minnesota",1559,1832,1930,2152,2187,{"$f":"ROW()","v":1341}]
["Freeborn County","Minnesota",1421,1669,1759,1961,1993,{"$f":"ROW()","v":1342}]
["Goodhue County","Minnesota",1787,2099,2212,2466,2506,{"$f":"ROW()","v":1343}]
["Grant County","Minnesota",1440,1691,1782,1987,2019,{"$f":"ROW()","v":1344}]
["Hennepin County","Minnesota",2150,2525,2661,2967,3015,{"$f":"ROW()","v":1345}]
["Houston County","Minnesota",1684,1978,2084,2324,2361,{"$f":"ROW()","v":1346}]
["Hubbard County","Minnesota",1694,1989,2096,2337,2375,{"$f":"ROW()","v":1347}]
["Isanti County","Minnesota",1852,2175,2292,2556,2597,{"$f":"ROW()","v":1348}]
["Itasca County","Minnesota",1546,1815,1913,2133,2167,{"$f":"ROW()","v":1349}]
["Jackson County","Minnesota",1365,1603,1689,1883,1914,{"$f":"ROW()","v":1350}]
["Kanabec County","Minnesota",1620,1903,2005,2236,2272,{"$f":"ROW()","v":1351}]
["Kandiyohi County","Minnesota",1628,1912,2015,2247,2283,{"$f":"ROW()","v":1352}]
["Kittson County","Minnesota",1430,1680,1770,1974,2005,{"$f":"ROW()","v":1353}]
["Koochiching County","Minnesota",1303,1531,1613,1798,1828,{"$f":"ROW()","v":1354}]
["Lac qui Parle County","Minnesota",1374,1614,1701,1897,1927,{"$f":"ROW()","v":1355}]
["Lake County","Minnesota",1537,1805,1902,2121,2155,{"$f":"ROW()","v":1356}]
["Lake of the Woods County","Minnesota",1546,1815,1913,2133,2167,{"$f":"ROW()","v":1357}]
["Le Sueur County","Minnesota",1811,2127,2241,2499,2539,{"$f":"ROW()","v":1358}]
["Lincoln County","Minnesota",1375,1615,1702,1898,1928,{"$f":"ROW()","v":1359}]
["Lyon County","Minnesota",1517,1781,1877,2093,2127,{"$f":"ROW()","v":1360}]
["McLeod County","Minnesota",1702,1999,2106,2348,2386,{"$f":"ROW()","v":1361}]
["Mahnomen County","Minnesota",1454,1708,1800,2007,2039,{"$f":"ROW()","v":1362}]
["Marshall County","Minnesota",1436,1686,1777,1981,2013,{"$f":"ROW()","v":1363}]
["Martin County","Minnesota",1350,1586,1671,1863,1893,{"$f":"ROW()","v":1364}]
["Meeker County","Minnesota",1621,1904,2006,2237,2273,{"$f":"ROW()","v":1365}]
["Mille Lacs County","Minnesota",1692,1987,2094,2335,2373,{"$f":"ROW()","v":1366}]
["Morrison County","Minnesota",1598,1877,1978,2205,2241,{"$f":"ROW()","v":1367}]
["Mower County","Minnesota",1406,1651,1740,1940,1971,{"$f":"ROW()","v":1368}]
["Murray County","Minnesota",1438,1689,1780,1985,2017,{"$f":"ROW()","v":1369}]
["Nicollet County","Minnesota",1734,2037,2146,2393,2431,{"$f":"ROW()","v":1370}]
["Nobles County","Minnesota",1499,1760,1855,2068,2102,{"$f":"ROW()","v":1371}]
["Norman County","Minnesota",1364,1602,1688,1882,1913,{"$f":"ROW()","v":1372}]
["Olmsted County","Minnesota",1879,2206,2325,2592,2634,{"$f":"ROW()","v":1373}]
["Otter Tail County","Minnesota",1620,1903,2005,2236,2272,{"$f":"ROW()","v":1374}]
["Pennington County","Minnesota",1534,1801,1898,2116,2150,{"$f":"ROW()","v":1375}]
["Pine County","Minnesota",1597,1876,1977,2204,2240,{"$f":"ROW()","v":1376}]
["Pipestone County","Minnesota",1292,1517,1599,1783,1812,{"$f":"ROW()","v":1377}]
["Polk County","Minnesota",1653,1942,2046,2281,2318,{"$f":"ROW()","v":1378}]
["Pope County","Minnesota",1647,1934,2038,2272,2309,{"$f":"ROW()","v":1379}]
["Ramsey County","Minnesota",1931,2268,2390,2665,2708,{"$f":"ROW()","v":1380}]
["Red Lake County","Minnesota",1576,1851,1950,2174,2209,{"$f":"ROW()","v":1381}]
["Redwood County","Minnesota",1400,1645,1733,1932,1963,{"$f":"ROW()","v":1382}]
["Renville County","Minnesota",1498,1759,1854,2067,2101,{"$f":"ROW()","v":1383}]
["Rice County","Minnesota",1871,2197,2315,2581,2623,{"$f":"ROW()","v":1384}]
["Rock County","Minnesota",1519,1784,1880,2096,2130,{"$f":"ROW()","v":1385}]
["Roseau County","Minnesota",1526,1793,1889,2106,2140,{"$f":"ROW()","v":1386}]
["St. Louis County","Minnesota",1575,1850,1949,2173,2208,{"$f":"ROW()","v":1387}]
["Scott County","Minnesota",2237,2628,2769,3087,3137,{"$f":"ROW()","v":1388}]
["Sherburne County","Minnesota",1942,2280,2403,2679,2723,{"$f":"ROW()","v":1389}]
["Sibley County","Minnesota",1627,1910,2013,2244,2281,{"$f":"ROW()","v":1390}]
["Stearns County","Minnesota",1715,2015,2123,2367,2405,{"$f":"ROW()","v":1391}]
["Steele County","Minnesota",1697,1993,2100,2342,2379,{"$f":"ROW()","v":1392}]
["Stevens County","Minnesota",1496,1758,1852,2065,2098,{"$f":"ROW()","v":1393}]
["Swift County","Minnesota",1441,1692,1783,1988,2020,{"$f":"ROW()","v":1394}]
["Todd County","Minnesota",1454,1707,1799,2006,2038,{"$f":"ROW()","v":1395}]
["Traverse County","Minnesota",1427,1676,1766,1969,2001,{"$f":"ROW()","v":1396}]
["Wabasha County","Minnesota",1731,2033,2142,2388,2427,{"$f":"ROW()","v":1397}]
["Wadena County","Minnesota",1412,1658,1747,1948,1979,{"$f":"ROW()","v":1398}]
["Waseca County","Minnesota",1570,1844,1943,2166,2201,{"$f":"ROW()","v":1399}]
["Washington County","Minnesota",2208,2594,2733,3047,3096,{"$f":"ROW()","v":1400}]
["Watonwan County","Minnesota",1392,1635,1723,1921,1952,{"$f":"ROW()","v":1401}]
["Wilkin County","Minnesota",1416,1664,1753,1955,1986,{"$f":"ROW()","v":1402}]
["Winona County","Minnesota",1556,1828,1926,2147,2182,{"$f":"ROW()","v":1403}]
["Wright County","Minnesota",2016,2368,2495,2782,2827,{"$f":"ROW()","v":1404}]
["Yellow Medicine County","Minnesota",1498,1759,1854,2067,2101,{"$f":"ROW()","v":1405}]
["Adams County","Mississippi",1259,1479,1558,1737,1765,{"$f":"ROW()","v":1406}]
["Alcorn County","Mississippi",1312,1541,1624,1811,1840,{"$f":"ROW()","v":1407}]
["Amite County","Mississippi",1228,1442,1520,1695,1722,{"$f":"ROW()","v":1408}]
["Attala County","Mississippi",1231,1445,1523,1698,1726,{"$f":"ROW()","v":1409}]
["Benton County","Mississippi",1203,1413,1489,1660,1687,{"$f":"ROW()","v":1410}]
["Bolivar County","Mississippi",1373,1612,1699,1894,1925,{"$f":"ROW()","v":1411}]
["Calhoun County","Mississippi",1237,1453,1531,1707,1735,{"$f":"ROW()","v":1412}]
["Carroll County","Mississippi",1345,1579,1664,1855,1885,{"$f":"ROW()","v":1413}]
["Chickasaw County","Mississippi",1147,1347,1419,1582,1608,{"$f":"ROW()","v":1414}]
["Choctaw County","Mississippi",1340,1573,1658,1849,1879,{"$f":"ROW()","v":1415}]
["Claiborne County","Mississippi",1270,1492,1572,1753,1781,{"$f":"ROW()","v":1416}]
["Clarke County","Mississippi",1425,1674,1764,1967,1999,{"$f":"ROW()","v":1417}]
["Clay County","Mississippi",1300,1527,1609,1794,1823,{"$f":"ROW()","v":1418}]
["Coahoma County","Mississippi",1373,1612,1699,1894,1925,{"$f":"ROW()","v":1419}]
["Copiah County","Mississippi",1405,1650,1739,1939,1970,{"$f":"ROW()","v":1420}]
["Covington County","Mississippi",1255,1474,1553,1732,1760,{"$f":"ROW()","v":1421}]
["DeSoto County","Mississippi",1656,1945,2049,2285,2322,{"$f":"ROW()","v":1422}]
["Forrest County","Mississippi",1438,1689,1780,1985,2017,{"$f":"ROW()","v":1423}]
["Franklin County","Mississippi",1338,1572,1656,1846,1876,{"$f":"ROW()","v":1424}]
["George County","Mississippi",1426,1675,1765,1968,2000,{"$f":"ROW()","v":1425}]
["Greene County","Mississippi",1268,1489,1569,1749,1778,{"$f":"ROW()","v":1426}]
["Grenada County","Mississippi",1241,1458,1536,1713,1740,{"$f":"ROW()","v":1427}]
["Hancock County","Mississippi",1640,1926,2030,2263,2300,{"$f":"ROW()","v":1428}]
["Harrison County","Mississippi",1525,1791,1887,2104,2138,{"$f":"ROW()","v":1429}]
["Hinds County","Mississippi",1467,1722,1815,2024,2056,{"$f":"ROW()","v":1430}]
["Holmes County","Mississippi",1138,1336,1408,1570,1595,{"$f":"ROW()","v":1431}]
["Humphreys County","Mississippi",1331,1563,1647,1836,1866,{"$f":"ROW()","v":1432}]
["Issaquena County","Mississippi",1314,1543,1626,1813,1842,{"$f":"ROW()","v":1433}]
["Itawamba County","Mississippi",1199,1408,1484,1655,1681,{"$f":"ROW()","v":1434}]
["Jackson County","Mississippi",1568,1842,1941,2164,2199,{"$f":"ROW()","v":1435}]
["Jasper County","Mississippi",1312,1541,1624,1811,1840,{"$f":"ROW()","v":1436}]
["Jefferson County","Mississippi",1133,1330,1402,1563,1588,{"$f":"ROW()","v":1437}]
["Jefferson Davis County","Mississippi",1211,1423,1499,1671,1698,{"$f":"ROW()","v":1438}]
["Jones County","Mississippi",1364,1602,1688,1882,1913,{"$f":"ROW()","v":1439}]
["Kemper County","Mississippi",1155,1357,1430,1594,1620,{"$f":"ROW()","v":1440}]
["Lafayette County","Mississippi",1701,1998,2105,2347,2385,{"$f":"ROW()","v":1441}]
["Lamar County","Mississippi",1639,1925,2028,2261,2298,{"$f":"ROW()","v":1442}]
["Lauderdale County","Mississippi",1437,1687,1778,1982,2014,{"$f":"ROW()","v":1443}]
["Lawrence County","Mississippi",1303,1531,1613,1798,1828,{"$f":"ROW()","v":1444}]
["Leake County","Mississippi",1364,1602,1688,1882,1913,{"$f":"ROW()","v":1445}]
["Lee County","Mississippi",1430,1680,1770,1974,2005,{"$f":"ROW()","v":1446}]
["Leflore County","Mississippi",1326,1557,1641,1830,1859,{"$f":"ROW()","v":1447}]
["Lincoln County","Mississippi",1420,1667,1757,1959,1991,{"$f":"ROW()","v":1448}]
["Lowndes County","Mississippi",1389,1631,1719,1917,1948,{"$f":"ROW()","v":1449}]
["Madison County","Mississippi",1780,2091,2203,2456,2496,{"$f":"ROW()","v":1450}]
["Marion County","Mississippi",1350,1586,1671,1863,1893,{"$f":"ROW()","v":1451}]
["Marshall County","Mississippi",1483,1742,1836,2047,2080,{"$f":"ROW()","v":1452}]
["Monroe County","Mississippi",1281,1504,1585,1767,1796,{"$f":"ROW()","v":1453}]
["Montgomery County","Mississippi",1312,1541,1624,1811,1840,{"$f":"ROW()","v":1454}]
["Neshoba County","Mississippi",1255,1474,1553,1732,1760,{"$f":"ROW()","v":1455}]
["Newton County","Mississippi",1291,1517,1598,1782,1811,{"$f":"ROW()","v":1456}]
["Noxubee County","Mississippi",1303,1531,1613,1798,1828,{"$f":"ROW()","v":1457}]
["Oktibbeha County","Mississippi",1617,1899,2001,2231,2267,{"$f":"ROW()","v":1458}]
["Panola County","Mississippi",1326,1557,1641,1830,1859,{"$f":"ROW()","v":1459}]
["Pearl River County","Mississippi",1494,1755,1849,2062,2095,{"$f":"ROW()","v":1460}]
["Perry County","Mississippi",1513,1777,1873,2088,2122,{"$f":"ROW()","v":1461}]
["Pike County","Mississippi",1390,1632,1720,1918,1949,{"$f":"ROW()","v":1462}]
["Pontotoc County","Mississippi",1302,1529,1611,1796,1825,{"$f":"ROW()","v":1463}]
["Prentiss County","Mississippi",1265,1486,1566,1746,1774,{"$f":"ROW()","v":1464}]
["Quitman County","Mississippi",1159,1362,1435,1600,1626,{"$f":"ROW()","v":1465}]
["Rankin County","Mississippi",1616,1898,2000,2230,2266,{"$f":"ROW()","v":1466}]
["Scott County","Mississippi",1266,1487,1567,1747,1775,{"$f":"ROW()","v":1467}]
["Sharkey County","Mississippi",1551,1822,1920,2141,2175,{"$f":"ROW()","v":1468}]
["Simpson County","Mississippi",1345,1579,1664,1855,1885,{"$f":"ROW()","v":1469}]
["Smith County","Mississippi",1277,1500,1581,1763,1791,{"$f":"ROW()","v":1470}]
["Stone County","Mississippi",1336,1569,1653,1843,1873,{"$f":"ROW()","v":1471}]
["Sunflower County","Mississippi",1268,1489,1569,1749,1778,{"$f":"ROW()","v":1472}]
["Tallahatchie County","Mississippi",1204,1414,1490,1661,1688,{"$f":"ROW()","v":1473}]
["Tate County","Mississippi",1568,1841,1940,2163,2198,{"$f":"ROW()","v":1474}]
["Tippah County","Mississippi",1336,1570,1654,1844,1874,{"$f":"ROW()","v":1475}]
["Tishomingo County","Mississippi",1292,1517,1599,1783,1812,{"$f":"ROW()","v":1476}]
["Tunica County","Mississippi",1547,1817,1915,2135,2170,{"$f":"ROW()","v":1477}]
["Union County","Mississippi",1259,1479,1558,1737,1765,{"$f":"ROW()","v":1478}]
["Walthall County","Mississippi",1392,1635,1723,1921,1952,{"$f":"ROW()","v":1479}]
["Warren County","Mississippi",1491,1751,1845,2057,2090,{"$f":"ROW()","v":1480}]
["Washington County","Mississippi",1381,1622,1709,1906,1936,{"$f":"ROW()","v":1481}]
["Wayne County","Mississippi",1250,1468,1547,1725,1753,{"$f":"ROW()","v":1482}]
["Webster County","Mississippi",1279,1502,1583,1765,1794,{"$f":"ROW()","v":1483}]
["Wilkinson County","Mississippi",1279,1502,1583,1765,1794,{"$f":"ROW()","v":1484}]
["Winston County","Mississippi",1344,1578,1663,1854,1884,{"$f":"ROW()","v":1485}]
["Yalobusha County","Mississippi",1211,1423,1499,1671,1698,{"$f":"ROW()","v":1486}]
["Yazoo County","Mississippi",1462,1718,1810,2018,2051,{"$f":"ROW()","v":1487}]
["Adair County","Missouri",1279,1502,1583,1765,1794,{"$f":"ROW()","v":1488}]
["Andrew County","Missouri",1492,1752,1846,2058,2092,{"$f":"ROW()","v":1489}]
["Atchison County","Missouri",1183,1389,1464,1632,1659,{"$f":"ROW()","v":1490}]
["Audrain County","Missouri",1179,1385,1459,1627,1653,{"$f":"ROW()","v":1491}]
["Barry County","Missouri",1362,1600,1686,1880,1910,{"$f":"ROW()","v":1492}]
["Barton County","Missouri",1288,1513,1594,1777,1806,{"$f":"ROW()","v":1493}]
["Bates County","Missouri",1372,1611,1698,1893,1924,{"$f":"ROW()","v":1494}]
["Benton County","Missouri",1281,1504,1585,1767,1796,{"$f":"ROW()","v":1495}]
["Bollinger County","Missouri",1215,1427,1504,1677,1704,{"$f":"ROW()","v":1496}]
["Boone County","Missouri",1636,1922,2025,2258,2294,{"$f":"ROW()","v":1497}]
["Buchanan County","Missouri",1401,1646,1734,1933,1965,{"$f":"ROW()","v":1498}]
["Butler County","Missouri",1233,1448,1526,1701,1729,{"$f":"ROW()","v":1499}]
["Caldwell County","Missouri",1405,1650,1739,1939,1970,{"$f":"ROW()","v":1500}]
["Callaway County","Missouri",1515,1779,1875,2091,2124,{"$f":"ROW()","v":1501}]
["Camden County","Missouri",1542,1812,1909,2129,2163,{"$f":"ROW()","v":1502}]
["Cape Girardeau County","Missouri",1477,1735,1828,2038,2071,{"$f":"ROW()","v":1503}]
["Carroll County","Missouri",1239,1455,1533,1709,1737,{"$f":"ROW()","v":1504}]
["Carter County","Missouri",1388,1630,1718,1916,1946,{"$f":"ROW()","v":1505}]
["Cass County","Missouri",1735,2038,2147,2394,2433,{"$f":"ROW()","v":1506}]
["Cedar County","Missouri",1270,1492,1572,1753,1781,{"$f":"ROW()","v":1507}]
["Chariton County","Missouri",1276,1498,1579,1761,1789,{"$f":"ROW()","v":1508}]
["Christian County","Missouri",1581,1857,1957,2182,2217,{"$f":"ROW()","v":1509}]
["Clark County","Missouri",1309,1537,1620,1806,1835,{"$f":"ROW()","v":1510}]
["Clay County","Missouri",1737,2040,2150,2397,2436,{"$f":"ROW()","v":1511}]
["Clinton County","Missouri",1575,1850,1949,2173,2208,{"$f":"ROW()","v":1512}]
["Cole County","Missouri",1488,1747,1841,2053,2086,{"$f":"ROW()","v":1513}]
["Cooper County","Missouri",1339,1572,1657,1848,1877,{"$f":"ROW()","v":1514}]
["Crawford County","Missouri",1377,1617,1704,1900,1931,{"$f":"ROW()","v":1515}]
["Dade County","Missouri",1227,1441,1518,1693,1720,{"$f":"ROW()","v":1516}]
["Dallas County","Missouri",1268,1489,1569,1749,1778,{"$f":"ROW()","v":1517}]
["Daviess County","Missouri",1492,1752,1846,2058,2092,{"$f":"ROW()","v":1518}]
["DeKalb County","Missouri",1520,1785,1881,2097,2131,{"$f":"ROW()","v":1519}]
["Dent County","Missouri",1294,1520,1602,1786,1815,{"$f":"ROW()","v":1520}]
["Douglas County","Missouri",1201,1411,1487,1658,1685,{"$f":"ROW()","v":1521}]
["Dunklin County","Missouri",1220,1433,1510,1684,1711,{"$f":"ROW()","v":1522}]
["Franklin County","Missouri",1526,1792,1888,2105,2139,{"$f":"ROW()","v":1523}]
["Gasconade County","Missouri",1343,1577,1662,1853,1883,{"$f":"ROW()","v":1524}]
["Gentry County","Missouri",1267,1488,1568,1748,1777,{"$f":"ROW()","v":1525}]
["Greene County","Missouri",1422,1670,1760,1962,1994,{"$f":"ROW()","v":1526}]
["Grundy County","Missouri",1252,1471,1550,1728,1756,{"$f":"ROW()","v":1527}]
["Harrison County","Missouri",1338,1572,1656,1846,1876,{"$f":"ROW()","v":1528}]
["Henry County","Missouri",1348,1583,1668,1860,1890,{"$f":"ROW()","v":1529}]
["Hickory County","Missouri",1101,1293,1363,1520,1544,{"$f":"ROW()","v":1530}]
["Holt County","Missouri",1233,1448,1526,1701,1729,{"$f":"ROW()","v":1531}]
["Howard County","Missouri",1386,1628,1715,1912,1943,{"$f":"ROW()","v":1532}]
["Howell County","Missouri",1223,1436,1513,1687,1714,{"$f":"ROW()","v":1533}]
["Iron County","Missouri",1223,1436,1513,1687,1714,{"$f":"ROW()","v":1534}]
["Jackson County","Missouri",1643,1930,2034,2268,2305,{"$f":"ROW()","v":1535}]
["Jasper County","Missouri",1308,1536,1619,1805,1834,{"$f":"ROW()","v":1536}]
["Jefferson County","Missouri",1614,1895,1997,2227,2263,{"$f":"ROW()","v":1537}]
["Johnson County","Missouri",1568,1841,1940,2163,2198,{"$f":"ROW()","v":1538}]
["Knox County","Missouri",1302,1529,1611,1796,1825,{"$f":"ROW()","v":1539}]
["Laclede County","Missouri",1288,1513,1594,1777,1806,{"$f":"ROW()","v":1540}]
["Lafayette County","Missouri",1479,1737,1830,2040,2073,{"$f":"ROW()","v":1541}]
["Lawrence County","Missouri",1268,1489,1569,1749,1778,{"$f":"ROW()","v":1542}]
["Lewis County","Missouri",1107,1300,1370,1528,1552,{"$f":"ROW()","v":1543}]
["Lincoln County","Missouri",1591,1869,1969,2195,2231,{"$f":"ROW()","v":1544}]
["Linn County","Missouri",1165,1368,1442,1608,1634,{"$f":"ROW()","v":1545}]
["Livingston County","Missouri",1307,1535,1617,1803,1832,{"$f":"ROW()","v":1546}]
["McDonald County","Missouri",1228,1442,1520,1695,1722,{"$f":"ROW()","v":1547}]
["Macon County","Missouri",1189,1397,1472,1641,1668,{"$f":"ROW()","v":1548}]
["Madison County","Missouri",1239,1456,1534,1710,1738,{"$f":"ROW()","v":1549}]
["Maries County","Missouri",1324,1554,1638,1826,1856,{"$f":"ROW()","v":1550}]
["Marion County","Missouri",1326,1557,1641,1830,1859,{"$f":"ROW()","v":1551}]
["Mercer County","Missouri",1154,1355,1428,1592,1618,{"$f":"ROW()","v":1552}]
["Miller County","Missouri",1332,1565,1649,1839,1868,{"$f":"ROW()","v":1553}]
["Mississippi County","Missouri",1136,1334,1406,1568,1593,{"$f":"ROW()","v":1554}]
["Moniteau County","Missouri",1369,1608,1694,1889,1919,{"$f":"ROW()","v":1555}]
["Monroe County","Missouri",1338,1572,1656,1846,1876,{"$f":"ROW()","v":1556}]
["Montgomery County","Missouri",1401,1646,1734,1933,1965,{"$f":"ROW()","v":1557}]
["Morgan County","Missouri",1336,1570,1654,1844,1874,{"$f":"ROW()","v":1558}]
["New Madrid County","Missouri",1247,1464,1543,1720,1748,{"$f":"ROW()","v":1559}]
["Newton County","Missouri",1366,1604,1690,1884,1915,{"$f":"ROW()","v":1560}]
["Nodaway County","Missouri",1365,1603,1689,1883,1914,{"$f":"ROW()","v":1561}]
["Oregon County","Missouri",1198,1407,1483,1654,1680,{"$f":"ROW()","v":1562}]
["Osage County","Missouri",1479,1737,1830,2040,2073,{"$f":"ROW()","v":1563}]
["Ozark County","Missouri",1284,1508,1589,1772,1800,{"$f":"ROW()","v":1564}]
["Pemiscot County","Missouri",1358,1595,1681,1874,1905,{"$f":"ROW()","v":1565}]
["Perry County","Missouri",1370,1610,1696,1891,1922,{"$f":"ROW()","v":1566}]
["Pettis County","Missouri",1322,1553,1636,1824,1854,{"$f":"ROW()","v":1567}]
["Phelps County","Missouri",1489,1749,1843,2055,2088,{"$f":"ROW()","v":1568}]
["Pike County","Missouri",1248,1465,1544,1722,1749,{"$f":"ROW()","v":1569}]
["Platte County","Missouri",1941,2279,2402,2678,2721,{"$f":"ROW()","v":1570}]
["Polk County","Missouri",1366,1604,1690,1884,1915,{"$f":"ROW()","v":1571}]
["Pulaski County","Missouri",1466,1721,1814,2023,2055,{"$f":"ROW()","v":1572}]
["Putnam County","Missouri",1253,1472,1551,1729,1757,{"$f":"ROW()","v":1573}]
["Ralls County","Missouri",1384,1626,1713,1910,1941,{"$f":"ROW()","v":1574}]
["Randolph County","Missouri",1301,1528,1610,1795,1824,{"$f":"ROW()","v":1575}]
["Ray County","Missouri",1496,1757,1851,2064,2097,{"$f":"ROW()","v":1576}]
["Reynolds County","Missouri",1171,1375,1449,1616,1642,{"$f":"ROW()","v":1577}]
["Ripley County","Missouri",1147,1348,1420,1583,1609,{"$f":"ROW()","v":1578}]
["St. Charles County","Missouri",1862,2186,2304,2569,2610,{"$f":"ROW()","v":1579}]
["St. Clair County","Missouri",1190,1398,1473,1642,1669,{"$f":"ROW()","v":1580}]
["Ste. Genevieve County","Missouri",1398,1642,1730,1929,1960,{"$f":"ROW()","v":1581}]
["St. Francois County","Missouri",1293,1518,1600,1784,1813,{"$f":"ROW()","v":1582}]
["St. Louis County","Missouri",1812,2128,2242,2500,2540,{"$f":"ROW()","v":1583}]
["Saline County","Missouri",1311,1540,1623,1810,1839,{"$f":"ROW()","v":1584}]
["Schuyler County","Missouri",1172,1377,1451,1618,1644,{"$f":"ROW()","v":1585}]
["Scotland County","Missouri",1368,1607,1693,1888,1918,{"$f":"ROW()","v":1586}]
["Scott County","Missouri",1276,1498,1579,1761,1789,{"$f":"ROW()","v":1587}]
["Shannon County","Missouri",1227,1442,1519,1694,1721,{"$f":"ROW()","v":1588}]
["Shelby County","Missouri",1179,1385,1459,1627,1653,{"$f":"ROW()","v":1589}]
["Stoddard County","Missouri",1259,1479,1558,1737,1765,{"$f":"ROW()","v":1590}]
["Stone County","Missouri",1526,1793,1889,2106,2140,{"$f":"ROW()","v":1591}]
["Sullivan County","Missouri",1285,1509,1590,1773,1801,{"$f":"ROW()","v":1592}]
["Taney County","Missouri",1417,1665,1754,1956,1987,{"$f":"ROW()","v":1593}]
["Texas County","Missouri",1170,1374,1448,1615,1641,{"$f":"ROW()","v":1594}]
["Vernon County","Missouri",1291,1517,1598,1782,1811,{"$f":"ROW()","v":1595}]
["Warren County","Missouri",1577,1852,1952,2176,2212,{"$f":"ROW()","v":1596}]
["Washington County","Missouri",1267,1488,1568,1748,1777,{"$f":"ROW()","v":1597}]
["Wayne County","Missouri",1256,1475,1554,1733,1761,{"$f":"ROW()","v":1598}]
["Webster County","Missouri",1368,1607,1693,1888,1918,{"$f":"ROW()","v":1599}]
["Worth County","Missouri",1271,1493,1573,1754,1782,{"$f":"ROW()","v":1600}]
["Wright County","Missouri",1187,1394,1469,1638,1664,{"$f":"ROW()","v":1601}]
["St. Louis city","Missouri",1577,1852,1952,2176,2212,{"$f":"ROW()","v":1602}]
["Beaverhead County","Montana",1622,1906,2008,2239,2275,{"$f":"ROW()","v":1603}]
["Big Horn County","Montana",1457,1711,1803,2010,2043,{"$f":"ROW()","v":1604}]
["Blaine County","Montana",1515,1779,1875,2091,2124,{"$f":"ROW()","v":1605}]
["Broadwater County","Montana",1794,2107,2220,2475,2515,{"$f":"ROW()","v":1606}]
["Carbon County","Montana",1773,2082,2194,2446,2486,{"$f":"ROW()","v":1607}]
["Carter County","Montana",1378,1618,1705,1901,1932,{"$f":"ROW()","v":1608}]
["Cascade County","Montana",1606,1887,1988,2217,2252,{"$f":"ROW()","v":1609}]
["Chouteau County","Montana",1403,1648,1737,1937,1968,{"$f":"ROW()","v":1610}]
["Custer County","Montana",1581,1857,1957,2182,2217,{"$f":"ROW()","v":1611}]
["Daniels County","Montana",1668,1959,2064,2301,2339,{"$f":"ROW()","v":1612}]
["Dawson County","Montana",1611,1892,1994,2223,2259,{"$f":"ROW()","v":1613}]
["Deer Lodge County","Montana",1411,1657,1746,1947,1978,{"$f":"ROW()","v":1614}]
["Fallon County","Montana",1719,2019,2127,2372,2410,{"$f":"ROW()","v":1615}]
["Fergus County","Montana",1441,1692,1783,1988,2020,{"$f":"ROW()","v":1616}]
["Flathead County","Montana",1910,2243,2364,2636,2678,{"$f":"ROW()","v":1617}]
["Gallatin County","Montana",2150,2525,2661,2967,3015,{"$f":"ROW()","v":1618}]
["Garfield County","Montana",1627,1911,2014,2246,2282,{"$f":"ROW()","v":1619}]
["Glacier County","Montana",1323,1554,1637,1825,1855,{"$f":"ROW()","v":1620}]
["Golden Valley County","Montana",1325,1556,1640,1829,1858,{"$f":"ROW()","v":1621}]
["Granite County","Montana",1689,1983,2090,2330,2368,{"$f":"ROW()","v":1622}]
["Hill County","Montana",1619,1902,2004,2234,2271,{"$f":"ROW()","v":1623}]
["Jefferson County","Montana",1873,2200,2318,2585,2626,{"$f":"ROW()","v":1624}]
["Judith Basin County","Montana",1302,1530,1612,1797,1826,{"$f":"ROW()","v":1625}]
["Lake County","Montana",1822,2140,2255,2514,2555,{"$f":"ROW()","v":1626}]
["Lewis and Clark County","Montana",1862,2186,2304,2569,2610,{"$f":"ROW()","v":1627}]
["Liberty County","Montana",1484,1743,1837,2048,2081,{"$f":"ROW()","v":1628}]
["Lincoln County","Montana",1519,1784,1880,2096,2130,{"$f":"ROW()","v":1629}]
["McCone County","Montana",1979,2324,2449,2731,2775,{"$f":"ROW()","v":1630}]
["Madison County","Montana",1757,2063,2174,2424,2463,{"$f":"ROW()","v":1631}]
["Meagher County","Montana",1659,1948,2053,2289,2326,{"$f":"ROW()","v":1632}]
["Mineral County","Montana",1584,1860,1960,2185,2221,{"$f":"ROW()","v":1633}]
["Missoula County","Montana",1948,2288,2411,2688,2732,{"$f":"ROW()","v":1634}]
["Musselshell County","Montana",1449,1702,1793,1999,2031,{"$f":"ROW()","v":1635}]
["Park County","Montana",1789,2101,2214,2469,2508,{"$f":"ROW()","v":1636}]
["Petroleum County","Montana",1728,2029,2138,2384,2422,{"$f":"ROW()","v":1637}]
["Phillips County","Montana",1570,1844,1943,2166,2201,{"$f":"ROW()","v":1638}]
["Pondera County","Montana",1458,1713,1805,2013,2045,{"$f":"ROW()","v":1639}]
["Powder River County","Montana",1429,1678,1768,1971,2003,{"$f":"ROW()","v":1640}]
["Powell County","Montana",1559,1832,1930,2152,2187,{"$f":"ROW()","v":1641}]
["Prairie County","Montana",1130,1327,1398,1559,1584,{"$f":"ROW()","v":1642}]
["Ravalli County","Montana",1741,2045,2155,2403,2442,{"$f":"ROW()","v":1643}]
["Richland County","Montana",1855,2179,2296,2560,2601,{"$f":"ROW()","v":1644}]
["Roosevelt County","Montana",1550,1820,1918,2139,2173,{"$f":"ROW()","v":1645}]
["Rosebud County","Montana",1508,1771,1866,2081,2114,{"$f":"ROW()","v":1646}]
["Sanders County","Montana",1494,1755,1849,2062,2095,{"$f":"ROW()","v":1647}]
["Sheridan County","Montana",1391,1633,1721,1919,1950,{"$f":"ROW()","v":1648}]
["Silver Bow County","Montana",1420,1668,1758,1960,1992,{"$f":"ROW()","v":1649}]
["Stillwater County","Montana",1862,2186,2304,2569,2610,{"$f":"ROW()","v":1650}]
["Sweet Grass County","Montana",1628,1912,2015,2247,2283,{"$f":"ROW()","v":1651}]
["Teton County","Montana",1604,1884,1985,2213,2249,{"$f":"ROW()","v":1652}]
["Toole County","Montana",1407,1652,1741,1941,1973,{"$f":"ROW()","v":1653}]
["Treasure County","Montana",1612,1893,1995,2224,2260,{"$f":"ROW()","v":1654}]
["Valley County","Montana",1610,1891,1993,2222,2258,{"$f":"ROW()","v":1655}]
["Wheatland County","Montana",1521,1787,1883,2100,2133,{"$f":"ROW()","v":1656}]
["Wibaux County","Montana",1336,1570,1654,1844,1874,{"$f":"ROW()","v":1657}]
["Yellowstone County","Montana",1803,2117,2231,2488,2528,{"$f":"ROW()","v":1658}]
["Adams County","Nebraska",1504,1766,1861,2075,2109,{"$f":"ROW()","v":1659}]
["Antelope County","Nebraska",1410,1656,1745,1946,1977,{"$f":"ROW()","v":1660}]
["Arthur County","Nebraska",1738,2041,2151,2398,2437,{"$f":"ROW()","v":1661}]
["Banner County","Nebraska",1467,1723,1816,2025,2058,{"$f":"ROW()","v":1662}]
["Blaine County","Nebraska",1339,1572,1657,1848,1877,{"$f":"ROW()","v":1663}]
["Boone County","Nebraska",1524,1790,1886,2103,2137,{"$f":"ROW()","v":1664}]
["Box Butte County","Nebraska",1496,1758,1852,2065,2098,{"$f":"ROW()","v":1665}]
["Boyd County","Nebraska",1669,1960,2065,2302,2340,{"$f":"ROW()","v":1666}]
["Brown County","Nebraska",1139,1338,1410,1572,1598,{"$f":"ROW()","v":1667}]
["Buffalo County","Nebraska",1757,2064,2175,2425,2464,{"$f":"ROW()","v":1668}]
["Burt County","Nebraska",1408,1654,1743,1943,1975,{"$f":"ROW()","v":1669}]
["Butler County","Nebraska",1581,1857,1957,2182,2217,{"$f":"ROW()","v":1670}]
["Cass County","Nebraska",1875,2203,2321,2588,2630,{"$f":"ROW()","v":1671}]
["Cedar County","Nebraska",1391,1633,1721,1919,1950,{"$f":"ROW()","v":1672}]
["Chase County","Nebraska",1595,1873,1974,2201,2237,{"$f":"ROW()","v":1673}]
["Cherry County","Nebraska",1362,1600,1686,1880,1910,{"$f":"ROW()","v":1674}]
["Cheyenne County","Nebraska",1514,1778,1874,2090,2123,{"$f":"ROW()","v":1675}]
["Clay County","Nebraska",1403,1648,1737,1937,1968,{"$f":"ROW()","v":1676}]
["Colfax County","Nebraska",1336,1570,1654,1844,1874,{"$f":"ROW()","v":1677}]
["Cuming County","Nebraska",1462,1718,1810,2018,2051,{"$f":"ROW()","v":1678}]
["Custer County","Nebraska",1484,1743,1837,2048,2081,{"$f":"ROW()","v":1679}]
["Dakota County","Nebraska",1645,1932,2036,2270,2307,{"$f":"ROW()","v":1680}]
["Dawes County","Nebraska",1378,1619,1706,1902,1933,{"$f":"ROW()","v":1681}]
["Dawson County","Nebraska",1414,1661,1750,1951,1983,{"$f":"ROW()","v":1682}]
["Deuel County","Nebraska",1265,1486,1566,1746,1774,{"$f":"ROW()","v":1683}]
["Dixon County","Nebraska",1438,1689,1780,1985,2017,{"$f":"ROW()","v":1684}]
["Dodge County","Nebraska",1541,1810,1907,2126,2161,{"$f":"ROW()","v":1685}]
["Douglas County","Nebraska",1833,2152,2268,2529,2570,{"$f":"ROW()","v":1686}]
["Dundy County","Nebraska",1387,1628,1716,1913,1944,{"$f":"ROW()","v":1687}]
["Fillmore County","Nebraska",1345,1580,1665,1856,1886,{"$f":"ROW()","v":1688}]
["Franklin County","Nebraska",1334,1567,1651,1841,1871,{"$f":"ROW()","v":1689}]
["Frontier County","Nebraska",1455,1709,1801,2008,2041,{"$f":"ROW()","v":1690}]
["Furnas County","Nebraska",1320,1551,1634,1822,1851,{"$f":"ROW()","v":1691}]
["Gage County","Nebraska",1450,1703,1795,2001,2034,{"$f":"ROW()","v":1692}]
["Garden County","Nebraska",1106,1299,1369,1526,1551,{"$f":"ROW()","v":1693}]
["Garfield County","Nebraska",1436,1686,1777,1981,2013,{"$f":"ROW()","v":1694}]
["Gosper County","Nebraska",1559,1831,1929,2151,2186,{"$f":"ROW()","v":1695}]
["Grant County","Nebraska",1262,1482,1562,1742,1770,{"$f":"ROW()","v":1696}]
["Greeley County","Nebraska",1377,1617,1704,1900,1931,{"$f":"ROW()","v":1697}]
["Hall County","Nebraska",1607,1888,1989,2218,2254,{"$f":"ROW()","v":1698}]
["Hamilton County","Nebraska",1534,1802,1899,2117,2152,{"$f":"ROW()","v":1699}]
["Harlan County","Nebraska",1462,1717,1809,2017,2050,{"$f":"ROW()","v":1700}]
["Hayes County","Nebraska",1584,1860,1960,2185,2221,{"$f":"ROW()","v":1701}]
["Hitchcock County","Nebraska",1187,1394,1469,1638,1664,{"$f":"ROW()","v":1702}]
["Holt County","Nebraska",1391,1633,1721,1919,1950,{"$f":"ROW()","v":1703}]
["Hooker County","Nebraska",1332,1564,1648,1838,1867,{"$f":"ROW()","v":1704}]
["Howard County","Nebraska",1595,1873,1974,2201,2237,{"$f":"ROW()","v":1705}]
["Jefferson County","Nebraska",1433,1684,1774,1978,2010,{"$f":"ROW()","v":1706}]
["Johnson County","Nebraska",1391,1633,1721,1919,1950,{"$f":"ROW()","v":1707}]
["Kearney County","Nebraska",1650,1938,2042,2277,2314,{"$f":"ROW()","v":1708}]
["Keith County","Nebraska",1475,1733,1826,2036,2069,{"$f":"ROW()","v":1709}]
["Keya Paha County","Nebraska",1541,1810,1907,2126,2161,{"$f":"ROW()","v":1710}]
["Kimball County","Nebraska",1605,1886,1987,2216,2251,{"$f":"ROW()","v":1711}]
["Knox County","Nebraska",1353,1590,1675,1868,1898,{"$f":"ROW()","v":1712}]
["Lancaster County","Nebraska",1737,2040,2150,2397,2436,{"$f":"ROW()","v":1713}]
["Lincoln County","Nebraska",1624,1907,2010,2241,2277,{"$f":"ROW()","v":1714}]
["Logan County","Nebraska",1613,1894,1996,2226,2261,{"$f":"ROW()","v":1715}]
["Loup County","Nebraska",1354,1591,1676,1869,1899,{"$f":"ROW()","v":1716}]
["McPherson County","Nebraska",1252,1470,1549,1727,1755,{"$f":"ROW()","v":1717}]
["Madison County","Nebraska",1527,1794,1890,2107,2141,{"$f":"ROW()","v":1718}]
["Merrick County","Nebraska",1387,1628,1716,1913,1944,{"$f":"ROW()","v":1719}]
["Morrill County","Nebraska",1430,1680,1770,1974,2005,{"$f":"ROW()","v":1720}]
["Nance County","Nebraska",1464,1720,1812,2020,2053,{"$f":"ROW()","v":1721}]
["Nemaha County","Nebraska",1374,1614,1701,1897,1927,{"$f":"ROW()","v":1722}]
["Nuckolls County","Nebraska",1422,1670,1760,1962,1994,{"$f":"ROW()","v":1723}]
["Otoe County","Nebraska",1606,1887,1988,2217,2252,{"$f":"ROW()","v":1724}]
["Pawnee County","Nebraska",1400,1645,1733,1932,1963,{"$f":"ROW()","v":1725}]
["Perkins County","Nebraska",1339,1572,1657,1848,1877,{"$f":"ROW()","v":1726}]
["Phelps County","Nebraska",1478,1736,1829,2039,2072,{"$f":"ROW()","v":1727}]
["Pierce County","Nebraska",1488,1747,1841,2053,2086,{"$f":"ROW()","v":1728}]
["Platte County","Nebraska",1564,1837,1936,2159,2193,{"$f":"ROW()","v":1729}]
["Polk County","Nebraska",1391,1633,1721,1919,1950,{"$f":"ROW()","v":1730}]
["Red Willow County","Nebraska",1386,1628,1715,1912,1943,{"$f":"ROW()","v":1731}]
["Richardson County","Nebraska",1218,1430,1507,1680,1707,{"$f":"ROW()","v":1732}]
["Rock County","Nebraska",1252,1470,1549,1727,1755,{"$f":"ROW()","v":1733}]
["Saline County","Nebraska",1666,1957,2062,2299,2336,{"$f":"ROW()","v":1734}]
["Sarpy County","Nebraska",1973,2317,2442,2723,2767,{"$f":"ROW()","v":1735}]
["Saunders County","Nebraska",1735,2038,2147,2394,2433,{"$f":"ROW()","v":1736}]
["Scotts Bluff County","Nebraska",1580,1856,1956,2181,2216,{"$f":"ROW()","v":1737}]
["Seward County","Nebraska",1638,1924,2027,2260,2297,{"$f":"ROW()","v":1738}]
["Sheridan County","Nebraska",1350,1586,1671,1863,1893,{"$f":"ROW()","v":1739}]
["Sherman County","Nebraska",1283,1507,1588,1771,1799,{"$f":"ROW()","v":1740}]
["Sioux County","Nebraska",1620,1903,2005,2236,2272,{"$f":"ROW()","v":1741}]
["Stanton County","Nebraska",1477,1735,1828,2038,2071,{"$f":"ROW()","v":1742}]
["Thayer County","Nebraska",1327,1558,1642,1831,1860,{"$f":"ROW()","v":1743}]
["Thomas County","Nebraska",1105,1297,1367,1524,1549,{"$f":"ROW()","v":1744}]
["Thurston County","Nebraska",1340,1574,1659,1850,1880,{"$f":"ROW()","v":1745}]
["Valley County","Nebraska",1319,1550,1633,1821,1850,{"$f":"ROW()","v":1746}]
["Washington County","Nebraska",1920,2255,2376,2649,2692,{"$f":"ROW()","v":1747}]
["Wayne County","Nebraska",1399,1644,1732,1931,1962,{"$f":"ROW()","v":1748}]
["Webster County","Nebraska",1281,1505,1586,1768,1797,{"$f":"ROW()","v":1749}]
["Wheeler County","Nebraska",1415,1662,1751,1952,1984,{"$f":"ROW()","v":1750}]
["York County","Nebraska",1440,1691,1782,1987,2019,{"$f":"ROW()","v":1751}]
["Churchill County","Nevada",1700,1997,2104,2346,2384,{"$f":"ROW()","v":1752}]
["Clark County","Nevada",1900,2231,2351,2621,2664,{"$f":"ROW()","v":1753}]
["Douglas County","Nevada",2107,2475,2608,2908,2955,{"$f":"ROW()","v":1754}]
["Elko County","Nevada",1876,2204,2322,2589,2631,{"$f":"ROW()","v":1755}]
["Esmeralda County","Nevada",1346,1581,1666,1858,1888,{"$f":"ROW()","v":1756}]
["Eureka County","Nevada",2110,2479,2612,2912,2959,{"$f":"ROW()","v":1757}]
["Humboldt County","Nevada",1676,1968,2074,2313,2350,{"$f":"ROW()","v":1758}]
["Lander County","Nevada",1504,1766,1861,2075,2109,{"$f":"ROW()","v":1759}]
["Lincoln County","Nevada",1519,1784,1880,2096,2130,{"$f":"ROW()","v":1760}]
["Lyon County","Nevada",1755,2061,2172,2422,2461,{"$f":"ROW()","v":1761}]
["Mineral County","Nevada",1387,1629,1717,1914,1945,{"$f":"ROW()","v":1762}]
["Nye County","Nevada",1595,1873,1974,2201,2237,{"$f":"ROW()","v":1763}]
["Pershing County","Nevada",1498,1759,1854,2067,2101,{"$f":"ROW()","v":1764}]
["Storey County","Nevada",1730,2032,2141,2387,2426,{"$f":"ROW()","v":1765}]
["Washoe County","Nevada",2063,2423,2553,2847,2893,{"$f":"ROW()","v":1766}]
["White Pine County","Nevada",1544,1814,1911,2131,2165,{"$f":"ROW()","v":1767}]
["Carson City","Nevada",1872,2199,2317,2583,2625,{"$f":"ROW()","v":1768}]
["Belknap County","New Hampshire",2033,2388,2516,2805,2851,{"$f":"ROW()","v":1769}]
["Carroll County","New Hampshire",1884,2213,2332,2600,2642,{"$f":"ROW()","v":1770}]
["Cheshire County","New Hampshire",1946,2285,2408,2685,2728,{"$f":"ROW()","v":1771}]
["Coos County","New Hampshire",1554,1825,1923,2144,2179,{"$f":"ROW()","v":1772}]
["Grafton County","New Hampshire",2025,2378,2506,2794,2839,{"$f":"ROW()","v":1773}]
["Hillsborough County","New Hampshire",2364,2777,2926,3262,3315,{"$f":"ROW()","v":1774}]
["Merrimack County","New Hampshire",2211,2597,2737,3052,3101,{"$f":"ROW()","v":1775}]
["Rockingham County","New Hampshire",2552,2998,3159,3522,3579,{"$f":"ROW()","v":1776}]
["Strafford County","New Hampshire",2315,2719,2865,3194,3246,{"$f":"ROW()","v":1777}]
["Sullivan County","New Hampshire",1874,2201,2319,2586,2627,{"$f":"ROW()","v":1778}]
["Atlantic County","New Jersey",2188,2570,2708,3019,3068,{"$f":"ROW()","v":1779}]
["Bergen County","New Jersey",3237,3802,4006,4467,4539,{"$f":"ROW()","v":1780}]
["Burlington County","New Jersey",2401,2819,2971,3313,3366,{"$f":"ROW()","v":1781}]
["Camden County","New Jersey",2222,2610,2750,3066,3116,{"$f":"ROW()","v":1782}]
["Cape May County","New Jersey",2171,2550,2687,2996,3044,{"$f":"ROW()","v":1783}]
["Cumberland County","New Jersey",1913,2246,2367,2639,2682,{"$f":"ROW()","v":1784}]
["Essex County","New Jersey",3032,3562,3753,4185,4252,{"$f":"ROW()","v":1785}]
["Gloucester County","New Jersey",2344,2753,2901,3235,3287,{"$f":"ROW()","v":1786}]
["Hudson County","New Jersey",3025,3553,3744,4175,4242,{"$f":"ROW()","v":1787}]
["Hunterdon County","New Jersey",2938,3451,3636,4054,4120,{"$f":"ROW()","v":1788}]
["Mercer County","New Jersey",2533,2975,3135,3496,3552,{"$f":"ROW()","v":1789}]
["Middlesex County","New Jersey",2712,3186,3357,3743,3803,{"$f":"ROW()","v":1790}]
["Monmouth County","New Jersey",2885,3388,3570,3981,4045,{"$f":"ROW()","v":1791}]
["Morris County","New Jersey",3086,3624,3819,4258,4327,{"$f":"ROW()","v":1792}]
["Ocean County","New Jersey",2263,2658,2801,3123,3174,{"$f":"ROW()","v":1793}]
["Passaic County","New Jersey",2817,3309,3487,3888,3951,{"$f":"ROW()","v":1794}]
["Salem County","New Jersey",2097,2463,2595,2893,2940,{"$f":"ROW()","v":1795}]
["Somerset County","New Jersey",2960,3476,3663,4084,4150,{"$f":"ROW()","v":1796}]
["Sussex County","New Jersey",2373,2787,2937,3275,3328,{"$f":"ROW()","v":1797}]
["Union County","New Jersey",2951,3466,3652,4072,4138,{"$f":"ROW()","v":1798}]
["Warren County","New Jersey",2317,2721,2867,3197,3248,{"$f":"ROW()","v":1799}]
["Bernalillo County","New Mexico",1669,1961,2066,2304,2341,{"$f":"ROW()","v":1800}]
["Catron County","New Mexico",1299,1526,1608,1793,1822,{"$f":"ROW()","v":1801}]
["Chaves County","New Mexico",1370,1610,1696,1891,1922,{"$f":"ROW()","v":1802}]
["Cibola County","New Mexico",1364,1602,1688,1882,1913,{"$f":"ROW()","v":1803}]
["Colfax County","New Mexico",1349,1585,1670,1862,1892,{"$f":"ROW()","v":1804}]
["Curry County","New Mexico",1488,1747,1841,2053,2086,{"$f":"ROW()","v":1805}]
["DeBaca County","New Mexico",1947,2287,2410,2687,2731,{"$f":"ROW()","v":1806}]
["Dona Ana County","New Mexico",1527,1794,1890,2107,2141,{"$f":"ROW()","v":1807}]
["Eddy County","New Mexico",1584,1860,1960,2185,2221,{"$f":"ROW()","v":1808}]
["Grant County","New Mexico",1343,1577,1662,1853,1883,{"$f":"ROW()","v":1809}]
["Guadalupe County","New Mexico",1521,1787,1883,2100,2133,{"$f":"ROW()","v":1810}]
["Harding County","New Mexico",1335,1568,1652,1842,1872,{"$f":"ROW()","v":1811}]
["Hidalgo County","New Mexico",1219,1432,1509,1683,1710,{"$f":"ROW()","v":1812}]
["Lea County","New Mexico",1571,1845,1944,2168,2203,{"$f":"ROW()","v":1813}]
["Lincoln County","New Mexico",1600,1879,1980,2208,2243,{"$f":"ROW()","v":1814}]
["Los Alamos County","New Mexico",2185,2566,2704,3015,3064,{"$f":"ROW()","v":1815}]
["Luna County","New Mexico",1248,1465,1544,1722,1749,{"$f":"ROW()","v":1816}]
["McKinley County","New Mexico",1356,1592,1678,1871,1901,{"$f":"ROW()","v":1817}]
["Mora County","New Mexico",1376,1616,1703,1899,1929,{"$f":"ROW()","v":1818}]
["Otero County","New Mexico",1329,1561,1645,1834,1864,{"$f":"ROW()","v":1819}]
["Quay County","New Mexico",1090,1280,1349,1504,1528,{"$f":"ROW()","v":1820}]
["Rio Arriba County","New Mexico",1575,1850,1949,2173,2208,{"$f":"ROW()","v":1821}]
["Roosevelt County","New Mexico",1520,1785,1881,2097,2131,{"$f":"ROW()","v":1822}]
["Sandoval County","New Mexico",1669,1960,2065,2302,2340,{"$f":"ROW()","v":1823}]
["San Juan County","New Mexico",1604,1884,1985,2213,2249,{"$f":"ROW()","v":1824}]
["San Miguel County","New Mexico",1504,1766,1861,2075,2109,{"$f":"ROW()","v":1825}]
["Santa Fe County","New Mexico",1885,2214,2333,2601,2643,{"$f":"ROW()","v":1826}]
["Sierra County","New Mexico",1183,1389,1464,1632,1659,{"$f":"ROW()","v":1827}]
["Socorro County","New Mexico",1430,1680,1770,1974,2005,{"$f":"ROW()","v":1828}]
["Taos County","New Mexico",1681,1974,2080,2319,2357,{"$f":"ROW()","v":1829}]
["Torrance County","New Mexico",1350,1586,1671,1863,1893,{"$f":"ROW()","v":1830}]
["Union County","New Mexico",1357,1594,1680,1873,1903,{"$f":"ROW()","v":1831}]
["Valencia County","New Mexico",1499,1760,1855,2068,2102,{"$f":"ROW()","v":1832}]
["Albany County","New York",1997,2345,2471,2755,2800,{"$f":"ROW()","v":1833}]
["Allegany County","New York",1336,1570,1654,1844,1874,{"$f":"ROW()","v":1834}]
["Bronx County","New York",2822,3315,3493,3895,3958,{"$f":"ROW()","v":1835}]
["Broome County","New York",1492,1753,1847,2059,2093,{"$f":"ROW()","v":1836}]
["Cattaraugus County","New York",1390,1632,1720,1918,1949,{"$f":"ROW()","v":1837}]
["Cayuga County","New York",1601,1880,1981,2209,2244,{"$f":"ROW()","v":1838}]
["Chautauqua County","New York",1325,1556,1640,1829,1858,{"$f":"ROW()","v":1839}]
["Chemung County","New York",1470,1726,1819,2028,2061,{"$f":"ROW()","v":1840}]
["Chenango County","New York",1479,1738,1831,2042,2075,{"$f":"ROW()","v":1841}]
["Clinton County","New York",1626,1909,2012,2243,2280,{"$f":"ROW()","v":1842}]
["Columbia County","New York",2002,2352,2478,2763,2808,{"$f":"ROW()","v":1843}]
["Cortland County","New York",1605,1886,1987,2216,2251,{"$f":"ROW()","v":1844}]
["Delaware County","New York",1488,1747,1841,2053,2086,{"$f":"ROW()","v":1845}]
["Dutchess County","New York",2483,2916,3073,3426,3482,{"$f":"ROW()","v":1846}]
["Erie County","New York",1652,1941,2045,2280,2317,{"$f":"ROW()","v":1847}]
["Essex County","New York",1670,1962,2067,2305,2342,{"$f":"ROW()","v":1848}]
["Franklin County","New York",1470,1726,1819,2028,2061,{"$f":"ROW()","v":1849}]
["Fulton County","New York",1521,1787,1883,2100,2133,{"$f":"ROW()","v":1850}]
["Genesee County","New York",1550,1820,1918,2139,2173,{"$f":"ROW()","v":1851}]
["Greene County","New York",1913,2246,2367,2639,2682,{"$f":"ROW()","v":1852}]
["Hamilton County","New York",1545,1814,1912,2132,2166,{"$f":"ROW()","v":1853}]
["Herkimer County","New York",1418,1665,1755,1957,1988,{"$f":"ROW()","v":1854}]
["Jefferson County","New York",1624,1907,2010,2241,2277,{"$f":"ROW()","v":1855}]
["Kings County","New York",3213,3774,3977,4434,4506,{"$f":"ROW()","v":1856}]
["Lewis County","New York",1545,1814,1912,2132,2166,{"$f":"ROW()","v":1857}]
["Livingston County","New York",1606,1887,1988,2217,2252,{"$f":"ROW()","v":1858}]
["Madison County","New York",1650,1938,2042,2277,2314,{"$f":"ROW()","v":1859}]
["Monroe County","New York",1707,2005,2113,2356,2394,{"$f":"ROW()","v":1860}]
["Montgomery County","New York",1573,1848,1947,2171,2206,{"$f":"ROW()","v":1861}]
["Nassau County","New York",3474,4081,4300,4795,4872,{"$f":"ROW()","v":1862}]
["New York County","New York",3724,4374,4609,5139,5222,{"$f":"ROW()","v":1863}]
["Niagara County","New York",1593,1870,1971,2198,2233,{"$f":"ROW()","v":1864}]
["Oneida County","New York",1575,1850,1949,2173,2208,{"$f":"ROW()","v":1865}]
["Onondaga County","New York",1694,1990,2097,2338,2376,{"$f":"ROW()","v":1866}]
["Ontario County","New York",1717,2017,2125,2369,2408,{"$f":"ROW()","v":1867}]
["Orange County","New York",2553,2999,3160,3523,3580,{"$f":"ROW()","v":1868}]
["Orleans County","New York",1552,1823,1921,2142,2176,{"$f":"ROW()","v":1869}]
["Oswego County","New York",1542,1812,1909,2129,2163,{"$f":"ROW()","v":1870}]
["Otsego County","New York",1603,1883,1984,2212,2248,{"$f":"ROW()","v":1871}]
["Putnam County","New York",2895,3400,3583,3995,4060,{"$f":"ROW()","v":1872}]
["Queens County","New York",2885,3389,3571,3982,4046,{"$f":"ROW()","v":1873}]
["Rensselaer County","New York",1950,2290,2413,2690,2734,{"$f":"ROW()","v":1874}]
["Richmond County","New York",2789,3276,3452,3849,3911,{"$f":"ROW()","v":1875}]
["Rockland County","New York",3304,3880,4089,4559,4633,{"$f":"ROW()","v":1876}]
["St. Lawrence County","New York",1437,1688,1779,1984,2016,{"$f":"ROW()","v":1877}]
["Saratoga County","New York",2065,2426,2556,2850,2896,{"$f":"ROW()","v":1878}]
["Schenectady County","New York",1850,2172,2289,2552,2593,{"$f":"ROW()","v":1879}]
["Schoharie County","New York",1692,1987,2094,2335,2373,{"$f":"ROW()","v":1880}]
["Schuyler County","New York",1597,1876,1977,2204,2240,{"$f":"ROW()","v":1881}]
["Seneca County","New York",1473,1730,1823,2033,2065,{"$f":"ROW()","v":1882}]
["Steuben County","New York",1515,1779,1875,2091,2124,{"$f":"ROW()","v":1883}]
["Suffolk County","New York",3038,3568,3760,4192,4260,{"$f":"ROW()","v":1884}]
["Sullivan County","New York",1892,2223,2342,2611,2653,{"$f":"ROW()","v":1885}]
["Tioga County","New York",1577,1852,1952,2176,2212,{"$f":"ROW()","v":1886}]
["Tompkins County","New York",2020,2373,2500,2788,2833,{"$f":"ROW()","v":1887}]
["Ulster County","New York",2223,2611,2751,3067,3117,{"$f":"ROW()","v":1888}]
["Warren County","New York",1781,2092,2204,2457,2497,{"$f":"ROW()","v":1889}]
["Washington County","New York",1669,1960,2065,2302,2340,{"$f":"ROW()","v":1890}]
["Wayne County","New York",1610,1890,1992,2221,2257,{"$f":"ROW()","v":1891}]
["Westchester County","New York",3621,4253,4482,4997,5078,{"$f":"ROW()","v":1892}]
["Wyoming County","New York",1509,1773,1868,2083,2116,{"$f":"ROW()","v":1893}]
["Yates County","New York",1499,1760,1855,2068,2102,{"$f":"ROW()","v":1894}]
["Alamance County","North Carolina",1485,1744,1838,2049,2082,{"$f":"ROW()","v":1895}]
["Alexander County","North Carolina",1379,1620,1707,1903,1934,{"$f":"ROW()","v":1896}]
["Alleghany County","North Carolina",1335,1568,1652,1842,1872,{"$f":"ROW()","v":1897}]
["Anson County","North Carolina",1334,1567,1651,1841,1871,{"$f":"ROW()","v":1898}]
["Ashe County","North Carolina",1358,1595,1681,1874,1905,{"$f":"ROW()","v":1899}]
["Avery County","North Carolina",1357,1593,1679,1872,1902,{"$f":"ROW()","v":1900}]
["Beaufort County","North Carolina",1570,1844,1943,2166,2201,{"$f":"ROW()","v":1901}]
["Bertie County","North Carolina",1372,1611,1698,1893,1924,{"$f":"ROW()","v":1902}]
["Bladen County","North Carolina",1328,1559,1643,1832,1862,{"$f":"ROW()","v":1903}]
["Brunswick County","North Carolina",1663,1953,2058,2295,2332,{"$f":"ROW()","v":1904}]
["Buncombe County","North Carolina",1763,2071,2182,2433,2472,{"$f":"ROW()","v":1905}]
["Burke County","North Carolina",1324,1555,1639,1827,1857,{"$f":"ROW()","v":1906}]
["Cabarrus County","North Carolina",1824,2143,2258,2518,2558,{"$f":"ROW()","v":1907}]
["Caldwell County","North Carolina",1307,1535,1618,1804,1833,{"$f":"ROW()","v":1908}]
["Camden County","North Carolina",1725,2026,2135,2381,2419,{"$f":"ROW()","v":1909}]
["Carteret County","North Carolina",1752,2057,2168,2417,2456,{"$f":"ROW()","v":1910}]
["Caswell County","North Carolina",1368,1607,1693,1888,1918,{"$f":"ROW()","v":1911}]
["Catawba County","North Carolina",1403,1648,1737,1937,1968,{"$f":"ROW()","v":1912}]
["Chatham County","North Carolina",1989,2336,2462,2745,2789,{"$f":"ROW()","v":1913}]
["Cherokee County","North Carolina",1378,1618,1705,1901,1932,{"$f":"ROW()","v":1914}]
["Chowan County","North Carolina",1506,1769,1864,2078,2112,{"$f":"ROW()","v":1915}]
["Clay County","North Carolina",1505,1768,1863,2077,2111,{"$f":"ROW()","v":1916}]
["Cleveland County","North Carolina",1366,1605,1691,1885,1916,{"$f":"ROW()","v":1917}]
["Columbus County","North Carolina",1350,1586,1671,1863,1893,{"$f":"ROW()","v":1918}]
["Craven County","North Carolina",1514,1778,1874,2090,2123,{"$f":"ROW()","v":1919}]
["Cumberland County","North Carolina",1552,1823,1921,2142,2176,{"$f":"ROW()","v":1920}]
["Currituck County","North Carolina",1809,2125,2239,2496,2537,{"$f":"ROW()","v":1921}]
["Dare County","North Carolina",1968,2312,2436,2716,2760,{"$f":"ROW()","v":1922}]
["Davidson County","North Carolina",1426,1675,1765,1968,2000,{"$f":"ROW()","v":1923}]
["Davie County","North Carolina",1552,1823,1921,2142,2176,{"$f":"ROW()","v":1924}]
["Duplin County","North Carolina",1423,1671,1761,1964,1995,{"$f":"ROW()","v":1925}]
["Durham County","North Carolina",1769,2077,2189,2441,2480,{"$f":"ROW()","v":1926}]
["Edgecombe County","North Carolina",1417,1665,1754,1956,1987,{"$f":"ROW()","v":1927}]
["Forsyth County","North Carolina",1545,1814,1912,2132,2166,{"$f":"ROW()","v":1928}]
["Franklin County","North Carolina",1589,1867,1967,2193,2229,{"$f":"ROW()","v":1929}]
["Gaston County","North Carolina",1542,1812,1909,2129,2163,{"$f":"ROW()","v":1930}]
["Gates County","North Carolina",1530,1797,1894,2112,2146,{"$f":"ROW()","v":1931}]
["Graham County","North Carolina",1207,1418,1494,1666,1693,{"$f":"ROW()","v":1932}]
["Granville County","North Carolina",1571,1845,1944,2168,2203,{"$f":"ROW()","v":1933}]
["Greene County","North Carolina",1225,1439,1516,1690,1718,{"$f":"ROW()","v":1934}]
["Guilford County","North Carolina",1583,1859,1959,2184,2220,{"$f":"ROW()","v":1935}]
["Halifax County","North Carolina",1345,1580,1665,1856,1886,{"$f":"ROW()","v":1936}]
["Harnett County","North Carolina",1596,1874,1975,2202,2238,{"$f":"ROW()","v":1937}]
["Haywood County","North Carolina",1498,1759,1854,2067,2101,{"$f":"ROW()","v":1938}]
["Henderson County","North Carolina",1636,1922,2025,2258,2294,{"$f":"ROW()","v":1939}]
["Hertford County","North Carolina",1404,1649,1738,1938,1969,{"$f":"ROW()","v":1940}]
["Hoke County","North Carolina",1530,1797,1894,2112,2146,{"$f":"ROW()","v":1941}]
["Hyde County","North Carolina",1712,2011,2119,2363,2401,{"$f":"ROW()","v":1942}]
["Iredell County","North Carolina",1694,1990,2097,2338,2376,{"$f":"ROW()","v":1943}]
["Jackson County","North Carolina",1411,1657,1746,1947,1978,{"$f":"ROW()","v":1944}]
["Johnston County","North Carolina",1635,1920,2023,2256,2292,{"$f":"ROW()","v":1945}]
["Jones County","North Carolina",1403,1648,1737,1937,1968,{"$f":"ROW()","v":1946}]
["Lee County","North Carolina",1531,1798,1895,2113,2147,{"$f":"ROW()","v":1947}]
["Lenoir County","North Carolina",1361,1599,1685,1879,1909,{"$f":"ROW()","v":1948}]
["Lincoln County","North Carolina",1611,1892,1994,2223,2259,{"$f":"ROW()","v":1949}]
["McDowell County","North Carolina",1286,1510,1591,1774,1803,{"$f":"ROW()","v":1950}]
["Macon County","North Carolina",1323,1554,1637,1825,1855,{"$f":"ROW()","v":1951}]
["Madison County","North Carolina",1614,1896,1998,2228,2264,{"$f":"ROW()","v":1952}]
["Martin County","North Carolina",1286,1510,1591,1774,1803,{"$f":"ROW()","v":1953}]
["Mecklenburg County","North Carolina",1831,2150,2266,2527,2567,{"$f":"ROW()","v":1954}]
["Mitchell County","North Carolina",1385,1627,1714,1911,1942,{"$f":"ROW()","v":1955}]
["Montgomery County","North Carolina",1345,1579,1664,1855,1885,{"$f":"ROW()","v":1956}]
["Moore County","North Carolina",1760,2067,2178,2428,2468,{"$f":"ROW()","v":1957}]
["Nash County","North Carolina",1452,1705,1797,2004,2036,{"$f":"ROW()","v":1958}]
["New Hanover County","North Carolina",1809,2125,2239,2496,2537,{"$f":"ROW()","v":1959}]
["Northampton County","North Carolina",1396,1640,1728,1927,1958,{"$f":"ROW()","v":1960}]
["Onslow County","North Carolina",1539,1808,1905,2124,2158,{"$f":"ROW()","v":1961}]
["Orange County","North Carolina",2143,2517,2652,2957,3005,{"$f":"ROW()","v":1962}]
["Pamlico County","North Carolina",1583,1859,1959,2184,2220,{"$f":"ROW()","v":1963}]
["Pasquotank County","North Carolina",1630,1914,2017,2249,2285,{"$f":"ROW()","v":1964}]
["Pender County","North Carolina",1774,2084,2196,2449,2488,{"$f":"ROW()","v":1965}]
["Perquimans County","North Carolina",1617,1899,2001,2231,2267,{"$f":"ROW()","v":1966}]
["Person County","North Carolina",1408,1654,1743,1943,1975,{"$f":"ROW()","v":1967}]
["Pitt County","North Carolina",1567,1840,1939,2162,2197,{"$f":"ROW()","v":1968}]
["Polk County","North Carolina",1474,1731,1824,2034,2067,{"$f":"ROW()","v":1969}]
["Randolph County","North Carolina",1361,1598,1684,1878,1908,{"$f":"ROW()","v":1970}]
["Richmond County","North Carolina",1293,1518,1600,1784,1813,{"$f":"ROW()","v":1971}]
["Robeson County","North Carolina",1326,1557,1641,1830,1859,{"$f":"ROW()","v":1972}]
["Rockingham County","North Carolina",1330,1562,1646,1835,1865,{"$f":"ROW()","v":1973}]
["Rowan County","North Carolina",1441,1692,1783,1988,2020,{"$f":"ROW()","v":1974}]
["Rutherford County","North Carolina",1271,1493,1573,1754,1782,{"$f":"ROW()","v":1975}]
["Sampson County","North Carolina",1340,1573,1658,1849,1879,{"$f":"ROW()","v":1976}]
["Scotland County","North Carolina",1339,1572,1657,1848,1877,{"$f":"ROW()","v":1977}]
["Stanly County","North Carolina",1426,1675,1765,1968,2000,{"$f":"ROW()","v":1978}]
["Stokes County","North Carolina",1375,1615,1702,1898,1928,{"$f":"ROW()","v":1979}]
["Surry County","North Carolina",1332,1565,1649,1839,1868,{"$f":"ROW()","v":1980}]
["Swain County","North Carolina",1399,1644,1732,1931,1962,{"$f":"ROW()","v":1981}]
["Transylvania County","North Carolina",1597,1875,1976,2203,2239,{"$f":"ROW()","v":1982}]
["Tyrrell County","North Carolina",1604,1884,1985,2213,2249,{"$f":"ROW()","v":1983}]
["Union County","North Carolina",1874,2201,2319,2586,2627,{"$f":"ROW()","v":1984}]
["Vance County","North Carolina",1423,1671,1761,1964,1995,{"$f":"ROW()","v":1985}]
["Wake County","North Carolina",2025,2378,2506,2794,2839,{"$f":"ROW()","v":1986}]
["Warren County","North Carolina",1382,1624,1711,1908,1939,{"$f":"ROW()","v":1987}]
["Washington County","North Carolina",1381,1622,1709,1906,1936,{"$f":"ROW()","v":1988}]
["Watauga County","North Carolina",1642,1928,2032,2266,2302,{"$f":"ROW()","v":1989}]
["Wayne County","North Carolina",1416,1664,1753,1955,1986,{"$f":"ROW()","v":1990}]
["Wilkes County","North Carolina",1305,1533,1615,1801,1830,{"$f":"ROW()","v":1991}]
["Wilson County","North Carolina",1480,1739,1832,2043,2076,{"$f":"ROW()","v":1992}]
["Yadkin County","North Carolina",1334,1567,1651,1841,1871,{"$f":"ROW()","v":1993}]
["Yancey County","North Carolina",1361,1598,1684,1878,1908,{"$f":"ROW()","v":1994}]
["Adams County","North Dakota",1558,1830,1928,2150,2184,{"$f":"ROW()","v":1995}]
["Barnes County","North Dakota",1469,1725,1818,2027,2060,{"$f":"ROW()","v":1996}]
["Benson County","North Dakota",1505,1768,1863,2077,2111,{"$f":"ROW()","v":1997}]
["Billings County","North Dakota",1940,2279,2401,2677,2720,{"$f":"ROW()","v":1998}]
["Bottineau County","North Dakota",1558,1830,1928,2150,2184,{"$f":"ROW()","v":1999}]
["Bowman County","North Dakota",1319,1549,1632,1820,1849,{"$f":"ROW()","v":2000}]
["Burke County","North Dakota",1385,1627,1714,1911,1942,{"$f":"ROW()","v":2001}]
["Burleigh County","North Dakota",1925,2261,2382,2656,2699,{"$f":"ROW()","v":2002}]
["Cass County","North Dakota",1837,2158,2274,2536,2576,{"$f":"ROW()","v":2003}]
["Cavalier County","North Dakota",1424,1672,1762,1965,1996,{"$f":"ROW()","v":2004}]
["Dickey County","North Dakota",1409,1655,1744,1945,1976,{"$f":"ROW()","v":2005}]
["Divide County","North Dakota",1616,1898,2000,2230,2266,{"$f":"ROW()","v":2006}]
["Dunn County","North Dakota",1589,1866,1966,2192,2227,{"$f":"ROW()","v":2007}]
["Eddy County","North Dakota",1214,1425,1502,1675,1702,{"$f":"ROW()","v":2008}]
["Emmons County","North Dakota",1328,1559,1643,1832,1862,{"$f":"ROW()","v":2009}]
["Foster County","North Dakota",1504,1766,1861,2075,2109,{"$f":"ROW()","v":2010}]
["Golden Valley County","North Dakota",1494,1755,1849,2062,2095,{"$f":"ROW()","v":2011}]
["Grand Forks County","North Dakota",1742,2046,2156,2404,2443,{"$f":"ROW()","v":2012}]
["Grant County","North Dakota",1336,1570,1654,1844,1874,{"$f":"ROW()","v":2013}]
["Griggs County","North Dakota",1340,1574,1659,1850,1880,{"$f":"ROW()","v":2014}]
["Hettinger County","North Dakota",1434,1684,1775,1979,2011,{"$f":"ROW()","v":2015}]
["Kidder County","North Dakota",1530,1797,1894,2112,2146,{"$f":"ROW()","v":2016}]
["LaMoure County","North Dakota",1362,1600,1686,1880,1910,{"$f":"ROW()","v":2017}]
["Logan County","North Dakota",1340,1574,1659,1850,1880,{"$f":"ROW()","v":2018}]
["McHenry County","North Dakota",1585,1862,1962,2188,2223,{"$f":"ROW()","v":2019}]
["McIntosh County","North Dakota",1305,1533,1615,1801,1830,{"$f":"ROW()","v":2020}]
["McKenzie County","North Dakota",2084,2447,2579,2876,2922,{"$f":"ROW()","v":2021}]
["McLean County","North Dakota",1661,1951,2056,2292,2329,{"$f":"ROW()","v":2022}]
["Mercer County","North Dakota",1741,2045,2155,2403,2442,{"$f":"ROW()","v":2023}]
["Morton County","North Dakota",1748,2053,2163,2412,2451,{"$f":"ROW()","v":2024}]
["Mountrail County","North Dakota",1702,1999,2106,2348,2386,{"$f":"ROW()","v":2025}]
["Nelson County","North Dakota",1358,1595,1681,1874,1905,{"$f":"ROW()","v":2026}]
["Oliver County","North Dakota",1788,2100,2213,2467,2507,{"$f":"ROW()","v":2027}]
["Pembina County","North Dakota",1332,1564,1648,1838,1867,{"$f":"ROW()","v":2028}]
["Pierce County","North Dakota",1482,1740,1834,2045,2078,{"$f":"ROW()","v":2029}]
["Ramsey County","North Dakota",1654,1943,2047,2282,2319,{"$f":"ROW()","v":2030}]
["Ransom County","North Dakota",1487,1746,1840,2052,2085,{"$f":"ROW()","v":2031}]
["Renville County","North Dakota",1610,1890,1992,2221,2257,{"$f":"ROW()","v":2032}]
["Richland County","North Dakota",1530,1797,1894,2112,2146,{"$f":"ROW()","v":2033}]
["Rolette County","North Dakota",1282,1506,1587,1770,1798,{"$f":"ROW()","v":2034}]
["Sargent County","North Dakota",1425,1674,1764,1967,1999,{"$f":"ROW()","v":2035}]
["Sheridan County","North Dakota",1610,1890,1992,2221,2257,{"$f":"ROW()","v":2036}]
["Sioux County","North Dakota",1404,1649,1738,1938,1969,{"$f":"ROW()","v":2037}]
["Slope County","North Dakota",1702,1999,2106,2348,2386,{"$f":"ROW()","v":2038}]
["Stark County","North Dakota",1837,2157,2273,2534,2575,{"$f":"ROW()","v":2039}]
["Steele County","North Dakota",1662,1952,2057,2294,2331,{"$f":"ROW()","v":2040}]
["Stutsman County","North Dakota",1573,1848,1947,2171,2206,{"$f":"ROW()","v":2041}]
["Towner County","North Dakota",1382,1624,1711,1908,1939,{"$f":"ROW()","v":2042}]
["Traill County","North Dakota",1576,1851,1950,2174,2209,{"$f":"ROW()","v":2043}]
["Walsh County","North Dakota",1355,1591,1677,1870,1900,{"$f":"ROW()","v":2044}]
["Ward County","North Dakota",1845,2167,2283,2546,2587,{"$f":"ROW()","v":2045}]
["Wells County","North Dakota",1423,1671,1761,1964,1995,{"$f":"ROW()","v":2046}]
["Williams County","North Dakota",1843,2165,2281,2543,2584,{"$f":"ROW()","v":2047}]
["Adams County","Ohio",1379,1620,1707,1903,1934,{"$f":"ROW()","v":2048}]
["Allen County","Ohio",1361,1599,1685,1879,1909,{"$f":"ROW()","v":2049}]
["Ashland County","Ohio",1340,1574,1659,1850,1880,{"$f":"ROW()","v":2050}]
["Ashtabula County","Ohio",1333,1566,1650,1840,1869,{"$f":"ROW()","v":2051}]
["Athens County","Ohio",1454,1708,1800,2007,2039,{"$f":"ROW()","v":2052}]
["Auglaize County","Ohio",1418,1665,1755,1957,1988,{"$f":"ROW()","v":2053}]
["Belmont County","Ohio",1304,1532,1614,1800,1829,{"$f":"ROW()","v":2054}]
["Brown County","Ohio",1380,1621,1708,1904,1935,{"$f":"ROW()","v":2055}]
["Butler County","Ohio",1696,1992,2099,2340,2378,{"$f":"ROW()","v":2056}]
["Carroll County","Ohio",1425,1674,1764,1967,1999,{"$f":"ROW()","v":2057}]
["Champaign County","Ohio",1424,1672,1762,1965,1996,{"$f":"ROW()","v":2058}]
["Clark County","Ohio",1342,1576,1661,1852,1882,{"$f":"ROW()","v":2059}]
["Clermont County","Ohio",1678,1971,2077,2316,2353,{"$f":"ROW()","v":2060}]
["Clinton County","Ohio",1399,1644,1732,1931,1962,{"$f":"ROW()","v":2061}]
["Columbiana County","Ohio",1295,1521,1603,1787,1816,{"$f":"ROW()","v":2062}]
["Coshocton County","Ohio",1272,1494,1574,1755,1783,{"$f":"ROW()","v":2063}]
["Crawford County","Ohio",1186,1393,1468,1637,1663,{"$f":"ROW()","v":2064}]
["Cuyahoga County","Ohio",1605,1886,1987,2216,2251,{"$f":"ROW()","v":2065}]
["Darke County","Ohio",1366,1604,1690,1884,1915,{"$f":"ROW()","v":2066}]
["Defiance County","Ohio",1330,1562,1646,1835,1865,{"$f":"ROW()","v":2067}]
["Delaware County","Ohio",2376,2790,2940,3278,3331,{"$f":"ROW()","v":2068}]
["Erie County","Ohio",1435,1685,1776,1980,2012,{"$f":"ROW()","v":2069}]
["Fairfield County","Ohio",1715,2015,2123,2367,2405,{"$f":"ROW()","v":2070}]
["Fayette County","Ohio",1366,1604,1690,1884,1915,{"$f":"ROW()","v":2071}]
["Franklin County","Ohio",1774,2084,2196,2449,2488,{"$f":"ROW()","v":2072}]
["Fulton County","Ohio",1458,1713,1805,2013,2045,{"$f":"ROW()","v":2073}]
["Gallia County","Ohio",1394,1637,1725,1923,1954,{"$f":"ROW()","v":2074}]
["Geauga County","Ohio",1950,2290,2413,2690,2734,{"$f":"ROW()","v":2075}]
["Greene County","Ohio",1722,2022,2131,2376,2414,{"$f":"ROW()","v":2076}]
["Guernsey County","Ohio",1343,1577,1662,1853,1883,{"$f":"ROW()","v":2077}]
["Hamilton County","Ohio",1688,1982,2089,2329,2367,{"$f":"ROW()","v":2078}]
["Hancock County","Ohio",1474,1731,1824,2034,2067,{"$f":"ROW()","v":2079}]
["Hardin County","Ohio",1343,1577,1662,1853,1883,{"$f":"ROW()","v":2080}]
["Harrison County","Ohio",1209,1420,1496,1668,1695,{"$f":"ROW()","v":2081}]
["Henry County","Ohio",1387,1629,1717,1914,1945,{"$f":"ROW()","v":2082}]
["Highland County","Ohio",1336,1570,1654,1844,1874,{"$f":"ROW()","v":2083}]
["Hocking County","Ohio",1392,1635,1723,1921,1952,{"$f":"ROW()","v":2084}]
["Holmes County","Ohio",1569,1843,1942,2165,2200,{"$f":"ROW()","v":2085}]
["Huron County","Ohio",1353,1589,1674,1867,1897,{"$f":"ROW()","v":2086}]
["Jackson County","Ohio",1363,1601,1687,1881,1911,{"$f":"ROW()","v":2087}]
["Jefferson County","Ohio",1277,1499,1580,1762,1790,{"$f":"ROW()","v":2088}]
["Knox County","Ohio",1522,1788,1884,2101,2135,{"$f":"ROW()","v":2089}]
["Lake County","Ohio",1579,1854,1954,2179,2214,{"$f":"ROW()","v":2090}]
["Lawrence County","Ohio",1354,1591,1676,1869,1899,{"$f":"ROW()","v":2091}]
["Licking County","Ohio",1723,2023,2132,2377,2416,{"$f":"ROW()","v":2092}]
["Logan County","Ohio",1423,1671,1761,1964,1995,{"$f":"ROW()","v":2093}]
["Lorain County","Ohio",1607,1888,1989,2218,2254,{"$f":"ROW()","v":2094}]
["Lucas County","Ohio",1493,1754,1848,2061,2094,{"$f":"ROW()","v":2095}]
["Madison County","Ohio",1563,1836,1935,2158,2192,{"$f":"ROW()","v":2096}]
["Mahoning County","Ohio",1353,1589,1674,1867,1897,{"$f":"ROW()","v":2097}]
["Marion County","Ohio",1337,1571,1655,1845,1875,{"$f":"ROW()","v":2098}]
["Medina County","Ohio",1757,2063,2174,2424,2463,{"$f":"ROW()","v":2099}]
["Meigs County","Ohio",1259,1479,1558,1737,1765,{"$f":"ROW()","v":2100}]
["Mercer County","Ohio",1389,1631,1719,1917,1948,{"$f":"ROW()","v":2101}]
["Miami County","Ohio",1498,1759,1854,2067,2101,{"$f":"ROW()","v":2102}]
["Monroe County","Ohio",1251,1469,1548,1726,1754,{"$f":"ROW()","v":2103}]
["Montgomery County","Ohio",1496,1758,1852,2065,2098,{"$f":"ROW()","v":2104}]
["Morgan County","Ohio",1276,1498,1579,1761,1789,{"$f":"ROW()","v":2105}]
["Morrow County","Ohio",1547,1816,1914,2134,2169,{"$f":"ROW()","v":2106}]
["Muskingum County","Ohio",1403,1648,1737,1937,1968,{"$f":"ROW()","v":2107}]
["Noble County","Ohio",1366,1604,1690,1884,1915,{"$f":"ROW()","v":2108}]
["Ottawa County","Ohio",1509,1772,1867,2082,2115,{"$f":"ROW()","v":2109}]
["Paulding County","Ohio",1293,1518,1600,1784,1813,{"$f":"ROW()","v":2110}]
["Perry County","Ohio",1388,1630,1718,1916,1946,{"$f":"ROW()","v":2111}]
["Pickaway County","Ohio",1694,1990,2097,2338,2376,{"$f":"ROW()","v":2112}]
["Pike County","Ohio",1387,1629,1717,1914,1945,{"$f":"ROW()","v":2113}]
["Portage County","Ohio",1624,1907,2010,2241,2277,{"$f":"ROW()","v":2114}]
["Preble County","Ohio",1398,1642,1730,1929,1960,{"$f":"ROW()","v":2115}]
["Putnam County","Ohio",1448,1701,1792,1998,2030,{"$f":"ROW()","v":2116}]
["Richland County","Ohio",1346,1581,1666,1858,1888,{"$f":"ROW()","v":2117}]
["Ross County","Ohio",1437,1688,1779,1984,2016,{"$f":"ROW()","v":2118}]
["Sandusky County","Ohio",1330,1562,1646,1835,1865,{"$f":"ROW()","v":2119}]
["Scioto County","Ohio",1376,1616,1703,1899,1929,{"$f":"ROW()","v":2120}]
["Seneca County","Ohio",1305,1533,1615,1801,1830,{"$f":"ROW()","v":2121}]
["Shelby County","Ohio",1476,1734,1827,2037,2070,{"$f":"ROW()","v":2122}]
["Stark County","Ohio",1429,1678,1768,1971,2003,{"$f":"ROW()","v":2123}]
["Summit County","Ohio",1547,1817,1915,2135,2170,{"$f":"ROW()","v":2124}]
["Trumbull County","Ohio",1278,1501,1582,1764,1792,{"$f":"ROW()","v":2125}]
["Tuscarawas County","Ohio",1396,1640,1728,1927,1958,{"$f":"ROW()","v":2126}]
["Union County","Ohio",1903,2235,2355,2626,2668,{"$f":"ROW()","v":2127}]
["Van Wert County","Ohio",1240,1457,1535,1712,1739,{"$f":"ROW()","v":2128}]
["Vinton County","Ohio",1268,1489,1569,1749,1778,{"$f":"ROW()","v":2129}]
["Warren County","Ohio",1938,2277,2399,2675,2718,{"$f":"ROW()","v":2130}]
["Washington County","Ohio",1368,1607,1693,1888,1918,{"$f":"ROW()","v":2131}]
["Wayne County","Ohio",1481,1740,1833,2044,2077,{"$f":"ROW()","v":2132}]
["Williams County","Ohio",1304,1532,1614,1800,1829,{"$f":"ROW()","v":2133}]
["Wood County","Ohio",1674,1966,2072,2310,2348,{"$f":"ROW()","v":2134}]
["Wyandot County","Ohio",1375,1615,1702,1898,1928,{"$f":"ROW()","v":2135}]
["Adair County","Oklahoma",1174,1379,1453,1620,1646,{"$f":"ROW()","v":2136}]
["Alfalfa County","Oklahoma",1286,1510,1591,1774,1803,{"$f":"ROW()","v":2137}]
["Atoka County","Oklahoma",1420,1667,1757,1959,1991,{"$f":"ROW()","v":2138}]
["Beaver County","Oklahoma",1395,1639,1727,1926,1957,{"$f":"ROW()","v":2139}]
["Beckham County","Oklahoma",1498,1759,1854,2067,2101,{"$f":"ROW()","v":2140}]
["Blaine County","Oklahoma",1353,1589,1674,1867,1897,{"$f":"ROW()","v":2141}]
["Bryan County","Oklahoma",1408,1653,1742,1942,1974,{"$f":"ROW()","v":2142}]
["Caddo County","Oklahoma",1269,1491,1571,1752,1780,{"$f":"ROW()","v":2143}]
["Canadian County","Oklahoma",1736,2038,2148,2395,2434,{"$f":"ROW()","v":2144}]
["Carter County","Oklahoma",1475,1733,1826,2036,2069,{"$f":"ROW()","v":2145}]
["Cherokee County","Oklahoma",1374,1613,1700,1896,1926,{"$f":"ROW()","v":2146}]
["Choctaw County","Oklahoma",1316,1546,1629,1816,1846,{"$f":"ROW()","v":2147}]
["Cimarron County","Oklahoma",1251,1469,1548,1726,1754,{"$f":"ROW()","v":2148}]
["Cleveland County","Oklahoma",1700,1997,2104,2346,2384,{"$f":"ROW()","v":2149}]
["Coal County","Oklahoma",1203,1413,1489,1660,1687,{"$f":"ROW()","v":2150}]
["Comanche County","Oklahoma",1450,1703,1794,2000,2033,{"$f":"ROW()","v":2151}]
["Cotton County","Oklahoma",1315,1545,1628,1815,1845,{"$f":"ROW()","v":2152}]
["Craig County","Oklahoma",1321,1552,1635,1823,1852,{"$f":"ROW()","v":2153}]
["Creek County","Oklahoma",1446,1698,1789,1995,2027,{"$f":"ROW()","v":2154}]
["Custer County","Oklahoma",1603,1883,1984,2212,2248,{"$f":"ROW()","v":2155}]
["Delaware County","Oklahoma",1468,1724,1817,2026,2059,{"$f":"ROW()","v":2156}]
["Dewey County","Oklahoma",1353,1590,1675,1868,1898,{"$f":"ROW()","v":2157}]
["Ellis County","Oklahoma",1420,1667,1757,1959,1991,{"$f":"ROW()","v":2158}]
["Garfield County","Oklahoma",1416,1663,1752,1953,1985,{"$f":"ROW()","v":2159}]
["Garvin County","Oklahoma",1368,1607,1693,1888,1918,{"$f":"ROW()","v":2160}]
["Grady County","Oklahoma",1610,1890,1992,2221,2257,{"$f":"ROW()","v":2161}]
["Grant County","Oklahoma",1256,1476,1555,1734,1762,{"$f":"ROW()","v":2162}]
["Greer County","Oklahoma",1455,1709,1801,2008,2041,{"$f":"ROW()","v":2163}]
["Harmon County","Oklahoma",1303,1531,1613,1798,1828,{"$f":"ROW()","v":2164}]
["Harper County","Oklahoma",1312,1541,1624,1811,1840,{"$f":"ROW()","v":2165}]
["Haskell County","Oklahoma",1282,1506,1587,1770,1798,{"$f":"ROW()","v":2166}]
["Hughes County","Oklahoma",1246,1463,1542,1719,1747,{"$f":"ROW()","v":2167}]
["Jackson County","Oklahoma",1426,1675,1765,1968,2000,{"$f":"ROW()","v":2168}]
["Jefferson County","Oklahoma",1210,1422,1498,1670,1697,{"$f":"ROW()","v":2169}]
["Johnston County","Oklahoma",1327,1558,1642,1831,1860,{"$f":"ROW()","v":2170}]
["Kay County","Oklahoma",1349,1585,1670,1862,1892,{"$f":"ROW()","v":2171}]
["Kingfisher County","Oklahoma",1481,1740,1833,2044,2077,{"$f":"ROW()","v":2172}]
["Kiowa County","Oklahoma",1269,1490,1570,1751,1779,{"$f":"ROW()","v":2173}]
["Latimer County","Oklahoma",1221,1434,1511,1685,1712,{"$f":"ROW()","v":2174}]
["Le Flore County","Oklahoma",1262,1482,1562,1742,1770,{"$f":"ROW()","v":2175}]
["Lincoln County","Oklahoma",1418,1665,1755,1957,1988,{"$f":"ROW()","v":2176}]
["Logan County","Oklahoma",1762,2070,2181,2432,2471,{"$f":"ROW()","v":2177}]
["Love County","Oklahoma",1374,1613,1700,1896,1926,{"$f":"ROW()","v":2178}]
["McClain County","Oklahoma",1779,2090,2202,2455,2495,{"$f":"ROW()","v":2179}]
["McCurtain County","Oklahoma",1269,1490,1570,1751,1779,{"$f":"ROW()","v":2180}]
["McIntosh County","Oklahoma",1301,1528,1610,1795,1824,{"$f":"ROW()","v":2181}]
["Major County","Oklahoma",1406,1651,1740,1940,1971,{"$f":"ROW()","v":2182}]
["Marshall County","Oklahoma",1388,1630,1718,1916,1946,{"$f":"ROW()","v":2183}]
["Mayes County","Oklahoma",1442,1694,1785,1990,2022,{"$f":"ROW()","v":2184}]
["Murray County","Oklahoma",1336,1569,1653,1843,1873,{"$f":"ROW()","v":2185}]
["Muskogee County","Oklahoma",1359,1596,1682,1875,1906,{"$f":"ROW()","v":2186}]
["Noble County","Oklahoma",1441,1693,1784,1989,2021,{"$f":"ROW()","v":2187}]
["Nowata County","Oklahoma",1397,1641,1729,1928,1959,{"$f":"ROW()","v":2188}]
["Okfuskee County","Oklahoma",1231,1445,1523,1698,1726,{"$f":"ROW()","v":2189}]
["Oklahoma County","Oklahoma",1666,1957,2062,2299,2336,{"$f":"ROW()","v":2190}]
["Okmulgee County","Oklahoma",1336,1570,1654,1844,1874,{"$f":"ROW()","v":2191}]
["Osage County","Oklahoma",1498,1759,1854,2067,2101,{"$f":"ROW()","v":2192}]
["Ottawa County","Oklahoma",1247,1464,1543,1720,1748,{"$f":"ROW()","v":2193}]
["Pawnee County","Oklahoma",1429,1679,1769,1972,2004,{"$f":"ROW()","v":2194}]
["Payne County","Oklahoma",1637,1923,2026,2259,2295,{"$f":"ROW()","v":2195}]
["Pittsburg County","Oklahoma",1336,1569,1653,1843,1873,{"$f":"ROW()","v":2196}]
["Pontotoc County","Oklahoma",1421,1669,1759,1961,1993,{"$f":"ROW()","v":2197}]
["Pottawatomie County","Oklahoma",1416,1664,1753,1955,1986,{"$f":"ROW()","v":2198}]
["Pushmataha County","Oklahoma",1249,1467,1546,1724,1752,{"$f":"ROW()","v":2199}]
["Roger Mills County","Oklahoma",1348,1583,1668,1860,1890,{"$f":"ROW()","v":2200}]
["Rogers County","Oklahoma",1614,1895,1997,2227,2263,{"$f":"ROW()","v":2201}]
["Seminole County","Oklahoma",1300,1527,1609,1794,1823,{"$f":"ROW()","v":2202}]
["Sequoyah County","Oklahoma",1262,1482,1562,1742,1770,{"$f":"ROW()","v":2203}]
["Stephens County","Oklahoma",1374,1613,1700,1896,1926,{"$f":"ROW()","v":2204}]
["Texas County","Oklahoma",1381,1622,1709,1906,1936,{"$f":"ROW()","v":2205}]
["Tillman County","Oklahoma",1224,1438,1515,1689,1716,{"$f":"ROW()","v":2206}]
["Tulsa County","Oklahoma",1656,1945,2050,2286,2323,{"$f":"ROW()","v":2207}]
["Wagoner County","Oklahoma",1592,1870,1970,2197,2232,{"$f":"ROW()","v":2208}]
["Washington County","Oklahoma",1488,1748,1842,2054,2087,{"$f":"ROW()","v":2209}]
["Washita County","Oklahoma",1358,1595,1681,1874,1905,{"$f":"ROW()","v":2210}]
["Woods County","Oklahoma",1371,1610,1697,1892,1923,{"$f":"ROW()","v":2211}]
["Woodward County","Oklahoma",1466,1721,1814,2023,2055,{"$f":"ROW()","v":2212}]
["Baker County","Oregon",1459,1714,1806,2014,2046,{"$f":"ROW()","v":2213}]
["Benton County","Oregon",2138,2511,2646,2950,2998,{"$f":"ROW()","v":2214}]
["Clackamas County","Oregon",2419,2841,2994,3338,3392,{"$f":"ROW()","v":2215}]
["Clatsop County","Oregon",1948,2288,2411,2688,2732,{"$f":"ROW()","v":2216}]
["Columbia County","Oregon",1896,2227,2347,2617,2659,{"$f":"ROW()","v":2217}]
["Coos County","Oregon",1672,1963,2069,2307,2344,{"$f":"ROW()","v":2218}]
["Crook County","Oregon",1840,2161,2277,2539,2580,{"$f":"ROW()","v":2219}]
["Curry County","Oregon",1840,2161,2277,2539,2580,{"$f":"ROW()","v":2220}]
["Deschutes County","Oregon",2127,2499,2633,2936,2983,{"$f":"ROW()","v":2221}]
["Douglas County","Oregon",1609,1889,1991,2220,2256,{"$f":"ROW()","v":2222}]
["Gilliam County","Oregon",1561,1833,1932,2154,2189,{"$f":"ROW()","v":2223}]
["Grant County","Oregon",1358,1595,1681,1874,1905,{"$f":"ROW()","v":2224}]
["Harney County","Oregon",1336,1569,1653,1843,1873,{"$f":"ROW()","v":2225}]
["Hood River County","Oregon",2219,2606,2746,3062,3111,{"$f":"ROW()","v":2226}]
["Jackson County","Oregon",1923,2259,2380,2654,2697,{"$f":"ROW()","v":2227}]
["Jefferson County","Oregon",1720,2020,2129,2374,2412,{"$f":"ROW()","v":2228}]
["Josephine County","Oregon",1790,2102,2215,2470,2510,{"$f":"ROW()","v":2229}]
["Klamath County","Oregon",1559,1831,1929,2151,2186,{"$f":"ROW()","v":2230}]
["Lake County","Oregon",1504,1767,1862,2076,2110,{"$f":"ROW()","v":2231}]
["Lane County","Oregon",1914,2248,2369,2641,2684,{"$f":"ROW()","v":2232}]
["Lincoln County","Oregon",1752,2057,2168,2417,2456,{"$f":"ROW()","v":2233}]
["Linn County","Oregon",1789,2101,2214,2469,2508,{"$f":"ROW()","v":2234}]
["Malheur County","Oregon",1476,1734,1827,2037,2070,{"$f":"ROW()","v":2235}]
["Marion County","Oregon",1920,2255,2376,2649,2692,{"$f":"ROW()","v":2236}]
["Morrow County","Oregon",1512,1776,1871,2086,2120,{"$f":"ROW()","v":2237}]
["Multnomah County","Oregon",2358,2769,2918,3254,3306,{"$f":"ROW()","v":2238}]
["Polk County","Oregon",1988,2335,2460,2743,2787,{"$f":"ROW()","v":2239}]
["Sherman County","Oregon",1421,1669,1759,1961,1993,{"$f":"ROW()","v":2240}]
["Tillamook County","Oregon",1836,2156,2272,2533,2574,{"$f":"ROW()","v":2241}]
["Umatilla County","Oregon",1647,1934,2038,2272,2309,{"$f":"ROW()","v":2242}]
["Union County","Oregon",1588,1865,1965,2191,2226,{"$f":"ROW()","v":2243}]
["Wallowa County","Oregon",1659,1948,2053,2289,2326,{"$f":"ROW()","v":2244}]
["Wasco County","Oregon",1783,2094,2207,2461,2501,{"$f":"ROW()","v":2245}]
["Washington County","Oregon",2374,2788,2938,3276,3329,{"$f":"ROW()","v":2246}]
["Wheeler County","Oregon",1378,1619,1706,1902,1933,{"$f":"ROW()","v":2247}]
["Yamhill County","Oregon",2040,2396,2525,2815,2861,{"$f":"ROW()","v":2248}]
["Adams County","Pennsylvania",1816,2133,2248,2507,2547,{"$f":"ROW()","v":2249}]
["Allegheny County","Pennsylvania",1709,2007,2115,2358,2396,{"$f":"ROW()","v":2250}]
["Armstrong County","Pennsylvania",1389,1631,1719,1917,1948,{"$f":"ROW()","v":2251}]
["Beaver County","Pennsylvania",1522,1788,1884,2101,2135,{"$f":"ROW()","v":2252}]
["Bedford County","Pennsylvania",1453,1706,1798,2005,2037,{"$f":"ROW()","v":2253}]
["Berks County","Pennsylvania",1833,2153,2269,2530,2571,{"$f":"ROW()","v":2254}]
["Blair County","Pennsylvania",1379,1620,1707,1903,1934,{"$f":"ROW()","v":2255}]
["Bradford County","Pennsylvania",1481,1740,1833,2044,2077,{"$f":"ROW()","v":2256}]
["Bucks County","Pennsylvania",2430,2854,3007,3353,3407,{"$f":"ROW()","v":2257}]
["Butler County","Pennsylvania",1882,2210,2329,2597,2639,{"$f":"ROW()","v":2258}]
["Cambria County","Pennsylvania",1338,1572,1656,1846,1876,{"$f":"ROW()","v":2259}]
["Cameron County","Pennsylvania",1256,1475,1554,1733,1761,{"$f":"ROW()","v":2260}]
["Carbon County","Pennsylvania",1590,1868,1968,2194,2230,{"$f":"ROW()","v":2261}]
["Centre County","Pennsylvania",1911,2244,2365,2637,2680,{"$f":"ROW()","v":2262}]
["Chester County","Pennsylvania",2598,3051,3215,3585,3643,{"$f":"ROW()","v":2263}]
["Clarion County","Pennsylvania",1352,1588,1673,1865,1896,{"$f":"ROW()","v":2264}]
["Clearfield County","Pennsylvania",1325,1556,1640,1829,1858,{"$f":"ROW()","v":2265}]
["Clinton County","Pennsylvania",1438,1689,1780,1985,2017,{"$f":"ROW()","v":2266}]
["Columbia County","Pennsylvania",1551,1822,1920,2141,2175,{"$f":"ROW()","v":2267}]
["Crawford County","Pennsylvania",1370,1610,1696,1891,1922,{"$f":"ROW()","v":2268}]
["Cumberland County","Pennsylvania",1812,2129,2243,2501,2541,{"$f":"ROW()","v":2269}]
["Dauphin County","Pennsylvania",1711,2009,2117,2360,2399,{"$f":"ROW()","v":2270}]
["Delaware County","Pennsylvania",2202,2586,2725,3038,3087,{"$f":"ROW()","v":2271}]
["Elk County","Pennsylvania",1299,1526,1608,1793,1822,{"$f":"ROW()","v":2272}]
["Erie County","Pennsylvania",1513,1777,1872,2087,2121,{"$f":"ROW()","v":2273}]
["Fayette County","Pennsylvania",1400,1645,1733,1932,1963,{"$f":"ROW()","v":2274}]
["Forest County","Pennsylvania",1199,1408,1484,1655,1681,{"$f":"ROW()","v":2275}]
["Franklin County","Pennsylvania",1694,1989,2096,2337,2375,{"$f":"ROW()","v":2276}]
["Fulton County","Pennsylvania",1557,1829,1927,2149,2183,{"$f":"ROW()","v":2277}]
["Greene County","Pennsylvania",1389,1631,1719,1917,1948,{"$f":"ROW()","v":2278}]
["Huntingdon County","Pennsylvania",1444,1696,1787,1993,2025,{"$f":"ROW()","v":2279}]
["Indiana County","Pennsylvania",1408,1653,1742,1942,1974,{"$f":"ROW()","v":2280}]
["Jefferson County","Pennsylvania",1277,1499,1580,1762,1790,{"$f":"ROW()","v":2281}]
["Juniata County","Pennsylvania",1458,1712,1804,2011,2044,{"$f":"ROW()","v":2282}]
["Lackawanna County","Pennsylvania",1623,1907,2009,2240,2276,{"$f":"ROW()","v":2283}]
["Lancaster County","Pennsylvania",1834,2154,2270,2531,2572,{"$f":"ROW()","v":2284}]
["Lawrence County","Pennsylvania",1401,1646,1734,1933,1965,{"$f":"ROW()","v":2285}]
["Lebanon County","Pennsylvania",1665,1956,2061,2298,2335,{"$f":"ROW()","v":2286}]
["Lehigh County","Pennsylvania",1894,2224,2344,2614,2656,{"$f":"ROW()","v":2287}]
["Luzerne County","Pennsylvania",1530,1796,1893,2111,2145,{"$f":"ROW()","v":2288}]
["Lycoming County","Pennsylvania",1576,1851,1951,2175,2210,{"$f":"ROW()","v":2289}]
["McKean County","Pennsylvania",1227,1441,1518,1693,1720,{"$f":"ROW()","v":2290}]
["Mercer County","Pennsylvania",1367,1606,1692,1887,1917,{"$f":"ROW()","v":2291}]
["Mifflin County","Pennsylvania",1351,1587,1672,1864,1894,{"$f":"ROW()","v":2292}]
["Monroe County","Pennsylvania",1872,2199,2317,2583,2625,{"$f":"ROW()","v":2293}]
["Montgomery County","Pennsylvania",2415,2837,2989,3333,3387,{"$f":"ROW()","v":2294}]
["Montour County","Pennsylvania",1681,1975,2081,2320,2358,{"$f":"ROW()","v":2295}]
["Northampton County","Pennsylvania",1968,2312,2436,2716,2760,{"$f":"ROW()","v":2296}]
["Northumberland County","Pennsylvania",1425,1673,1763,1966,1997,{"$f":"ROW()","v":2297}]
["Perry County","Pennsylvania",1673,1965,2071,2309,2346,{"$f":"ROW()","v":2298}]
["Philadelphia County","Pennsylvania",1677,1969,2075,2314,2351,{"$f":"ROW()","v":2299}]
["Pike County","Pennsylvania",1757,2064,2175,2425,2464,{"$f":"ROW()","v":2300}]
["Potter County","Pennsylvania",1370,1610,1696,1891,1922,{"$f":"ROW()","v":2301}]
["Schuylkill County","Pennsylvania",1473,1730,1823,2033,2065,{"$f":"ROW()","v":2302}]
["Snyder County","Pennsylvania",1515,1779,1875,2091,2124,{"$f":"ROW()","v":2303}]
["Somerset County","Pennsylvania",1372,1611,1698,1893,1924,{"$f":"ROW()","v":2304}]
["Sullivan County","Pennsylvania",1491,1751,1845,2057,2090,{"$f":"ROW()","v":2305}]
["Susquehanna County","Pennsylvania",1557,1829,1927,2149,2183,{"$f":"ROW()","v":2306}]
["Tioga County","Pennsylvania",1513,1777,1872,2087,2121,{"$f":"ROW()","v":2307}]
["Union County","Pennsylvania",1630,1914,2017,2249,2285,{"$f":"ROW()","v":2308}]
["Venango County","Pennsylvania",1318,1548,1631,1819,1848,{"$f":"ROW()","v":2309}]
["Warren County","Pennsylvania",1311,1539,1622,1809,1838,{"$f":"ROW()","v":2310}]
["Washington County","Pennsylvania",1677,1970,2076,2315,2352,{"$f":"ROW()","v":2311}]
["Wayne County","Pennsylvania",1678,1971,2077,2316,2353,{"$f":"ROW()","v":2312}]
["Westmoreland County","Pennsylvania",1543,1813,1910,2130,2164,{"$f":"ROW()","v":2313}]
["Wyoming County","Pennsylvania",1608,1889,1990,2219,2255,{"$f":"ROW()","v":2314}]
["York County","Pennsylvania",1807,2123,2237,2494,2535,{"$f":"ROW()","v":2315}]
["Adjuntas Municipio","Puerto Rico",963,1131,1192,1329,1351,{"$f":"ROW()","v":2316}]
["Aguada Municipio","Puerto Rico",1071,1258,1326,1478,1502,{"$f":"ROW()","v":2317}]
["Aguadilla Municipio","Puerto Rico",1056,1240,1307,1457,1481,{"$f":"ROW()","v":2318}]
["Aguas Buenas Municipio","Puerto Rico",1099,1291,1360,1516,1541,{"$f":"ROW()","v":2319}]
["Aibonito Municipio","Puerto Rico",1020,1198,1262,1407,1430,{"$f":"ROW()","v":2320}]
["Añasco Municipio","Puerto Rico",1051,1235,1301,1451,1474,{"$f":"ROW()","v":2321}]
["Arecibo Municipio","Puerto Rico",975,1145,1207,1346,1368,{"$f":"ROW()","v":2322}]
["Arroyo Municipio","Puerto Rico",880,1033,1089,1214,1234,{"$f":"ROW()","v":2323}]
["Barceloneta Municipio","Puerto Rico",1039,1220,1286,1434,1457,{"$f":"ROW()","v":2324}]
["Barranquitas Municipio","Puerto Rico",979,1150,1212,1351,1373,{"$f":"ROW()","v":2325}]
["Bayamón Municipio","Puerto Rico",1155,1356,1429,1593,1619,{"$f":"ROW()","v":2326}]
["Cabo Rojo Municipio","Puerto Rico",978,1149,1211,1350,1372,{"$f":"ROW()","v":2327}]
["Caguas Municipio","Puerto Rico",1163,1366,1439,1604,1630,{"$f":"ROW()","v":2328}]
["Camuy Municipio","Puerto Rico",1012,1188,1252,1396,1419,{"$f":"ROW()","v":2329}]
["Canóvanas Municipio","Puerto Rico",1164,1367,1440,1606,1632,{"$f":"ROW()","v":2330}]
["Carolina Municipio","Puerto Rico",1242,1459,1537,1714,1741,{"$f":"ROW()","v":2331}]
["Cataño Municipio","Puerto Rico",1217,1429,1506,1679,1706,{"$f":"ROW()","v":2332}]
["Cayey Municipio","Puerto Rico",1113,1307,1377,1535,1560,{"$f":"ROW()","v":2333}]
["Ceiba Municipio","Puerto Rico",914,1073,1131,1261,1281,{"$f":"ROW()","v":2334}]
["Ciales Municipio","Puerto Rico",894,1050,1106,1233,1253,{"$f":"ROW()","v":2335}]
["Cidra Municipio","Puerto Rico",1114,1309,1379,1538,1562,{"$f":"ROW()","v":2336}]
["Coamo Municipio","Puerto Rico",1004,1179,1242,1385,1407,{"$f":"ROW()","v":2337}]
["Comerío Municipio","Puerto Rico",979,1150,1212,1351,1373,{"$f":"ROW()","v":2338}]
["Corozal Municipio","Puerto Rico",1040,1221,1287,1435,1458,{"$f":"ROW()","v":2339}]
["Culebra Municipio","Puerto Rico",1392,1635,1723,1921,1952,{"$f":"ROW()","v":2340}]
["Dorado Municipio","Puerto Rico",1425,1674,1764,1967,1999,{"$f":"ROW()","v":2341}]
["Fajardo Municipio","Puerto Rico",991,1164,1227,1368,1390,{"$f":"ROW()","v":2342}]
["Florida Municipio","Puerto Rico",930,1092,1151,1283,1304,{"$f":"ROW()","v":2343}]
["Guánica Municipio","Puerto Rico",956,1123,1183,1319,1340,{"$f":"ROW()","v":2344}]
["Guayama Municipio","Puerto Rico",943,1107,1167,1301,1322,{"$f":"ROW()","v":2345}]
["Guayanilla Municipio","Puerto Rico",1024,1202,1267,1413,1436,{"$f":"ROW()","v":2346}]
["Guaynabo Municipio","Puerto Rico",1564,1837,1936,2159,2193,{"$f":"ROW()","v":2347}]
["Gurabo Municipio","Puerto Rico",1294,1520,1602,1786,1815,{"$f":"ROW()","v":2348}]
["Hatillo Municipio","Puerto Rico",1066,1252,1319,1471,1494,{"$f":"ROW()","v":2349}]
["Hormigueros Municipio","Puerto Rico",932,1094,1153,1286,1306,{"$f":"ROW()","v":2350}]
["Humacao Municipio","Puerto Rico",1053,1237,1303,1453,1476,{"$f":"ROW()","v":2351}]
["Isabela Municipio","Puerto Rico",999,1174,1237,1379,1402,{"$f":"ROW()","v":2352}]
["Jayuya Municipio","Puerto Rico",970,1140,1201,1339,1361,{"$f":"ROW()","v":2353}]
["Juana Díaz Municipio","Puerto Rico",1037,1218,1283,1431,1454,{"$f":"ROW()","v":2354}]
["Juncos Municipio","Puerto Rico",1047,1230,1296,1445,1468,{"$f":"ROW()","v":2355}]
["Lajas Municipio","Puerto Rico",885,1039,1095,1221,1241,{"$f":"ROW()","v":2356}]
["Lares Municipio","Puerto Rico",892,1048,1104,1231,1251,{"$f":"ROW()","v":2357}]
["Las Marías Municipio","Puerto Rico",919,1079,1137,1268,1288,{"$f":"ROW()","v":2358}]
["Las Piedras Municipio","Puerto Rico",1064,1250,1317,1468,1492,{"$f":"ROW()","v":2359}]
["Loíza Municipio","Puerto Rico",1008,1183,1247,1390,1413,{"$f":"ROW()","v":2360}]
["Luquillo Municipio","Puerto Rico",1041,1222,1288,1436,1459,{"$f":"ROW()","v":2361}]
["Manatí Municipio","Puerto Rico",1061,1246,1313,1464,1488,{"$f":"ROW()","v":2362}]
["Maricao Municipio","Puerto Rico",820,963,1015,1132,1150,{"$f":"ROW()","v":2363}]
["Maunabo Municipio","Puerto Rico",974,1144,1205,1344,1365,{"$f":"ROW()","v":2364}]
["Mayagüez Municipio","Puerto Rico",1022,1200,1265,1410,1433,{"$f":"ROW()","v":2365}]
["Moca Municipio","Puerto Rico",1021,1200,1264,1409,1432,{"$f":"ROW()","v":2366}]
["Morovis Municipio","Puerto Rico",995,1169,1232,1374,1396,{"$f":"ROW()","v":2367}]
["Naguabo Municipio","Puerto Rico",900,1057,1114,1242,1262,{"$f":"ROW()","v":2368}]
["Naranjito Municipio","Puerto Rico",975,1145,1207,1346,1368,{"$f":"ROW()","v":2369}]
["Orocovis Municipio","Puerto Rico",930,1092,1151,1283,1304,{"$f":"ROW()","v":2370}]
["Patillas Municipio","Puerto Rico",934,1097,1156,1289,1310,{"$f":"ROW()","v":2371}]
["Peñuelas Municipio","Puerto Rico",979,1150,1212,1351,1373,{"$f":"ROW()","v":2372}]
["Ponce Municipio","Puerto Rico",1045,1227,1293,1442,1465,{"$f":"ROW()","v":2373}]
["Quebradillas Municipio","Puerto Rico",963,1131,1192,1329,1351,{"$f":"ROW()","v":2374}]
["Rincón Municipio","Puerto Rico",1081,1270,1338,1492,1516,{"$f":"ROW()","v":2375}]
["Río Grande Municipio","Puerto Rico",1130,1328,1399,1560,1585,{"$f":"ROW()","v":2376}]
["Sabana Grande Municipio","Puerto Rico",946,1111,1171,1306,1327,{"$f":"ROW()","v":2377}]
["Salinas Municipio","Puerto Rico",978,1149,1211,1350,1372,{"$f":"ROW()","v":2378}]
["San Germán Municipio","Puerto Rico",992,1165,1228,1369,1391,{"$f":"ROW()","v":2379}]
["San Juan Municipio","Puerto Rico",1315,1545,1628,1815,1845,{"$f":"ROW()","v":2380}]
["San Lorenzo Municipio","Puerto Rico",1123,1319,1390,1550,1575,{"$f":"ROW()","v":2381}]
["San Sebastián Municipio","Puerto Rico",944,1108,1168,1302,1323,{"$f":"ROW()","v":2382}]
["Santa Isabel Municipio","Puerto Rico",1063,1249,1316,1467,1491,{"$f":"ROW()","v":2383}]
["Toa Alta Municipio","Puerto Rico",1298,1525,1607,1792,1821,{"$f":"ROW()","v":2384}]
["Toa Baja Municipio","Puerto Rico",1127,1324,1395,1555,1581,{"$f":"ROW()","v":2385}]
["Trujillo Alto Municipio","Puerto Rico",1248,1466,1545,1723,1750,{"$f":"ROW()","v":2386}]
["Utuado Municipio","Puerto Rico",938,1102,1161,1295,1315,{"$f":"ROW()","v":2387}]
["Vega Alta Municipio","Puerto Rico",1140,1339,1411,1573,1599,{"$f":"ROW()","v":2388}]
["Vega Baja Municipio","Puerto Rico",1085,1275,1343,1497,1522,{"$f":"ROW()","v":2389}]
["Vieques Municipio","Puerto Rico",1364,1602,1688,1882,1913,{"$f":"ROW()","v":2390}]
["Villalba Municipio","Puerto Rico",984,1156,1218,1358,1380,{"$f":"ROW()","v":2391}]
["Yabucoa Municipio","Puerto Rico",931,1093,1152,1284,1305,{"$f":"ROW()","v":2392}]
["Yauco Municipio","Puerto Rico",983,1154,1216,1356,1378,{"$f":"ROW()","v":2393}]
["Bristol County","Rhode Island",2519,2958,3117,3475,3532,{"$f":"ROW()","v":2394}]
["Kent County","Rhode Island",2154,2530,2666,2973,3021,{"$f":"ROW()","v":2395}]
["Newport County","Rhode Island",2583,3034,3197,3565,3622,{"$f":"ROW()","v":2396}]
["Providence County","Rhode Island",2081,2444,2575,2871,2917,{"$f":"ROW()","v":2397}]
["Washington County","Rhode Island",2293,2693,2838,3164,3215,{"$f":"ROW()","v":2398}]
["Abbeville County","South Carolina",1340,1573,1658,1849,1879,{"$f":"ROW()","v":2399}]
["Aiken County","South Carolina",1429,1679,1769,1972,2004,{"$f":"ROW()","v":2400}]
["Allendale County","South Carolina",1248,1465,1544,1722,1749,{"$f":"ROW()","v":2401}]
["Anderson County","South Carolina",1415,1662,1751,1952,1984,{"$f":"ROW()","v":2402}]
["Bamberg County","South Carolina",1350,1586,1671,1863,1893,{"$f":"ROW()","v":2403}]
["Barnwell County","South Carolina",1395,1639,1727,1926,1957,{"$f":"ROW()","v":2404}]
["Beaufort County","South Carolina",1949,2289,2412,2689,2733,{"$f":"ROW()","v":2405}]
["Berkeley County","South Carolina",1681,1974,2080,2319,2357,{"$f":"ROW()","v":2406}]
["Calhoun County","South Carolina",1440,1691,1782,1987,2019,{"$f":"ROW()","v":2407}]
["Charleston County","South Carolina",2103,2470,2603,2902,2949,{"$f":"ROW()","v":2408}]
["Cherokee County","South Carolina",1257,1477,1556,1735,1763,{"$f":"ROW()","v":2409}]
["Chester County","South Carolina",1272,1494,1574,1755,1783,{"$f":"ROW()","v":2410}]
["Chesterfield County","South Carolina",1258,1478,1557,1736,1764,{"$f":"ROW()","v":2411}]
["Clarendon County","South Carolina",1324,1554,1638,1826,1856,{"$f":"ROW()","v":2412}]
["Colleton County","South Carolina",1407,1652,1741,1941,1973,{"$f":"ROW()","v":2413}]
["Darlington County","South Carolina",1324,1555,1639,1827,1857,{"$f":"ROW()","v":2414}]
["Dillon County","South Carolina",1326,1557,1641,1830,1859,{"$f":"ROW()","v":2415}]
["Dorchester County","South Carolina",1787,2099,2212,2466,2506,{"$f":"ROW()","v":2416}]
["Edgefield County","South Carolina",1375,1615,1702,1898,1928,{"$f":"ROW()","v":2417}]
["Fairfield County","South Carolina",1433,1684,1774,1978,2010,{"$f":"ROW()","v":2418}]
["Florence County","South Carolina",1441,1693,1784,1989,2021,{"$f":"ROW()","v":2419}]
["Georgetown County","South Carolina",1603,1883,1984,2212,2248,{"$f":"ROW()","v":2420}]
["Greenville County","South Carolina",1605,1886,1987,2216,2251,{"$f":"ROW()","v":2421}]
["Greenwood County","South Carolina",1344,1578,1663,1854,1884,{"$f":"ROW()","v":2422}]
["Hampton County","South Carolina",1316,1546,1629,1816,1846,{"$f":"ROW()","v":2423}]
["Horry County","South Carolina",1515,1779,1875,2091,2124,{"$f":"ROW()","v":2424}]
["Jasper County","South Carolina",1582,1858,1958,2183,2218,{"$f":"ROW()","v":2425}]
["Kershaw County","South Carolina",1493,1754,1848,2061,2094,{"$f":"ROW()","v":2426}]
["Lancaster County","South Carolina",1687,1982,2088,2328,2366,{"$f":"ROW()","v":2427}]
["Laurens County","South Carolina",1323,1554,1637,1825,1855,{"$f":"ROW()","v":2428}]
["Lee County","South Carolina",1206,1416,1492,1664,1690,{"$f":"ROW()","v":2429}]
["Lexington County","South Carolina",1502,1764,1859,2073,2106,{"$f":"ROW()","v":2430}]
["McCormick County","South Carolina",1352,1588,1673,1865,1896,{"$f":"ROW()","v":2431}]
["Marion County","South Carolina",1241,1458,1536,1713,1740,{"$f":"ROW()","v":2432}]
["Marlboro County","South Carolina",1186,1393,1468,1637,1663,{"$f":"ROW()","v":2433}]
["Newberry County","South Carolina",1345,1579,1664,1855,1885,{"$f":"ROW()","v":2434}]
["Oconee County","South Carolina",1423,1671,1761,1964,1995,{"$f":"ROW()","v":2435}]
["Orangeburg County","South Carolina",1401,1646,1734,1933,1965,{"$f":"ROW()","v":2436}]
["Pickens County","South Carolina",1462,1718,1810,2018,2051,{"$f":"ROW()","v":2437}]
["Richland County","South Carolina",1602,1882,1983,2211,2247,{"$f":"ROW()","v":2438}]
["Saluda County","South Carolina",1452,1705,1797,2004,2036,{"$f":"ROW()","v":2439}]
["Spartanburg County","South Carolina",1461,1716,1808,2016,2048,{"$f":"ROW()","v":2440}]
["Sumter County","South Carolina",1370,1610,1696,1891,1922,{"$f":"ROW()","v":2441}]
["Union County","South Carolina",1213,1424,1501,1674,1701,{"$f":"ROW()","v":2442}]
["Williamsburg County","South Carolina",1271,1493,1573,1754,1782,{"$f":"ROW()","v":2443}]
["York County","South Carolina",1728,2030,2139,2385,2423,{"$f":"ROW()","v":2444}]
["Aurora County","South Dakota",1523,1789,1885,2102,2136,{"$f":"ROW()","v":2445}]
["Beadle County","South Dakota",1537,1805,1902,2121,2155,{"$f":"ROW()","v":2446}]
["Bennett County","South Dakota",1273,1495,1575,1756,1784,{"$f":"ROW()","v":2447}]
["Bon Homme County","South Dakota",1406,1651,1740,1940,1971,{"$f":"ROW()","v":2448}]
["Brookings County","South Dakota",1684,1978,2084,2324,2361,{"$f":"ROW()","v":2449}]
["Brown County","South Dakota",1597,1876,1977,2204,2240,{"$f":"ROW()","v":2450}]
["Brule County","South Dakota",1472,1729,1822,2032,2064,{"$f":"ROW()","v":2451}]
["Buffalo County","South Dakota",1438,1689,1780,1985,2017,{"$f":"ROW()","v":2452}]
["Butte County","South Dakota",1621,1904,2006,2237,2273,{"$f":"ROW()","v":2453}]
["Campbell County","South Dakota",1378,1619,1706,1902,1933,{"$f":"ROW()","v":2454}]
["Charles Mix County","South Dakota",1649,1937,2041,2276,2312,{"$f":"ROW()","v":2455}]
["Clark County","South Dakota",1498,1759,1854,2067,2101,{"$f":"ROW()","v":2456}]
["Clay County","South Dakota",1668,1959,2064,2301,2339,{"$f":"ROW()","v":2457}]
["Codington County","South Dakota",1546,1815,1913,2133,2167,{"$f":"ROW()","v":2458}]
["Corson County","South Dakota",1255,1474,1553,1732,1760,{"$f":"ROW()","v":2459}]
["Custer County","South Dakota",1845,2167,2283,2546,2587,{"$f":"ROW()","v":2460}]
["Davison County","South Dakota",1439,1690,1781,1986,2018,{"$f":"ROW()","v":2461}]
["Day County","South Dakota",1412,1658,1747,1948,1979,{"$f":"ROW()","v":2462}]
["Deuel County","South Dakota",1451,1704,1796,2003,2035,{"$f":"ROW()","v":2463}]
["Dewey County","South Dakota",1299,1526,1608,1793,1822,{"$f":"ROW()","v":2464}]
["Douglas County","South Dakota",1454,1707,1799,2006,2038,{"$f":"ROW()","v":2465}]
["Edmunds County","South Dakota",1506,1769,1864,2078,2112,{"$f":"ROW()","v":2466}]
["Fall River County","South Dakota",1453,1706,1798,2005,2037,{"$f":"ROW()","v":2467}]
["Faulk County","South Dakota",1377,1617,1704,1900,1931,{"$f":"ROW()","v":2468}]
["Grant County","South Dakota",1438,1689,1780,1985,2017,{"$f":"ROW()","v":2469}]
["Gregory County","South Dakota",1366,1604,1690,1884,1915,{"$f":"ROW()","v":2470}]
["Haakon County","South Dakota",1338,1572,1656,1846,1876,{"$f":"ROW()","v":2471}]
["Hamlin County","South Dakota",1529,1796,1892,2110,2144,{"$f":"ROW()","v":2472}]
["Hand County","South Dakota",1496,1757,1851,2064,2097,{"$f":"ROW()","v":2473}]
["Hanson County","South Dakota",1532,1799,1896,2114,2148,{"$f":"ROW()","v":2474}]
["Harding County","South Dakota",1373,1612,1699,1894,1925,{"$f":"ROW()","v":2475}]
["Hughes County","South Dakota",1642,1928,2032,2266,2302,{"$f":"ROW()","v":2476}]
["Hutchinson County","South Dakota",1398,1642,1730,1929,1960,{"$f":"ROW()","v":2477}]
["Hyde County","South Dakota",1406,1651,1740,1940,1971,{"$f":"ROW()","v":2478}]
["Jackson County","South Dakota",1235,1450,1528,1704,1731,{"$f":"ROW()","v":2479}]
["Jerauld County","South Dakota",1471,1727,1820,2029,2062,{"$f":"ROW()","v":2480}]
["Jones County","South Dakota",1351,1587,1672,1864,1894,{"$f":"ROW()","v":2481}]
["Kingsbury County","South Dakota",1527,1794,1890,2107,2141,{"$f":"ROW()","v":2482}]
["Lake County","South Dakota",1660,1949,2054,2290,2327,{"$f":"ROW()","v":2483}]
["Lawrence County","South Dakota",1733,2036,2145,2392,2430,{"$f":"ROW()","v":2484}]
["Lincoln County","South Dakota",1857,2181,2298,2562,2604,{"$f":"ROW()","v":2485}]
["Lyman County","South Dakota",1534,1802,1899,2117,2152,{"$f":"ROW()","v":2486}]
["McCook County","South Dakota",1640,1926,2030,2263,2300,{"$f":"ROW()","v":2487}]
["McPherson County","South Dakota",1339,1572,1657,1848,1877,{"$f":"ROW()","v":2488}]
["Marshall County","South Dakota",1407,1652,1741,1941,1973,{"$f":"ROW()","v":2489}]
["Meade County","South Dakota",1761,2069,2180,2431,2470,{"$f":"ROW()","v":2490}]
["Mellette County","South Dakota",1369,1608,1694,1889,1919,{"$f":"ROW()","v":2491}]
["Miner County","South Dakota",1346,1581,1666,1858,1888,{"$f":"ROW()","v":2492}]
["Minnehaha County","South Dakota",1717,2017,2125,2369,2408,{"$f":"ROW()","v":2493}]
["Moody County","South Dakota",1646,1933,2037,2271,2308,{"$f":"ROW()","v":2494}]
["Oglala Lakota County","South Dakota",1153,1354,1427,1591,1617,{"$f":"ROW()","v":2495}]
["Pennington County","South Dakota",1746,2051,2161,2410,2448,{"$f":"ROW()","v":2496}]
["Perkins County","South Dakota",1325,1556,1640,1829,1858,{"$f":"ROW()","v":2497}]
["Potter County","South Dakota",1442,1694,1785,1990,2022,{"$f":"ROW()","v":2498}]
["Roberts County","South Dakota",1547,1817,1915,2135,2170,{"$f":"ROW()","v":2499}]
["Sanborn County","South Dakota",1506,1769,1864,2078,2112,{"$f":"ROW()","v":2500}]
["Spink County","South Dakota",1418,1665,1755,1957,1988,{"$f":"ROW()","v":2501}]
["Stanley County","South Dakota",1555,1826,1924,2145,2180,{"$f":"ROW()","v":2502}]
["Sully County","South Dakota",1642,1928,2032,2266,2302,{"$f":"ROW()","v":2503}]
["Todd County","South Dakota",1150,1350,1423,1587,1612,{"$f":"ROW()","v":2504}]
["Tripp County","South Dakota",1309,1537,1620,1806,1835,{"$f":"ROW()","v":2505}]
["Turner County","South Dakota",1556,1828,1926,2147,2182,{"$f":"ROW()","v":2506}]
["Union County","South Dakota",1775,2085,2197,2450,2489,{"$f":"ROW()","v":2507}]
["Walworth County","South Dakota",1441,1692,1783,1988,2020,{"$f":"ROW()","v":2508}]
["Yankton County","South Dakota",1623,1907,2009,2240,2276,{"$f":"ROW()","v":2509}]
["Ziebach County","South Dakota",1268,1489,1569,1749,1778,{"$f":"ROW()","v":2510}]
["Anderson County","Tennessee",1523,1789,1885,2102,2136,{"$f":"ROW()","v":2511}]
["Bedford County","Tennessee",1429,1678,1768,1971,2003,{"$f":"ROW()","v":2512}]
["Benton County","Tennessee",1260,1480,1560,1739,1767,{"$f":"ROW()","v":2513}]
["Bledsoe County","Tennessee",1257,1477,1556,1735,1763,{"$f":"ROW()","v":2514}]
["Blount County","Tennessee",1569,1843,1942,2165,2200,{"$f":"ROW()","v":2515}]
["Bradley County","Tennessee",1497,1758,1853,2066,2099,{"$f":"ROW()","v":2516}]
["Campbell County","Tennessee",1315,1544,1627,1814,1843,{"$f":"ROW()","v":2517}]
["Cannon County","Tennessee",1486,1745,1839,2050,2084,{"$f":"ROW()","v":2518}]
["Carroll County","Tennessee",1265,1486,1566,1746,1774,{"$f":"ROW()","v":2519}]
["Carter County","Tennessee",1257,1477,1556,1735,1763,{"$f":"ROW()","v":2520}]
["Cheatham County","Tennessee",1724,2025,2134,2379,2418,{"$f":"ROW()","v":2521}]
["Chester County","Tennessee",1316,1546,1629,1816,1846,{"$f":"ROW()","v":2522}]
["Claiborne County","Tennessee",1238,1454,1532,1708,1736,{"$f":"ROW()","v":2523}]
["Clay County","Tennessee",1235,1450,1528,1704,1731,{"$f":"ROW()","v":2524}]
["Cocke County","Tennessee",1232,1447,1525,1700,1728,{"$f":"ROW()","v":2525}]
["Coffee County","Tennessee",1479,1738,1831,2042,2075,{"$f":"ROW()","v":2526}]
["Crockett County","Tennessee",1266,1487,1567,1747,1775,{"$f":"ROW()","v":2527}]
["Cumberland County","Tennessee",1298,1524,1606,1791,1820,{"$f":"ROW()","v":2528}]
["Davidson County","Tennessee",1845,2167,2283,2546,2587,{"$f":"ROW()","v":2529}]
["Decatur County","Tennessee",1311,1539,1622,1809,1838,{"$f":"ROW()","v":2530}]
["DeKalb County","Tennessee",1340,1574,1659,1850,1880,{"$f":"ROW()","v":2531}]
["Dickson County","Tennessee",1566,1839,1938,2161,2196,{"$f":"ROW()","v":2532}]
["Dyer County","Tennessee",1358,1595,1681,1874,1905,{"$f":"ROW()","v":2533}]
["Fayette County","Tennessee",1705,2002,2110,2353,2391,{"$f":"ROW()","v":2534}]
["Fentress County","Tennessee",1167,1370,1444,1610,1636,{"$f":"ROW()","v":2535}]
["Franklin County","Tennessee",1466,1721,1814,2023,2055,{"$f":"ROW()","v":2536}]
["Gibson County","Tennessee",1408,1653,1742,1942,1974,{"$f":"ROW()","v":2537}]
["Giles County","Tennessee",1402,1647,1735,1935,1966,{"$f":"ROW()","v":2538}]
["Grainger County","Tennessee",1340,1574,1659,1850,1880,{"$f":"ROW()","v":2539}]
["Greene County","Tennessee",1285,1509,1590,1773,1801,{"$f":"ROW()","v":2540}]
["Grundy County","Tennessee",1205,1415,1491,1662,1689,{"$f":"ROW()","v":2541}]
["Hamblen County","Tennessee",1314,1543,1626,1813,1842,{"$f":"ROW()","v":2542}]
["Hamilton County","Tennessee",1593,1870,1971,2198,2233,{"$f":"ROW()","v":2543}]
["Hancock County","Tennessee",1271,1493,1573,1754,1782,{"$f":"ROW()","v":2544}]
["Hardeman County","Tennessee",1227,1442,1519,1694,1721,{"$f":"ROW()","v":2545}]
["Hardin County","Tennessee",1201,1410,1486,1657,1684,{"$f":"ROW()","v":2546}]
["Hawkins County","Tennessee",1304,1532,1614,1800,1829,{"$f":"ROW()","v":2547}]
["Haywood County","Tennessee",1311,1540,1623,1810,1839,{"$f":"ROW()","v":2548}]
["Henderson County","Tennessee",1256,1475,1554,1733,1761,{"$f":"ROW()","v":2549}]
["Henry County","Tennessee",1292,1517,1599,1783,1812,{"$f":"ROW()","v":2550}]
["Hickman County","Tennessee",1408,1653,1742,1942,1974,{"$f":"ROW()","v":2551}]
["Houston County","Tennessee",1401,1646,1734,1933,1965,{"$f":"ROW()","v":2552}]
["Humphreys County","Tennessee",1374,1614,1701,1897,1927,{"$f":"ROW()","v":2553}]
["Jackson County","Tennessee",1277,1499,1580,1762,1790,{"$f":"ROW()","v":2554}]
["Jefferson County","Tennessee",1360,1597,1683,1877,1907,{"$f":"ROW()","v":2555}]
["Johnson County","Tennessee",1178,1384,1458,1626,1652,{"$f":"ROW()","v":2556}]
["Knox County","Tennessee",1609,1889,1991,2220,2256,{"$f":"ROW()","v":2557}]
["Lake County","Tennessee",1282,1506,1587,1770,1798,{"$f":"ROW()","v":2558}]
["Lauderdale County","Tennessee",1240,1457,1535,1712,1739,{"$f":"ROW()","v":2559}]
["Lawrence County","Tennessee",1378,1619,1706,1902,1933,{"$f":"ROW()","v":2560}]
["Lewis County","Tennessee",1319,1549,1632,1820,1849,{"$f":"ROW()","v":2561}]
["Lincoln County","Tennessee",1404,1649,1738,1938,1969,{"$f":"ROW()","v":2562}]
["Loudon County","Tennessee",1551,1821,1919,2140,2174,{"$f":"ROW()","v":2563}]
["McMinn County","Tennessee",1329,1561,1645,1834,1864,{"$f":"ROW()","v":2564}]
["McNairy County","Tennessee",1272,1494,1574,1755,1783,{"$f":"ROW()","v":2565}]
["Macon County","Tennessee",1445,1697,1788,1994,2026,{"$f":"ROW()","v":2566}]
["Madison County","Tennessee",1488,1748,1842,2054,2087,{"$f":"ROW()","v":2567}]
["Marion County","Tennessee",1407,1652,1741,1941,1973,{"$f":"ROW()","v":2568}]
["Marshall County","Tennessee",1467,1723,1816,2025,2058,{"$f":"ROW()","v":2569}]
["Maury County","Tennessee",1638,1924,2027,2260,2297,{"$f":"ROW()","v":2570}]
["Meigs County","Tennessee",1323,1554,1637,1825,1855,{"$f":"ROW()","v":2571}]
["Monroe County","Tennessee",1356,1592,1678,1871,1901,{"$f":"ROW()","v":2572}]
["Montgomery County","Tennessee",1597,1876,1977,2204,2240,{"$f":"ROW()","v":2573}]
["Moore County","Tennessee",1612,1893,1995,2224,2260,{"$f":"ROW()","v":2574}]
["Morgan County","Tennessee",1331,1563,1647,1836,1866,{"$f":"ROW()","v":2575}]
["Obion County","Tennessee",1202,1412,1488,1659,1686,{"$f":"ROW()","v":2576}]
["Overton County","Tennessee",1297,1523,1605,1790,1818,{"$f":"ROW()","v":2577}]
["Perry County","Tennessee",1256,1476,1555,1734,1762,{"$f":"ROW()","v":2578}]
["Pickett County","Tennessee",1307,1535,1617,1803,1832,{"$f":"ROW()","v":2579}]
["Polk County","Tennessee",1302,1530,1612,1797,1826,{"$f":"ROW()","v":2580}]
["Putnam County","Tennessee",1471,1727,1820,2029,2062,{"$f":"ROW()","v":2581}]
["Rhea County","Tennessee",1378,1618,1705,1901,1932,{"$f":"ROW()","v":2582}]
["Roane County","Tennessee",1502,1764,1859,2073,2106,{"$f":"ROW()","v":2583}]
["Robertson County","Tennessee",1694,1989,2096,2337,2375,{"$f":"ROW()","v":2584}]
["Rutherford County","Tennessee",1750,2056,2166,2415,2454,{"$f":"ROW()","v":2585}]
["Scott County","Tennessee",1245,1462,1541,1718,1746,{"$f":"ROW()","v":2586}]
["Sequatchie County","Tennessee",1448,1701,1792,1998,2030,{"$f":"ROW()","v":2587}]
["Sevier County","Tennessee",1479,1738,1831,2042,2075,{"$f":"ROW()","v":2588}]
["Shelby County","Tennessee",1715,2014,2122,2366,2404,{"$f":"ROW()","v":2589}]
["Smith County","Tennessee",1422,1670,1760,1962,1994,{"$f":"ROW()","v":2590}]
["Stewart County","Tennessee",1429,1679,1769,1972,2004,{"$f":"ROW()","v":2591}]
["Sullivan County","Tennessee",1381,1622,1709,1906,1936,{"$f":"ROW()","v":2592}]
["Sumner County","Tennessee",1802,2116,2230,2486,2527,{"$f":"ROW()","v":2593}]
["Tipton County","Tennessee",1550,1820,1918,2139,2173,{"$f":"ROW()","v":2594}]
["Trousdale County","Tennessee",1501,1763,1858,2072,2105,{"$f":"ROW()","v":2595}]
["Unicoi County","Tennessee",1275,1498,1578,1759,1788,{"$f":"ROW()","v":2596}]
["Union County","Tennessee",1336,1569,1653,1843,1873,{"$f":"ROW()","v":2597}]
["Van Buren County","Tennessee",1100,1292,1361,1518,1542,{"$f":"ROW()","v":2598}]
["Warren County","Tennessee",1264,1484,1564,1744,1772,{"$f":"ROW()","v":2599}]
["Washington County","Tennessee",1495,1756,1850,2063,2096,{"$f":"ROW()","v":2600}]
["Wayne County","Tennessee",1179,1385,1459,1627,1653,{"$f":"ROW()","v":2601}]
["Weakley County","Tennessee",1209,1420,1496,1668,1695,{"$f":"ROW()","v":2602}]
["White County","Tennessee",1307,1535,1618,1804,1833,{"$f":"ROW()","v":2603}]
["Williamson County","Tennessee",2482,2915,3072,3425,3481,{"$f":"ROW()","v":2604}]
["Wilson County","Tennessee",1931,2268,2390,2665,2708,{"$f":"ROW()","v":2605}]
["Anderson County","Texas",1433,1684,1774,1978,2010,{"$f":"ROW()","v":2606}]
["Andrews County","Texas",1834,2154,2270,2531,2572,{"$f":"ROW()","v":2607}]
["Angelina County","Texas",1557,1829,1927,2149,2183,{"$f":"ROW()","v":2608}]
["Aransas County","Texas",1883,2212,2331,2599,2641,{"$f":"ROW()","v":2609}]
["Archer County","Texas",1719,2019,2128,2373,2411,{"$f":"ROW()","v":2610}]
["Armstrong County","Texas",1547,1817,1915,2135,2170,{"$f":"ROW()","v":2611}]
["Atascosa County","Texas",1559,1831,1929,2151,2186,{"$f":"ROW()","v":2612}]
["Austin County","Texas",1832,2151,2267,2528,2569,{"$f":"ROW()","v":2613}]
["Bailey County","Texas",1092,1282,1351,1506,1531,{"$f":"ROW()","v":2614}]
["Bandera County","Texas",1848,2170,2287,2550,2591,{"$f":"ROW()","v":2615}]
["Bastrop County","Texas",1837,2158,2274,2536,2576,{"$f":"ROW()","v":2616}]
["Baylor County","Texas",1904,2236,2356,2627,2669,{"$f":"ROW()","v":2617}]
["Bee County","Texas",1422,1670,1760,1962,1994,{"$f":"ROW()","v":2618}]
["Bell County","Texas",1704,2001,2109,2352,2389,{"$f":"ROW()","v":2619}]
["Bexar County","Texas",1881,2209,2328,2596,2638,{"$f":"ROW()","v":2620}]
["Blanco County","Texas",1887,2216,2335,2604,2646,{"$f":"ROW()","v":2621}]
["Borden County","Texas",1511,1775,1870,2085,2119,{"$f":"ROW()","v":2622}]
["Bosque County","Texas",1419,1666,1756,1958,1990,{"$f":"ROW()","v":2623}]
["Bowie County","Texas",1584,1861,1961,2187,2222,{"$f":"ROW()","v":2624}]
["Brazoria County","Texas",2218,2605,2745,3061,3110,{"$f":"ROW()","v":2625}]
["Brazos County","Texas",1963,2306,2430,2709,2753,{"$f":"ROW()","v":2626}]
["Brewster County","Texas",1669,1961,2066,2304,2341,{"$f":"ROW()","v":2627}]
["Briscoe County","Texas",1328,1559,1643,1832,1862,{"$f":"ROW()","v":2628}]
["Brooks County","Texas",1350,1586,1671,1863,1893,{"$f":"ROW()","v":2629}]
["Brown County","Texas",1547,1817,1915,2135,2170,{"$f":"ROW()","v":2630}]
["Burleson County","Texas",1620,1903,2005,2236,2272,{"$f":"ROW()","v":2631}]
["Burnet County","Texas",1965,2308,2432,2712,2755,{"$f":"ROW()","v":2632}]
["Caldwell County","Texas",1685,1980,2086,2326,2363,{"$f":"ROW()","v":2633}]
["Calhoun County","Texas",1605,1886,1987,2216,2251,{"$f":"ROW()","v":2634}]
["Callahan County","Texas",1583,1859,1959,2184,2220,{"$f":"ROW()","v":2635}]
["Cameron County","Texas",1478,1736,1829,2039,2072,{"$f":"ROW()","v":2636}]
["Camp County","Texas",1454,1707,1799,2006,2038,{"$f":"ROW()","v":2637}]
["Carson County","Texas",1466,1721,1814,2023,2055,{"$f":"ROW()","v":2638}]
["Cass County","Texas",1378,1619,1706,1902,1933,{"$f":"ROW()","v":2639}]
["Castro County","Texas",1316,1546,1629,1816,1846,{"$f":"ROW()","v":2640}]
["Chambers County","Texas",2154,2530,2666,2973,3021,{"$f":"ROW()","v":2641}]
["Cherokee County","Texas",1526,1793,1889,2106,2140,{"$f":"ROW()","v":2642}]
["Childress County","Texas",1635,1920,2023,2256,2292,{"$f":"ROW()","v":2643}]
["Clay County","Texas",1530,1797,1894,2112,2146,{"$f":"ROW()","v":2644}]
["Cochran County","Texas",1248,1466,1545,1723,1750,{"$f":"ROW()","v":2645}]
["Coke County","Texas",1143,1343,1415,1578,1603,{"$f":"ROW()","v":2646}]
["Coleman County","Texas",1408,1654,1743,1943,1975,{"$f":"ROW()","v":2647}]
["Collin County","Texas",2589,3041,3204,3572,3630,{"$f":"ROW()","v":2648}]
["Collingsworth County","Texas",1016,1193,1257,1402,1424,{"$f":"ROW()","v":2649}]
["Colorado County","Texas",1706,2003,2111,2354,2392,{"$f":"ROW()","v":2650}]
["Comal County","Texas",2260,2654,2797,3119,3169,{"$f":"ROW()","v":2651}]
["Comanche County","Texas",1403,1647,1736,1936,1967,{"$f":"ROW()","v":2652}]
["Concho County","Texas",1331,1563,1647,1836,1866,{"$f":"ROW()","v":2653}]
["Cooke County","Texas",1698,1995,2102,2344,2382,{"$f":"ROW()","v":2654}]
["Coryell County","Texas",1546,1815,1913,2133,2167,{"$f":"ROW()","v":2655}]
["Cottle County","Texas",1274,1497,1577,1758,1787,{"$f":"ROW()","v":2656}]
["Crane County","Texas",1363,1601,1687,1881,1911,{"$f":"ROW()","v":2657}]
["Crockett County","Texas",1511,1775,1870,2085,2119,{"$f":"ROW()","v":2658}]
["Crosby County","Texas",1408,1653,1742,1942,1974,{"$f":"ROW()","v":2659}]
["Culberson County","Texas",1531,1798,1895,2113,2147,{"$f":"ROW()","v":2660}]
["Dallam County","Texas",1237,1453,1531,1707,1735,{"$f":"ROW()","v":2661}]
["Dallas County","Texas",2018,2370,2497,2784,2829,{"$f":"ROW()","v":2662}]
["Dawson County","Texas",1441,1692,1783,1988,2020,{"$f":"ROW()","v":2663}]
["Deaf Smith County","Texas",1493,1754,1848,2061,2094,{"$f":"ROW()","v":2664}]
["Delta County","Texas",1747,2052,2162,2411,2450,{"$f":"ROW()","v":2665}]
["Denton County","Texas",2448,2875,3030,3378,3433,{"$f":"ROW()","v":2666}]
["DeWitt County","Texas",1528,1795,1891,2108,2143,{"$f":"ROW()","v":2667}]
["Dickens County","Texas",1604,1884,1985,2213,2249,{"$f":"ROW()","v":2668}]
["Dimmit County","Texas",1328,1560,1644,1833,1863,{"$f":"ROW()","v":2669}]
["Donley County","Texas",1530,1796,1893,2111,2145,{"$f":"ROW()","v":2670}]
["Duval County","Texas",1344,1578,1663,1854,1884,{"$f":"ROW()","v":2671}]
["Eastland County","Texas",1489,1749,1843,2055,2088,{"$f":"ROW()","v":2672}]
["Ector County","Texas",1846,2168,2285,2548,2589,{"$f":"ROW()","v":2673}]
["Edwards County","Texas",1342,1576,1661,1852,1882,{"$f":"ROW()","v":2674}]
["Ellis County","Texas",2088,2452,2584,2881,2928,{"$f":"ROW()","v":2675}]
["El Paso County","Texas",1622,1906,2008,2239,2275,{"$f":"ROW()","v":2676}]
["Erath County","Texas",1784,2095,2208,2462,2502,{"$f":"ROW()","v":2677}]
["Falls County","Texas",1463,1719,1811,2019,2052,{"$f":"ROW()","v":2678}]
["Fannin County","Texas",1690,1984,2091,2331,2369,{"$f":"ROW()","v":2679}]
["Fayette County","Texas",1656,1945,2049,2285,2322,{"$f":"ROW()","v":2680}]
["Fisher County","Texas",1455,1709,1801,2008,2041,{"$f":"ROW()","v":2681}]
["Floyd County","Texas",1260,1479,1559,1738,1766,{"$f":"ROW()","v":2682}]
["Foard County","Texas",1328,1560,1644,1833,1863,{"$f":"ROW()","v":2683}]
["Fort Bend County","Texas",2435,2859,3013,3359,3414,{"$f":"ROW()","v":2684}]
["Franklin County","Texas",1770,2079,2191,2443,2482,{"$f":"ROW()","v":2685}]
["Freestone County","Texas",1579,1854,1954,2179,2214,{"$f":"ROW()","v":2686}]
["Frio County","Texas",1625,1908,2011,2242,2278,{"$f":"ROW()","v":2687}]
["Gaines County","Texas",1741,2045,2155,2403,2442,{"$f":"ROW()","v":2688}]
["Galveston County","Texas",2115,2484,2618,2919,2966,{"$f":"ROW()","v":2689}]
["Garza County","Texas",1526,1792,1888,2105,2139,{"$f":"ROW()","v":2690}]
["Gillespie County","Texas",2020,2373,2500,2788,2833,{"$f":"ROW()","v":2691}]
["Glasscock County","Texas",1158,1360,1433,1598,1624,{"$f":"ROW()","v":2692}]
["Goliad County","Texas",1618,1901,2003,2233,2269,{"$f":"ROW()","v":2693}]
["Gonzales County","Texas",1504,1766,1861,2075,2109,{"$f":"ROW()","v":2694}]
["Gray County","Texas",1552,1823,1921,2142,2176,{"$f":"ROW()","v":2695}]
["Grayson County","Texas",1760,2067,2178,2428,2468,{"$f":"ROW()","v":2696}]
["Gregg County","Texas",1596,1874,1975,2202,2238,{"$f":"ROW()","v":2697}]
["Grimes County","Texas",1764,2072,2183,2434,2473,{"$f":"ROW()","v":2698}]
["Guadalupe County","Texas",1925,2261,2383,2657,2700,{"$f":"ROW()","v":2699}]
["Hale County","Texas",1535,1803,1900,2119,2153,{"$f":"ROW()","v":2700}]
["Hall County","Texas",1317,1547,1630,1817,1847,{"$f":"ROW()","v":2701}]
["Hamilton County","Texas",1451,1704,1796,2003,2035,{"$f":"ROW()","v":2702}]
["Hansford County","Texas",1638,1924,2027,2260,2297,{"$f":"ROW()","v":2703}]
["Hardeman County","Texas",1345,1580,1665,1856,1886,{"$f":"ROW()","v":2704}]
["Hardin County","Texas",1631,1916,2019,2251,2288,{"$f":"ROW()","v":2705}]
["Harris County","Texas",2008,2358,2485,2771,2816,{"$f":"ROW()","v":2706}]
["Harrison County","Texas",1609,1889,1991,2220,2256,{"$f":"ROW()","v":2707}]
["Hartley County","Texas",1748,2053,2163,2412,2451,{"$f":"ROW()","v":2708}]
["Haskell County","Texas",1319,1549,1632,1820,1849,{"$f":"ROW()","v":2709}]
["Hays County","Texas",2157,2533,2669,2976,3024,{"$f":"ROW()","v":2710}]
["Hemphill County","Texas",1597,1875,1976,2203,2239,{"$f":"ROW()","v":2711}]
["Henderson County","Texas",1569,1843,1942,2165,2200,{"$f":"ROW()","v":2712}]
["Hidalgo County","Texas",1512,1776,1871,2086,2120,{"$f":"ROW()","v":2713}]
["Hill County","Texas",1545,1814,1912,2132,2166,{"$f":"ROW()","v":2714}]
["Hockley County","Texas",1618,1900,2002,2232,2268,{"$f":"ROW()","v":2715}]
["Hood County","Texas",1811,2127,2241,2499,2539,{"$f":"ROW()","v":2716}]
["Hopkins County","Texas",1516,1780,1876,2092,2126,{"$f":"ROW()","v":2717}]
["Houston County","Texas",1471,1727,1820,2029,2062,{"$f":"ROW()","v":2718}]
["Howard County","Texas",1535,1803,1900,2119,2153,{"$f":"ROW()","v":2719}]
["Hudspeth County","Texas",1116,1311,1381,1540,1565,{"$f":"ROW()","v":2720}]
["Hunt County","Texas",1760,2067,2178,2428,2468,{"$f":"ROW()","v":2721}]
["Hutchinson County","Texas",1385,1627,1714,1911,1942,{"$f":"ROW()","v":2722}]
["Irion County","Texas",1800,2114,2228,2484,2524,{"$f":"ROW()","v":2723}]
["Jack County","Texas",1705,2002,2110,2353,2391,{"$f":"ROW()","v":2724}]
["Jackson County","Texas",1512,1776,1871,2086,2120,{"$f":"ROW()","v":2725}]
["Jasper County","Texas",1517,1781,1877,2093,2127,{"$f":"ROW()","v":2726}]
["Jeff Davis County","Texas",1692,1987,2094,2335,2373,{"$f":"ROW()","v":2727}]
["Jefferson County","Texas",1778,2088,2200,2453,2493,{"$f":"ROW()","v":2728}]
["Jim Hogg County","Texas",1530,1796,1893,2111,2145,{"$f":"ROW()","v":2729}]
["Jim Wells County","Texas",1724,2025,2134,2379,2418,{"$f":"ROW()","v":2730}]
["Johnson County","Texas",1819,2136,2251,2510,2550,{"$f":"ROW()","v":2731}]
["Jones County","Texas",1373,1612,1699,1894,1925,{"$f":"ROW()","v":2732}]
["Karnes County","Texas",1482,1740,1834,2045,2078,{"$f":"ROW()","v":2733}]
["Kaufman County","Texas",2111,2480,2613,2913,2961,{"$f":"ROW()","v":2734}]
["Kendall County","Texas",2435,2859,3013,3359,3414,{"$f":"ROW()","v":2735}]
["Kenedy County","Texas",1511,1775,1870,2085,2119,{"$f":"ROW()","v":2736}]
["Kent County","Texas",2119,2489,2623,2925,2972,{"$f":"ROW()","v":2737}]
["Kerr County","Texas",1673,1965,2071,2309,2346,{"$f":"ROW()","v":2738}]
["Kimble County","Texas",1541,1810,1907,2126,2161,{"$f":"ROW()","v":2739}]
["King County","Texas",1511,1775,1870,2085,2119,{"$f":"ROW()","v":2740}]
["Kinney County","Texas",1223,1436,1513,1687,1714,{"$f":"ROW()","v":2741}]
["Kleberg County","Texas",1732,2034,2143,2389,2428,{"$f":"ROW()","v":2742}]
["Knox County","Texas",1180,1386,1461,1629,1655,{"$f":"ROW()","v":2743}]
["Lamar County","Texas",1605,1886,1987,2216,2251,{"$f":"ROW()","v":2744}]
["Lamb County","Texas",1307,1535,1617,1803,1832,{"$f":"ROW()","v":2745}]
["Lampasas County","Texas",1714,2013,2121,2365,2403,{"$f":"ROW()","v":2746}]
["La Salle County","Texas",1600,1879,1980,2208,2243,{"$f":"ROW()","v":2747}]
["Lavaca County","Texas",1656,1945,2050,2286,2323,{"$f":"ROW()","v":2748}]
["Lee County","Texas",1819,2136,2251,2510,2550,{"$f":"ROW()","v":2749}]
["Leon County","Texas",1402,1647,1735,1935,1966,{"$f":"ROW()","v":2750}]
["Liberty County","Texas",1673,1965,2071,2309,2346,{"$f":"ROW()","v":2751}]
["Limestone County","Texas",1497,1758,1853,2066,2099,{"$f":"ROW()","v":2752}]
["Lipscomb County","Texas",1459,1714,1806,2014,2046,{"$f":"ROW()","v":2753}]
["Live Oak County","Texas",1517,1781,1877,2093,2127,{"$f":"ROW()","v":2754}]
["Llano County","Texas",1622,1905,2007,2238,2274,{"$f":"ROW()","v":2755}]
["Loving County","Texas",1511,1775,1870,2085,2119,{"$f":"ROW()","v":2756}]
["Lubbock County","Texas",1802,2116,2230,2486,2527,{"$f":"ROW()","v":2757}]
["Lynn County","Texas",1682,1976,2082,2321,2359,{"$f":"ROW()","v":2758}]
["McCulloch County","Texas",1273,1495,1575,1756,1784,{"$f":"ROW()","v":2759}]
["McLennan County","Texas",1753,2058,2169,2418,2457,{"$f":"ROW()","v":2760}]
["McMullen County","Texas",1547,1816,1914,2134,2169,{"$f":"ROW()","v":2761}]
["Madison County","Texas",1534,1802,1899,2117,2152,{"$f":"ROW()","v":2762}]
["Marion County","Texas",1375,1615,1702,1898,1928,{"$f":"ROW()","v":2763}]
["Martin County","Texas",2162,2540,2676,2984,3032,{"$f":"ROW()","v":2764}]
["Mason County","Texas",1681,1975,2081,2320,2358,{"$f":"ROW()","v":2765}]
["Matagorda County","Texas",1629,1913,2016,2248,2284,{"$f":"ROW()","v":2766}]
["Maverick County","Texas",1586,1863,1963,2189,2224,{"$f":"ROW()","v":2767}]
["Medina County","Texas",1789,2101,2214,2469,2508,{"$f":"ROW()","v":2768}]
["Menard County","Texas",1029,1208,1273,1419,1442,{"$f":"ROW()","v":2769}]
["Midland County","Texas",2137,2510,2645,2949,2997,{"$f":"ROW()","v":2770}]
["Milam County","Texas",1529,1796,1892,2110,2144,{"$f":"ROW()","v":2771}]
["Mills County","Texas",1409,1655,1744,1945,1976,{"$f":"ROW()","v":2772}]
["Mitchell County","Texas",1514,1778,1874,2090,2123,{"$f":"ROW()","v":2773}]
["Montague County","Texas",1513,1777,1873,2088,2122,{"$f":"ROW()","v":2774}]
["Montgomery County","Texas",2194,2577,2715,3027,3076,{"$f":"ROW()","v":2775}]
["Moore County","Texas",1474,1731,1824,2034,2067,{"$f":"ROW()","v":2776}]
["Morris County","Texas",1328,1560,1644,1833,1863,{"$f":"ROW()","v":2777}]
["Motley County","Texas",1194,1403,1478,1648,1675,{"$f":"ROW()","v":2778}]
["Nacogdoches County","Texas",1533,1800,1897,2115,2149,{"$f":"ROW()","v":2779}]
["Navarro County","Texas",1530,1797,1894,2112,2146,{"$f":"ROW()","v":2780}]
["Newton County","Texas",1544,1814,1911,2131,2165,{"$f":"ROW()","v":2781}]
["Nolan County","Texas",1568,1841,1940,2163,2198,{"$f":"ROW()","v":2782}]
["Nueces County","Texas",1864,2189,2307,2572,2614,{"$f":"ROW()","v":2783}]
["Ochiltree County","Texas",1715,2014,2122,2366,2404,{"$f":"ROW()","v":2784}]
["Oldham County","Texas",1611,1892,1994,2223,2259,{"$f":"ROW()","v":2785}]
["Orange County","Texas",1660,1950,2055,2291,2328,{"$f":"ROW()","v":2786}]
["Palo Pinto County","Texas",1750,2056,2166,2415,2454,{"$f":"ROW()","v":2787}]
["Panola County","Texas",1500,1761,1856,2069,2103,{"$f":"ROW()","v":2788}]
["Parker County","Texas",2237,2627,2768,3086,3136,{"$f":"ROW()","v":2789}]
["Parmer County","Texas",1649,1937,2041,2276,2312,{"$f":"ROW()","v":2790}]
["Pecos County","Texas",1623,1907,2009,2240,2276,{"$f":"ROW()","v":2791}]
["Polk County","Texas",1451,1704,1796,2003,2035,{"$f":"ROW()","v":2792}]
["Potter County","Texas",1519,1784,1880,2096,2130,{"$f":"ROW()","v":2793}]
["Presidio County","Texas",1397,1641,1729,1928,1959,{"$f":"ROW()","v":2794}]
["Rains County","Texas",1585,1862,1962,2188,2223,{"$f":"ROW()","v":2795}]
["Randall County","Texas",1782,2093,2205,2459,2498,{"$f":"ROW()","v":2796}]
["Reagan County","Texas",1600,1879,1980,2208,2243,{"$f":"ROW()","v":2797}]
["Real County","Texas",2199,2582,2721,3034,3083,{"$f":"ROW()","v":2798}]
["Red River County","Texas",1329,1561,1645,1834,1864,{"$f":"ROW()","v":2799}]
["Reeves County","Texas",1535,1803,1900,2119,2153,{"$f":"ROW()","v":2800}]
["Refugio County","Texas",1317,1547,1630,1817,1847,{"$f":"ROW()","v":2801}]
["Roberts County","Texas",2011,2362,2489,2775,2820,{"$f":"ROW()","v":2802}]
["Robertson County","Texas",1623,1907,2009,2240,2276,{"$f":"ROW()","v":2803}]
["Rockwall County","Texas",2450,2877,3032,3381,3435,{"$f":"ROW()","v":2804}]
["Runnels County","Texas",1322,1553,1636,1824,1854,{"$f":"ROW()","v":2805}]
["Rusk County","Texas",1475,1732,1825,2035,2068,{"$f":"ROW()","v":2806}]
["Sabine County","Texas",1546,1815,1913,2133,2167,{"$f":"ROW()","v":2807}]
["San Augustine County","Texas",1445,1697,1788,1994,2026,{"$f":"ROW()","v":2808}]
["San Jacinto County","Texas",1692,1987,2094,2335,2373,{"$f":"ROW()","v":2809}]
["San Patricio County","Texas",1824,2142,2257,2517,2557,{"$f":"ROW()","v":2810}]
["San Saba County","Texas",1406,1651,1740,1940,1971,{"$f":"ROW()","v":2811}]
["Schleicher County","Texas",1360,1597,1683,1877,1907,{"$f":"ROW()","v":2812}]
["Scurry County","Texas",1545,1814,1912,2132,2166,{"$f":"ROW()","v":2813}]
["Shackelford County","Texas",1921,2256,2377,2650,2693,{"$f":"ROW()","v":2814}]
["Shelby County","Texas",1469,1725,1818,2027,2060,{"$f":"ROW()","v":2815}]
["Sherman County","Texas",1437,1688,1779,1984,2016,{"$f":"ROW()","v":2816}]
["Smith County","Texas",1684,1978,2084,2324,2361,{"$f":"ROW()","v":2817}]
["Somervell County","Texas",1875,2203,2321,2588,2630,{"$f":"ROW()","v":2818}]
["Starr County","Texas",1483,1742,1836,2047,2080,{"$f":"ROW()","v":2819}]
["Stephens County","Texas",1359,1596,1682,1875,1906,{"$f":"ROW()","v":2820}]
["Sterling County","Texas",1337,1571,1655,1845,1875,{"$f":"ROW()","v":2821}]
["Stonewall County","Texas",1305,1533,1615,1801,1830,{"$f":"ROW()","v":2822}]
["Sutton County","Texas",1701,1998,2105,2347,2385,{"$f":"ROW()","v":2823}]
["Swisher County","Texas",1396,1640,1728,1927,1958,{"$f":"ROW()","v":2824}]
["Tarrant County","Texas",2081,2444,2575,2871,2917,{"$f":"ROW()","v":2825}]
["Taylor County","Texas",1707,2005,2113,2356,2394,{"$f":"ROW()","v":2826}]
["Terrell County","Texas",1444,1696,1787,1993,2025,{"$f":"ROW()","v":2827}]
["Terry County","Texas",1514,1778,1874,2090,2123,{"$f":"ROW()","v":2828}]
["Throckmorton County","Texas",1423,1671,1761,1964,1995,{"$f":"ROW()","v":2829}]
["Titus County","Texas",1442,1694,1785,1990,2022,{"$f":"ROW()","v":2830}]
["Tom Green County","Texas",1669,1960,2065,2302,2340,{"$f":"ROW()","v":2831}]
["Travis County","Texas",2447,2874,3028,3376,3431,{"$f":"ROW()","v":2832}]
["Trinity County","Texas",1498,1759,1854,2067,2101,{"$f":"ROW()","v":2833}]
["Tyler County","Texas",1442,1694,1785,1990,2022,{"$f":"ROW()","v":2834}]
["Upshur County","Texas",1575,1850,1949,2173,2208,{"$f":"ROW()","v":2835}]
["Upton County","Texas",1425,1673,1763,1966,1997,{"$f":"ROW()","v":2836}]
["Uvalde County","Texas",1542,1812,1909,2129,2163,{"$f":"ROW()","v":2837}]
["Val Verde County","Texas",1719,2019,2128,2373,2411,{"$f":"ROW()","v":2838}]
["Van Zandt County","Texas",1613,1894,1996,2226,2261,{"$f":"ROW()","v":2839}]
["Victoria County","Texas",1789,2101,2214,2469,2508,{"$f":"ROW()","v":2840}]
["Walker County","Texas",1585,1862,1962,2188,2223,{"$f":"ROW()","v":2841}]
["Waller County","Texas",2072,2433,2564,2859,2905,{"$f":"ROW()","v":2842}]
["Ward County","Texas",1528,1795,1891,2108,2143,{"$f":"ROW()","v":2843}]
["Washington County","Texas",1869,2195,2313,2579,2621,{"$f":"ROW()","v":2844}]
["Webb County","Texas",1736,2038,2148,2395,2434,{"$f":"ROW()","v":2845}]
["Wharton County","Texas",1705,2002,2110,2353,2391,{"$f":"ROW()","v":2846}]
["Wheeler County","Texas",1462,1717,1809,2017,2050,{"$f":"ROW()","v":2847}]
["Wichita County","Texas",1527,1794,1890,2107,2141,{"$f":"ROW()","v":2848}]
["Wilbarger County","Texas",1333,1566,1650,1840,1869,{"$f":"ROW()","v":2849}]
["Willacy County","Texas",1366,1605,1691,1885,1916,{"$f":"ROW()","v":2850}]
["Williamson County","Texas",2301,2703,2848,3176,3227,{"$f":"ROW()","v":2851}]
["Wilson County","Texas",2001,2350,2476,2761,2805,{"$f":"ROW()","v":2852}]
["Winkler County","Texas",1401,1646,1734,1933,1965,{"$f":"ROW()","v":2853}]
["Wise County","Texas",1929,2265,2387,2662,2704,{"$f":"ROW()","v":2854}]
["Wood County","Texas",1583,1859,1959,2184,2220,{"$f":"ROW()","v":2855}]
["Yoakum County","Texas",1696,1992,2099,2340,2378,{"$f":"ROW()","v":2856}]
["Young County","Texas",1455,1709,1801,2008,2041,{"$f":"ROW()","v":2857}]
["Zapata County","Texas",1315,1545,1628,1815,1845,{"$f":"ROW()","v":2858}]
["Zavala County","Texas",1159,1362,1435,1600,1626,{"$f":"ROW()","v":2859}]
["Beaver County","Utah",1415,1662,1751,1952,1984,{"$f":"ROW()","v":2860}]
["Box Elder County","Utah",1671,1963,2068,2306,2343,{"$f":"ROW()","v":2861}]
["Cache County","Utah",1733,2036,2145,2392,2430,{"$f":"ROW()","v":2862}]
["Carbon County","Utah",1391,1634,1722,1920,1951,{"$f":"ROW()","v":2863}]
["Daggett County","Utah",1425,1673,1763,1966,1997,{"$f":"ROW()","v":2864}]
["Davis County","Utah",1980,2325,2450,2732,2776,{"$f":"ROW()","v":2865}]
["Duchesne County","Utah",1619,1902,2004,2234,2271,{"$f":"ROW()","v":2866}]
["Emery County","Utah",1366,1605,1691,1885,1916,{"$f":"ROW()","v":2867}]
["Garfield County","Utah",1635,1920,2023,2256,2292,{"$f":"ROW()","v":2868}]
["Grand County","Utah",1724,2025,2134,2379,2418,{"$f":"ROW()","v":2869}]
["Iron County","Utah",1611,1892,1994,2223,2259,{"$f":"ROW()","v":2870}]
["Juab County","Utah",1694,1990,2097,2338,2376,{"$f":"ROW()","v":2871}]
["Kane County","Utah",1584,1861,1961,2187,2222,{"$f":"ROW()","v":2872}]
["Millard County","Utah",1471,1727,1820,2029,2062,{"$f":"ROW()","v":2873}]
["Morgan County","Utah",2368,2782,2931,3268,3321,{"$f":"ROW()","v":2874}]
["Piute County","Utah",1410,1656,1745,1946,1977,{"$f":"ROW()","v":2875}]
["Rich County","Utah",1472,1729,1822,2032,2064,{"$f":"ROW()","v":2876}]
["Salt Lake County","Utah",2040,2396,2525,2815,2861,{"$f":"ROW()","v":2877}]
["San Juan County","Utah",1608,1889,1990,2219,2255,{"$f":"ROW()","v":2878}]
["Sanpete County","Utah",1536,1804,1901,2120,2154,{"$f":"ROW()","v":2879}]
["Sevier County","Utah",1513,1777,1873,2088,2122,{"$f":"ROW()","v":2880}]
["Summit County","Utah",2657,3120,3288,3666,3725,{"$f":"ROW()","v":2881}]
["Tooele County","Utah",1842,2164,2280,2542,2583,{"$f":"ROW()","v":2882}]
["Uintah County","Utah",1639,1925,2028,2261,2298,{"$f":"ROW()","v":2883}]
["Utah County","Utah",2019,2372,2499,2786,2831,{"$f":"ROW()","v":2884}]
["Wasatch County","Utah",2367,2781,2930,3267,3320,{"$f":"ROW()","v":2885}]
["Washington County","Utah",1860,2185,2302,2567,2608,{"$f":"ROW()","v":2886}]
["Wayne County","Utah",1661,1951,2056,2292,2329,{"$f":"ROW()","v":2887}]
["Weber County","Utah",1811,2127,2241,2499,2539,{"$f":"ROW()","v":2888}]
["Addison County","Vermont",2007,2357,2484,2770,2814,{"$f":"ROW()","v":2889}]
["Bennington County","Vermont",1758,2065,2176,2426,2465,{"$f":"ROW()","v":2890}]
["Caledonia County","Vermont",1670,1962,2067,2305,2342,{"$f":"ROW()","v":2891}]
["Chittenden County","Vermont",2251,2644,2786,3106,3157,{"$f":"ROW()","v":2892}]
["Essex County","Vermont",1557,1829,1927,2149,2183,{"$f":"ROW()","v":2893}]
["Franklin County","Vermont",1917,2252,2373,2646,2689,{"$f":"ROW()","v":2894}]
["Grand Isle County","Vermont",2118,2487,2621,2922,2970,{"$f":"ROW()","v":2895}]
["Lamoille County","Vermont",1833,2153,2269,2530,2571,{"$f":"ROW()","v":2896}]
["Orange County","Vermont",1793,2106,2219,2474,2514,{"$f":"ROW()","v":2897}]
["Orleans County","Vermont",1622,1905,2007,2238,2274,{"$f":"ROW()","v":2898}]
["Rutland County","Vermont",1711,2009,2117,2360,2399,{"$f":"ROW()","v":2899}]
["Washington County","Vermont",1955,2297,2420,2698,2742,{"$f":"ROW()","v":2900}]
["Windham County","Vermont",1816,2133,2248,2507,2547,{"$f":"ROW()","v":2901}]
["Windsor County","Vermont",1887,2217,2336,2605,2647,{"$f":"ROW()","v":2902}]
["Accomack County","Virginia",1497,1758,1853,2066,2099,{"$f":"ROW()","v":2903}]
["Albemarle County","Virginia",2191,2574,2712,3024,3073,{"$f":"ROW()","v":2904}]
["Alleghany County","Virginia",1359,1596,1682,1875,1906,{"$f":"ROW()","v":2905}]
["Amelia County","Virginia",1734,2037,2146,2393,2431,{"$f":"ROW()","v":2906}]
["Amherst County","Virginia",1406,1651,1740,1940,1971,{"$f":"ROW()","v":2907}]
["Appomattox County","Virginia",1438,1689,1780,1985,2017,{"$f":"ROW()","v":2908}]
["Arlington County","Virginia",3318,3898,4107,4579,4653,{"$f":"ROW()","v":2909}]
["Augusta County","Virginia",1659,1948,2053,2289,2326,{"$f":"ROW()","v":2910}]
["Bath County","Virginia",1336,1569,1653,1843,1873,{"$f":"ROW()","v":2911}]
["Bedford County","Virginia",1571,1845,1944,2168,2203,{"$f":"ROW()","v":2912}]
["Bland County","Virginia",1336,1569,1653,1843,1873,{"$f":"ROW()","v":2913}]
["Botetourt County","Virginia",1715,2014,2122,2366,2404,{"$f":"ROW()","v":2914}]
["Brunswick County","Virginia",1331,1563,1647,1836,1866,{"$f":"ROW()","v":2915}]
["Buchanan County","Virginia",1277,1500,1581,1763,1791,{"$f":"ROW()","v":2916}]
["Buckingham County","Virginia",1391,1634,1722,1920,1951,{"$f":"ROW()","v":2917}]
["Campbell County","Virginia",1395,1638,1726,1924,1956,{"$f":"ROW()","v":2918}]
["Caroline County","Virginia",1786,2098,2211,2465,2505,{"$f":"ROW()","v":2919}]
["Carroll County","Virginia",1245,1462,1541,1718,1746,{"$f":"ROW()","v":2920}]
["Charles City County","Virginia",1523,1789,1885,2102,2136,{"$f":"ROW()","v":2921}]
["Charlotte County","Virginia",1338,1572,1656,1846,1876,{"$f":"ROW()","v":2922}]
["Chesterfield County","Virginia",1908,2241,2361,2633,2675,{"$f":"ROW()","v":2923}]
["Clarke County","Virginia",2161,2539,2675,2983,3031,{"$f":"ROW()","v":2924}]
["Craig County","Virginia",1462,1718,1810,2018,2051,{"$f":"ROW()","v":2925}]
["Culpeper County","Virginia",1996,2344,2470,2754,2799,{"$f":"ROW()","v":2926}]
["Cumberland County","Virginia",1492,1753,1847,2059,2093,{"$f":"ROW()","v":2927}]
["Dickenson County","Virginia",1172,1377,1451,1618,1644,{"$f":"ROW()","v":2928}]
["Dinwiddie County","Virginia",1578,1853,1953,2178,2213,{"$f":"ROW()","v":2929}]
["Essex County","Virginia",1491,1751,1845,2057,2090,{"$f":"ROW()","v":2930}]
["Fairfax County","Virginia",3003,3526,3716,4143,4210,{"$f":"ROW()","v":2931}]
["Fauquier County","Virginia",2554,3000,3161,3525,3581,{"$f":"ROW()","v":2932}]
["Floyd County","Virginia",1481,1740,1833,2044,2077,{"$f":"ROW()","v":2933}]
["Fluvanna County","Virginia",1782,2093,2206,2460,2499,{"$f":"ROW()","v":2934}]
["Franklin County","Virginia",1470,1726,1819,2028,2061,{"$f":"ROW()","v":2935}]
["Frederick County","Virginia",1896,2226,2346,2616,2658,{"$f":"ROW()","v":2936}]
["Giles County","Virginia",1333,1566,1650,1840,1869,{"$f":"ROW()","v":2937}]
["Gloucester County","Virginia",1732,2034,2143,2389,2428,{"$f":"ROW()","v":2938}]
["Goochland County","Virginia",2071,2432,2563,2858,2904,{"$f":"ROW()","v":2939}]
["Grayson County","Virginia",1204,1414,1490,1661,1688,{"$f":"ROW()","v":2940}]
["Greene County","Virginia",1850,2172,2289,2552,2593,{"$f":"ROW()","v":2941}]
["Greensville County","Virginia",1258,1478,1557,1736,1764,{"$f":"ROW()","v":2942}]
["Halifax County","Virginia",1269,1491,1571,1752,1780,{"$f":"ROW()","v":2943}]
["Hanover County","Virginia",1993,2341,2467,2751,2795,{"$f":"ROW()","v":2944}]
["Henrico County","Virginia",1856,2180,2297,2561,2603,{"$f":"ROW()","v":2945}]
["Henry County","Virginia",1189,1396,1471,1640,1667,{"$f":"ROW()","v":2946}]
["Highland County","Virginia",1349,1585,1670,1862,1892,{"$f":"ROW()","v":2947}]
["Isle of Wight County","Virginia",2148,2522,2658,2964,3012,{"$f":"ROW()","v":2948}]
["James City County","Virginia",2082,2446,2577,2873,2920,{"$f":"ROW()","v":2949}]
["King and Queen County","Virginia",1492,1753,1847,2059,2093,{"$f":"ROW()","v":2950}]
["King George County","Virginia",2140,2514,2649,2954,3001,{"$f":"ROW()","v":2951}]
["King William County","Virginia",1681,1975,2081,2320,2358,{"$f":"ROW()","v":2952}]
["Lancaster County","Virginia",1711,2010,2118,2362,2400,{"$f":"ROW()","v":2953}]
["Lee County","Virginia",1215,1427,1504,1677,1704,{"$f":"ROW()","v":2954}]
["Loudoun County","Virginia",3074,3610,3804,4241,4310,{"$f":"ROW()","v":2955}]
["Louisa County","Virginia",1656,1945,2049,2285,2322,{"$f":"ROW()","v":2956}]
["Lunenburg County","Virginia",1413,1660,1749,1950,1982,{"$f":"ROW()","v":2957}]
["Madison County","Virginia",1728,2030,2139,2385,2423,{"$f":"ROW()","v":2958}]
["Mathews County","Virginia",1837,2158,2274,2536,2576,{"$f":"ROW()","v":2959}]
["Mecklenburg County","Virginia",1438,1689,1780,1985,2017,{"$f":"ROW()","v":2960}]
["Middlesex County","Virginia",1574,1849,1948,2172,2207,{"$f":"ROW()","v":2961}]
["Montgomery County","Virginia",1723,2024,2133,2378,2417,{"$f":"ROW()","v":2962}]
["Nelson County","Virginia",1574,1849,1948,2172,2207,{"$f":"ROW()","v":2963}]
["New Kent County","Virginia",2037,2392,2521,2811,2856,{"$f":"ROW()","v":2964}]
["Northampton County","Virginia",1701,1998,2105,2347,2385,{"$f":"ROW()","v":2965}]
["Northumberland County","Virginia",1670,1962,2067,2305,2342,{"$f":"ROW()","v":2966}]
["Nottoway County","Virginia",1462,1717,1809,2017,2050,{"$f":"ROW()","v":2967}]
["Orange County","Virginia",1858,2183,2300,2565,2606,{"$f":"ROW()","v":2968}]
["Page County","Virginia",1474,1731,1824,2034,2067,{"$f":"ROW()","v":2969}]
["Patrick County","Virginia",1319,1549,1632,1820,1849,{"$f":"ROW()","v":2970}]
["Pittsylvania County","Virginia",1312,1541,1624,1811,1840,{"$f":"ROW()","v":2971}]
["Powhatan County","Virginia",1991,2338,2464,2747,2792,{"$f":"ROW()","v":2972}]
["Prince Edward County","Virginia",1424,1672,1762,1965,1996,{"$f":"ROW()","v":2973}]
["Prince George County","Virginia",1759,2066,2177,2427,2467,{"$f":"ROW()","v":2974}]
["Prince William County","Virginia",2580,3030,3193,3560,3618,{"$f":"ROW()","v":2975}]
["Pulaski County","Virginia",1389,1631,1719,1917,1948,{"$f":"ROW()","v":2976}]
["Rappahannock County","Virginia",2019,2372,2499,2786,2831,{"$f":"ROW()","v":2977}]
["Richmond County","Virginia",1491,1751,1845,2057,2090,{"$f":"ROW()","v":2978}]
["Roanoke County","Virginia",1670,1962,2067,2305,2342,{"$f":"ROW()","v":2979}]
["Rockbridge County","Virginia",1521,1787,1883,2100,2133,{"$f":"ROW()","v":2980}]
["Rockingham County","Virginia",1652,1940,2044,2279,2316,{"$f":"ROW()","v":2981}]
["Russell County","Virginia",1193,1401,1476,1646,1672,{"$f":"ROW()","v":2982}]
["Scott County","Virginia",1314,1543,1626,1813,1842,{"$f":"ROW()","v":2983}]
["Shenandoah County","Virginia",1589,1867,1967,2193,2229,{"$f":"ROW()","v":2984}]
["Smyth County","Virginia",1252,1471,1550,1728,1756,{"$f":"ROW()","v":2985}]
["Southampton County","Virginia",1576,1851,1950,2174,2209,{"$f":"ROW()","v":2986}]
["Spotsylvania County","Virginia",2048,2406,2535,2827,2872,{"$f":"ROW()","v":2987}]
["Stafford County","Virginia",2450,2877,3032,3381,3435,{"$f":"ROW()","v":2988}]
["Surry County","Virginia",1598,1877,1978,2205,2241,{"$f":"ROW()","v":2989}]
["Sussex County","Virginia",1450,1703,1794,2000,2033,{"$f":"ROW()","v":2990}]
["Tazewell County","Virginia",1269,1491,1571,1752,1780,{"$f":"ROW()","v":2991}]
["Warren County","Virginia",1803,2118,2232,2489,2529,{"$f":"ROW()","v":2992}]
["Washington County","Virginia",1426,1675,1765,1968,2000,{"$f":"ROW()","v":2993}]
["Westmoreland County","Virginia",1616,1898,2000,2230,2266,{"$f":"ROW()","v":2994}]
["Wise County","Virginia",1307,1535,1618,1804,1833,{"$f":"ROW()","v":2995}]
["Wythe County","Virginia",1334,1567,1651,1841,1871,{"$f":"ROW()","v":2996}]
["York County","Virginia",2201,2585,2724,3037,3086,{"$f":"ROW()","v":2997}]
["Alexandria city","Virginia",3009,3534,3724,4152,4219,{"$f":"ROW()","v":2998}]
["Bedford city","Virginia",1571,1845,1944,2168,2203,{"$f":"ROW()","v":2999}]
["Bristol city","Virginia",1332,1565,1649,1839,1868,{"$f":"ROW()","v":3000}]
["Buena Vista city","Virginia",1159,1362,1435,1600,1626,{"$f":"ROW()","v":3001}]
["Charlottesville city","Virginia",2064,2425,2555,2849,2895,{"$f":"ROW()","v":3002}]
["Chesapeake city","Virginia",2151,2526,2662,2968,3016,{"$f":"ROW()","v":3003}]
["Colonial Heights city","Virginia",1613,1894,1996,2226,2261,{"$f":"ROW()","v":3004}]
["Covington city","Virginia",1152,1353,1426,1590,1616,{"$f":"ROW()","v":3005}]
["Danville city","Virginia",1290,1516,1597,1781,1809,{"$f":"ROW()","v":3006}]
["Emporia city","Virginia",1586,1863,1963,2189,2224,{"$f":"ROW()","v":3007}]
["Fairfax city","Virginia",3038,3568,3760,4192,4260,{"$f":"ROW()","v":3008}]
["Falls Church city","Virginia",4044,4750,5005,5581,5671,{"$f":"ROW()","v":3009}]
["Franklin city","Virginia",1908,2241,2361,2633,2675,{"$f":"ROW()","v":3010}]
["Fredericksburg city","Virginia",2319,2724,2870,3200,3252,{"$f":"ROW()","v":3011}]
["Galax city","Virginia",1266,1487,1567,1747,1775,{"$f":"ROW()","v":3012}]
["Hampton city","Virginia",1752,2057,2168,2417,2456,{"$f":"ROW()","v":3013}]
["Harrisonburg city","Virginia",1583,1859,1959,2184,2220,{"$f":"ROW()","v":3014}]
["Hopewell city","Virginia",1347,1582,1667,1859,1889,{"$f":"ROW()","v":3015}]
["Lexington city","Virginia",1633,1918,2021,2253,2290,{"$f":"ROW()","v":3016}]
["Lynchburg city","Virginia",1453,1706,1798,2005,2037,{"$f":"ROW()","v":3017}]
["Manassas city","Virginia",2343,2752,2900,3234,3286,{"$f":"ROW()","v":3018}]
["Manassas Park city","Virginia",2284,2683,2827,3152,3203,{"$f":"ROW()","v":3019}]
["Martinsville city","Virginia",1192,1400,1475,1645,1671,{"$f":"ROW()","v":3020}]
["Newport News city","Virginia",1786,2097,2210,2464,2504,{"$f":"ROW()","v":3021}]
["Norfolk city","Virginia",1875,2203,2321,2588,2630,{"$f":"ROW()","v":3022}]
["Norton city","Virginia",1421,1669,1759,1961,1993,{"$f":"ROW()","v":3023}]
["Petersburg city","Virginia",1538,1807,1904,2123,2157,{"$f":"ROW()","v":3024}]
["Poquoson city","Virginia",2395,2813,2964,3305,3358,{"$f":"ROW()","v":3025}]
["Portsmouth city","Virginia",1753,2059,2170,2420,2459,{"$f":"ROW()","v":3026}]
["Radford city","Virginia",1559,1831,1929,2151,2186,{"$f":"ROW()","v":3027}]
["Richmond city","Virginia",1857,2181,2298,2562,2604,{"$f":"ROW()","v":3028}]
["Roanoke city","Virginia",1374,1614,1701,1897,1927,{"$f":"ROW()","v":3029}]
["Salem city","Virginia",1690,1984,2091,2331,2369,{"$f":"ROW()","v":3030}]
["Staunton city","Virginia",1479,1737,1830,2040,2073,{"$f":"ROW()","v":3031}]
["Suffolk city","Virginia",2104,2471,2604,2903,2950,{"$f":"ROW()","v":3032}]
["Virginia Beach city","Virginia",2071,2432,2563,2858,2904,{"$f":"ROW()","v":3033}]
["Waynesboro city","Virginia",1539,1808,1905,2124,2158,{"$f":"ROW()","v":3034}]
["Williamsburg city","Virginia",1873,2200,2318,2585,2626,{"$f":"ROW()","v":3035}]
["Winchester city","Virginia",1795,2108,2221,2476,2516,{"$f":"ROW()","v":3036}]
["Adams County","Washington",1636,1922,2025,2258,2294,{"$f":"ROW()","v":3037}]
["Asotin County","Washington",1621,1904,2006,2237,2273,{"$f":"ROW()","v":3038}]
["Benton County","Washington",1912,2245,2366,2638,2681,{"$f":"ROW()","v":3039}]
["Chelan County","Washington",1954,2295,2418,2696,2740,{"$f":"ROW()","v":3040}]
["Clallam County","Washington",1883,2211,2330,2598,2640,{"$f":"ROW()","v":3041}]
["Clark County","Washington",2172,2551,2688,2997,3046,{"$f":"ROW()","v":3042}]
["Columbia County","Washington",1530,1796,1893,2111,2145,{"$f":"ROW()","v":3043}]
["Cowlitz County","Washington",1858,2182,2299,2563,2605,{"$f":"ROW()","v":3044}]
["Douglas County","Washington",1949,2289,2412,2689,2733,{"$f":"ROW()","v":3045}]
["Ferry County","Washington",1475,1732,1825,2035,2068,{"$f":"ROW()","v":3046}]
["Franklin County","Washington",1803,2118,2232,2489,2529,{"$f":"ROW()","v":3047}]
["Garfield County","Washington",1402,1647,1735,1935,1966,{"$f":"ROW()","v":3048}]
["Grant County","Washington",1643,1929,2033,2267,2303,{"$f":"ROW()","v":3049}]
["Grays Harbor County","Washington",1710,2008,2116,2359,2397,{"$f":"ROW()","v":3050}]
["Island County","Washington",2211,2597,2737,3052,3101,{"$f":"ROW()","v":3051}]
["Jefferson County","Washington",1899,2230,2350,2620,2663,{"$f":"ROW()","v":3052}]
["King County","Washington",2930,3441,3626,4043,4108,{"$f":"ROW()","v":3053}]
["Kitsap County","Washington",2211,2596,2736,3051,3100,{"$f":"ROW()","v":3054}]
["Kittitas County","Washington",2121,2491,2625,2927,2974,{"$f":"ROW()","v":3055}]
["Klickitat County","Washington",1869,2195,2313,2579,2621,{"$f":"ROW()","v":3056}]
["Lewis County","Washington",1806,2121,2235,2492,2532,{"$f":"ROW()","v":3057}]
["Lincoln County","Washington",1584,1861,1961,2187,2222,{"$f":"ROW()","v":3058}]
["Mason County","Washington",1932,2269,2391,2666,2709,{"$f":"ROW()","v":3059}]
["Okanogan County","Washington",1652,1941,2045,2280,2317,{"$f":"ROW()","v":3060}]
["Pacific County","Washington",1639,1926,2029,2262,2299,{"$f":"ROW()","v":3061}]
["Pend Oreille County","Washington",1663,1953,2058,2295,2332,{"$f":"ROW()","v":3062}]
["Pierce County","Washington",2268,2664,2807,3130,3180,{"$f":"ROW()","v":3063}]
["San Juan County","Washington",2383,2799,2949,3288,3341,{"$f":"ROW()","v":3064}]
["Skagit County","Washington",2178,2558,2695,3005,3053,{"$f":"ROW()","v":3065}]
["Skamania County","Washington",2118,2487,2621,2922,2970,{"$f":"ROW()","v":3066}]
["Snohomish County","Washington",2502,2938,3096,3452,3508,{"$f":"ROW()","v":3067}]
["Spokane County","Washington",1819,2136,2251,2510,2550,{"$f":"ROW()","v":3068}]
["Stevens County","Washington",1690,1985,2092,2333,2370,{"$f":"ROW()","v":3069}]
["Thurston County","Washington",2157,2533,2669,2976,3024,{"$f":"ROW()","v":3070}]
["Wahkiakum County","Washington",1765,2074,2185,2436,2476,{"$f":"ROW()","v":3071}]
["Walla Walla County","Washington",1833,2152,2268,2529,2570,{"$f":"ROW()","v":3072}]
["Whatcom County","Washington",2136,2509,2644,2948,2996,{"$f":"ROW()","v":3073}]
["Whitman County","Washington",1856,2180,2297,2561,2603,{"$f":"ROW()","v":3074}]
["Yakima County","Washington",1717,2017,2125,2369,2408,{"$f":"ROW()","v":3075}]
["Barbour County","West Virginia",1201,1410,1486,1657,1684,{"$f":"ROW()","v":3076}]
["Berkeley County","West Virginia",1594,1872,1973,2200,2235,{"$f":"ROW()","v":3077}]
["Boone County","West Virginia",1307,1535,1618,1804,1833,{"$f":"ROW()","v":3078}]
["Braxton County","West Virginia",1211,1423,1499,1671,1698,{"$f":"ROW()","v":3079}]
["Brooke County","West Virginia",1268,1489,1569,1749,1778,{"$f":"ROW()","v":3080}]
["Cabell County","West Virginia",1350,1586,1671,1863,1893,{"$f":"ROW()","v":3081}]
["Calhoun County","West Virginia",1013,1190,1254,1398,1421,{"$f":"ROW()","v":3082}]
["Clay County","West Virginia",1157,1359,1432,1597,1622,{"$f":"ROW()","v":3083}]
["Doddridge County","West Virginia",1255,1474,1553,1732,1760,{"$f":"ROW()","v":3084}]
["Fayette County","West Virginia",1290,1516,1597,1781,1809,{"$f":"ROW()","v":3085}]
["Gilmer County","West Virginia",974,1144,1205,1344,1365,{"$f":"ROW()","v":3086}]
["Grant County","West Virginia",1156,1358,1431,1596,1621,{"$f":"ROW()","v":3087}]
["Greenbrier County","West Virginia",1306,1534,1616,1802,1831,{"$f":"ROW()","v":3088}]
["Hampshire County","West Virginia",1285,1509,1590,1773,1801,{"$f":"ROW()","v":3089}]
["Hancock County","West Virginia",1210,1422,1498,1670,1697,{"$f":"ROW()","v":3090}]
["Hardy County","West Virginia",1369,1608,1694,1889,1919,{"$f":"ROW()","v":3091}]
["Harrison County","West Virginia",1327,1558,1642,1831,1860,{"$f":"ROW()","v":3092}]
["Jackson County","West Virginia",1224,1438,1515,1689,1716,{"$f":"ROW()","v":3093}]
["Jefferson County","West Virginia",1885,2214,2333,2601,2643,{"$f":"ROW()","v":3094}]
["Kanawha County","West Virginia",1349,1585,1670,1862,1892,{"$f":"ROW()","v":3095}]
["Lewis County","West Virginia",1279,1502,1583,1765,1794,{"$f":"ROW()","v":3096}]
["Lincoln County","West Virginia",1210,1422,1498,1670,1697,{"$f":"ROW()","v":3097}]
["Logan County","West Virginia",1186,1393,1468,1637,1663,{"$f":"ROW()","v":3098}]
["McDowell County","West Virginia",1071,1258,1326,1478,1502,{"$f":"ROW()","v":3099}]
["Marion County","West Virginia",1322,1553,1636,1824,1854,{"$f":"ROW()","v":3100}]
["Marshall County","West Virginia",1268,1489,1569,1749,1778,{"$f":"ROW()","v":3101}]
["Mason County","West Virginia",1226,1440,1517,1691,1719,{"$f":"ROW()","v":3102}]
["Mercer County","West Virginia",1274,1497,1577,1758,1787,{"$f":"ROW()","v":3103}]
["Mineral County","West Virginia",1308,1536,1619,1805,1834,{"$f":"ROW()","v":3104}]
["Mingo County","West Virginia",1265,1486,1566,1746,1774,{"$f":"ROW()","v":3105}]
["Monongalia County","West Virginia",1618,1900,2002,2232,2268,{"$f":"ROW()","v":3106}]
["Monroe County","West Virginia",1175,1380,1454,1621,1647,{"$f":"ROW()","v":3107}]
["Morgan County","West Virginia",1442,1694,1785,1990,2022,{"$f":"ROW()","v":3108}]
["Nicholas County","West Virginia",1166,1369,1443,1609,1635,{"$f":"ROW()","v":3109}]
["Ohio County","West Virginia",1329,1561,1645,1834,1864,{"$f":"ROW()","v":3110}]
["Pendleton County","West Virginia",1138,1337,1409,1571,1596,{"$f":"ROW()","v":3111}]
["Pleasants County","West Virginia",1247,1464,1543,1720,1748,{"$f":"ROW()","v":3112}]
["Pocahontas County","West Virginia",1299,1526,1608,1793,1822,{"$f":"ROW()","v":3113}]
["Preston County","West Virginia",1387,1628,1716,1913,1944,{"$f":"ROW()","v":3114}]
["Putnam County","West Virginia",1600,1879,1980,2208,2243,{"$f":"ROW()","v":3115}]
["Raleigh County","West Virginia",1295,1521,1603,1787,1816,{"$f":"ROW()","v":3116}]
["Randolph County","West Virginia",1201,1410,1486,1657,1684,{"$f":"ROW()","v":3117}]
["Ritchie County","West Virginia",1115,1310,1380,1539,1564,{"$f":"ROW()","v":3118}]
["Roane County","West Virginia",1280,1503,1584,1766,1795,{"$f":"ROW()","v":3119}]
["Summers County","West Virginia",1088,1277,1346,1501,1525,{"$f":"ROW()","v":3120}]
["Taylor County","West Virginia",1269,1490,1570,1751,1779,{"$f":"ROW()","v":3121}]
["Tucker County","West Virginia",1238,1454,1532,1708,1736,{"$f":"ROW()","v":3122}]
["Tyler County","West Virginia",1180,1386,1461,1629,1655,{"$f":"ROW()","v":3123}]
["Upshur County","West Virginia",1280,1503,1584,1766,1795,{"$f":"ROW()","v":3124}]
["Wayne County","West Virginia",1307,1535,1617,1803,1832,{"$f":"ROW()","v":3125}]
["Webster County","West Virginia",1138,1336,1408,1570,1595,{"$f":"ROW()","v":3126}]
["Wetzel County","West Virginia",1186,1393,1468,1637,1663,{"$f":"ROW()","v":3127}]
["Wirt County","West Virginia",1080,1269,1337,1491,1515,{"$f":"ROW()","v":3128}]
["Wood County","West Virginia",1236,1452,1530,1706,1733,{"$f":"ROW()","v":3129}]
["Wyoming County","West Virginia",1164,1367,1440,1606,1632,{"$f":"ROW()","v":3130}]
["Adams County","Wisconsin",1429,1679,1769,1972,2004,{"$f":"ROW()","v":3131}]
["Ashland County","Wisconsin",1467,1722,1815,2024,2056,{"$f":"ROW()","v":3132}]
["Barron County","Wisconsin",1521,1786,1882,2098,2132,{"$f":"ROW()","v":3133}]
["Bayfield County","Wisconsin",1572,1846,1945,2169,2204,{"$f":"ROW()","v":3134}]
["Brown County","Wisconsin",1637,1923,2026,2259,2295,{"$f":"ROW()","v":3135}]
["Buffalo County","Wisconsin",1575,1850,1949,2173,2208,{"$f":"ROW()","v":3136}]
["Burnett County","Wisconsin",1428,1677,1767,1970,2002,{"$f":"ROW()","v":3137}]
["Calumet County","Wisconsin",1668,1959,2064,2301,2339,{"$f":"ROW()","v":3138}]
["Chippewa County","Wisconsin",1601,1881,1982,2210,2246,{"$f":"ROW()","v":3139}]
["Clark County","Wisconsin",1441,1692,1783,1988,2020,{"$f":"ROW()","v":3140}]
["Columbia County","Wisconsin",1779,2090,2202,2455,2495,{"$f":"ROW()","v":3141}]
["Crawford County","Wisconsin",1450,1703,1795,2001,2034,{"$f":"ROW()","v":3142}]
["Dane County","Wisconsin",2101,2467,2600,2899,2946,{"$f":"ROW()","v":3143}]
["Dodge County","Wisconsin",1603,1883,1984,2212,2248,{"$f":"ROW()","v":3144}]
["Door County","Wisconsin",1631,1916,2019,2251,2288,{"$f":"ROW()","v":3145}]
["Douglas County","Wisconsin",1523,1789,1885,2102,2136,{"$f":"ROW()","v":3146}]
["Dunn County","Wisconsin",1617,1899,2001,2231,2267,{"$f":"ROW()","v":3147}]
["Eau Claire County","Wisconsin",1659,1948,2053,2289,2326,{"$f":"ROW()","v":3148}]
["Florence County","Wisconsin",1361,1599,1685,1879,1909,{"$f":"ROW()","v":3149}]
["Fond du Lac County","Wisconsin",1579,1854,1954,2179,2214,{"$f":"ROW()","v":3150}]
["Forest County","Wisconsin",1354,1591,1676,1869,1899,{"$f":"ROW()","v":3151}]
["Grant County","Wisconsin",1532,1799,1896,2114,2148,{"$f":"ROW()","v":3152}]
["Green County","Wisconsin",1740,2043,2153,2401,2439,{"$f":"ROW()","v":3153}]
["Green Lake County","Wisconsin",1510,1774,1869,2084,2118,{"$f":"ROW()","v":3154}]
["Iowa County","Wisconsin",1716,2016,2124,2368,2406,{"$f":"ROW()","v":3155}]
["Iron County","Wisconsin",1353,1589,1674,1867,1897,{"$f":"ROW()","v":3156}]
["Jackson County","Wisconsin",1482,1740,1834,2045,2078,{"$f":"ROW()","v":3157}]
["Jefferson County","Wisconsin",1775,2085,2197,2450,2489,{"$f":"ROW()","v":3158}]
["Juneau County","Wisconsin",1491,1751,1845,2057,2090,{"$f":"ROW()","v":3159}]
["Kenosha County","Wisconsin",1776,2086,2198,2451,2490,{"$f":"ROW()","v":3160}]
["Kewaunee County","Wisconsin",1514,1778,1874,2090,2123,{"$f":"ROW()","v":3161}]
["La Crosse County","Wisconsin",1706,2003,2111,2354,2392,{"$f":"ROW()","v":3162}]
["Lafayette County","Wisconsin",1583,1859,1959,2184,2220,{"$f":"ROW()","v":3163}]
["Langlade County","Wisconsin",1295,1521,1603,1787,1816,{"$f":"ROW()","v":3164}]
["Lincoln County","Wisconsin",1438,1689,1780,1985,2017,{"$f":"ROW()","v":3165}]
["Manitowoc County","Wisconsin",1387,1628,1716,1913,1944,{"$f":"ROW()","v":3166}]
["Marathon County","Wisconsin",1547,1816,1914,2134,2169,{"$f":"ROW()","v":3167}]
["Marinette County","Wisconsin",1349,1585,1670,1862,1892,{"$f":"ROW()","v":3168}]
["Marquette County","Wisconsin",1513,1777,1873,2088,2122,{"$f":"ROW()","v":3169}]
["Menominee County","Wisconsin",1431,1681,1771,1975,2007,{"$f":"ROW()","v":3170}]
["Milwaukee County","Wisconsin",1726,2027,2136,2382,2420,{"$f":"ROW()","v":3171}]
["Monroe County","Wisconsin",1572,1847,1946,2170,2205,{"$f":"ROW()","v":3172}]
["Oconto County","Wisconsin",1528,1795,1891,2108,2143,{"$f":"ROW()","v":3173}]
["Oneida County","Wisconsin",1525,1791,1887,2104,2138,{"$f":"ROW()","v":3174}]
["Outagamie County","Wisconsin",1660,1950,2055,2291,2328,{"$f":"ROW()","v":3175}]
["Ozaukee County","Wisconsin",2014,2366,2493,2780,2825,{"$f":"ROW()","v":3176}]
["Pepin County","Wisconsin",1559,1832,1930,2152,2187,{"$f":"ROW()","v":3177}]
["Pierce County","Wisconsin",1976,2320,2445,2726,2770,{"$f":"ROW()","v":3178}]
["Polk County","Wisconsin",1638,1924,2027,2260,2297,{"$f":"ROW()","v":3179}]
["Portage County","Wisconsin",1586,1863,1963,2189,2224,{"$f":"ROW()","v":3180}]
["Price County","Wisconsin",1367,1606,1692,1887,1917,{"$f":"ROW()","v":3181}]
["Racine County","Wisconsin",1725,2026,2135,2381,2419,{"$f":"ROW()","v":3182}]
["Richland County","Wisconsin",1429,1678,1768,1971,2003,{"$f":"ROW()","v":3183}]
["Rock County","Wisconsin",1577,1852,1952,2176,2212,{"$f":"ROW()","v":3184}]
["Rusk County","Wisconsin",1374,1614,1701,1897,1927,{"$f":"ROW()","v":3185}]
["St. Croix County","Wisconsin",1968,2312,2436,2716,2760,{"$f":"ROW()","v":3186}]
["Sauk County","Wisconsin",1695,1991,2098,2339,2377,{"$f":"ROW()","v":3187}]
["Sawyer County","Wisconsin",1426,1675,1765,1968,2000,{"$f":"ROW()","v":3188}]
["Shawano County","Wisconsin",1400,1645,1733,1932,1963,{"$f":"ROW()","v":3189}]
["Sheboygan County","Wisconsin",1519,1784,1880,2096,2130,{"$f":"ROW()","v":3190}]
["Taylor County","Wisconsin",1512,1776,1871,2086,2120,{"$f":"ROW()","v":3191}]
["Trempealeau County","Wisconsin",1603,1883,1984,2212,2248,{"$f":"ROW()","v":3192}]
["Vernon County","Wisconsin",1552,1823,1921,2142,2176,{"$f":"ROW()","v":3193}]
["Vilas County","Wisconsin",1527,1794,1890,2107,2141,{"$f":"ROW()","v":3194}]
["Walworth County","Wisconsin",1768,2076,2188,2440,2479,{"$f":"ROW()","v":3195}]
["Washburn County","Wisconsin",1434,1684,1775,1979,2011,{"$f":"ROW()","v":3196}]
["Washington County","Wisconsin",1922,2258,2379,2653,2695,{"$f":"ROW()","v":3197}]
["Waukesha County","Wisconsin",2073,2434,2565,2860,2906,{"$f":"ROW()","v":3198}]
["Waupaca County","Wisconsin",1525,1791,1887,2104,2138,{"$f":"ROW()","v":3199}]
["Waushara County","Wisconsin",1422,1670,1760,1962,1994,{"$f":"ROW()","v":3200}]
["Winnebago County","Wisconsin",1555,1827,1925,2146,2181,{"$f":"ROW()","v":3201}]
["Wood County","Wisconsin",1382,1624,1711,1908,1939,{"$f":"ROW()","v":3202}]
["Albany County","Wyoming",1871,2198,2316,2582,2624,{"$f":"ROW()","v":3203}]
["Big Horn County","Wyoming",1454,1708,1800,2007,2039,{"$f":"ROW()","v":3204}]
["Campbell County","Wyoming",1875,2203,2321,2588,2630,{"$f":"ROW()","v":3205}]
["Carbon County","Wyoming",1570,1844,1943,2166,2201,{"$f":"ROW()","v":3206}]
["Converse County","Wyoming",1766,2075,2186,2437,2477,{"$f":"ROW()","v":3207}]
["Crook County","Wyoming",1862,2186,2304,2569,2610,{"$f":"ROW()","v":3208}]
["Fremont County","Wyoming",1672,1963,2069,2307,2344,{"$f":"ROW()","v":3209}]
["Goshen County","Wyoming",1480,1739,1832,2043,2076,{"$f":"ROW()","v":3210}]
["Hot Springs County","Wyoming",1389,1631,1719,1917,1948,{"$f":"ROW()","v":3211}]
["Johnson County","Wyoming",1757,2063,2174,2424,2463,{"$f":"ROW()","v":3212}]
["Laramie County","Wyoming",1841,2163,2279,2541,2582,{"$f":"ROW()","v":3213}]
["Lincoln County","Wyoming",1799,2112,2226,2482,2522,{"$f":"ROW()","v":3214}]
["Natrona County","Wyoming",1717,2017,2125,2369,2408,{"$f":"ROW()","v":3215}]
["Niobrara County","Wyoming",1665,1956,2061,2298,2335,{"$f":"ROW()","v":3216}]
["Park County","Wyoming",1742,2046,2156,2404,2443,{"$f":"ROW()","v":3217}]
["Platte County","Wyoming",1631,1915,2018,2250,2286,{"$f":"ROW()","v":3218}]
["Sheridan County","Wyoming",1896,2227,2347,2617,2659,{"$f":"ROW()","v":3219}]
["Sublette County","Wyoming",1912,2245,2366,2638,2681,{"$f":"ROW()","v":3220}]
["Sweetwater County","Wyoming",1673,1964,2070,2308,2345,{"$f":"ROW()","v":3221}]
["Teton County","Wyoming",2619,3076,3241,3614,3672,{"$f":"ROW()","v":3222}]
["Uinta County","Wyoming",1509,1773,1868,2083,2116,{"$f":"ROW()","v":3223}]
["Washakie County","Wyoming",1441,1692,1783,1988,2020,{"$f":"ROW()","v":3224}]
["Weston County","Wyoming",1592,1870,1970,2197,2232,{"$f":"ROW()","v":3225}]

{"sheet":"Transportation","index":7,"n_rows":270,"n_cols":11,"rows_kept":270,"cut":false,"hidden":false,"merged":[[0,9,1,9],[0,10,1,10]]}
[null,null,null,null,null,"County & State","Region","1 veh","2+ veh","# Vehicles Claimed:","Max Allowed"]
[null,null,null,null,null,{"$f":"IF(OR(Calculator!C5=\"\",Calculator!C4=\"\"),\"\",Calculator!D5&\", \"&Calculator!C4)","v":""},{"$f":"IF(F2=\"\",\"\",_xlfn.IFNA(_xlfn.XLOOKUP(F2,F3:F270,G3:G270),_xlfn.XLOOKUP(Calculator!C4,F3:F270,G3:G270)))","v":""},{"$f":"_xlfn.IFNA(_xlfn.IFNA(_xlfn.XLOOKUP(G2,G3:G270,H3:H270),_xlfn.XLOOKUP(Calculator!E4,G3:G270,H3:H270)),0)","v":0},{"$f":"IFERROR(_xlfn.IFNA(_xlfn.XLOOKUP(H2,H3:H270,I3:I270),_xlfn.XLOOKUP(Calculator!#REF!,H3:H270,I3:I270)),0)","v":0}]
["Public Transportation",null,null,null,null,"Adams County, Colorado","Denver",{"$f":"_xlfn.SINGLE(_xlfn.XLOOKUP(G3,A:A,B:B))","v":279},{"$f":"_xlfn.SINGLE(_xlfn.XLOOKUP(G3,A:A,C:C))","v":558},{"$f":"Calculator!C6","v":0},{"$f":"IF(Calculator!C6>1,Transportation!I2,IF(Calculator!C6=1,Transportation!H2,0))","v":0}]
["Location","Allowed Amount",null,"Pub Trans",null,"Alabama","South Region",242,484]
["National ",218,null,{"$f":"IF(OR(Calculator!E6=TRUE,Calculator!F6=TRUE),Transportation!B5,0)","v":0},null,"Alameda County, California","San Francisco",301,602]
["Ownership Costs",null,null,null,null,"Alaska","West Region",264,528]
["Location","One Car","Two Cars","Max",null,"Alexandria city County, Virginia","Washington, D.C.",294,588]
["National",629,1258,{"$f":"IF(Calculator!C6=1,MIN(Transportation!B8,Calculator!C8),IF(Calculator!C6>1,MIN(Transportation!C8,SUM(Calculator!C8,Calculator!C9)),0))","v":0},null,"Anchorage County, Alaska","Anchorage",208,416]
["Northeast Region Operating Costs",null,null,null,null,"Anne Arundel County, Maryland","Baltimore",277,554]
["Location","One Car","Two Cars",null,null,"Anoka County, Minnosota","Minneapolis-St. Paul",214,428]
["Northeast Region",298,596,null,null,"Arapahoe County, Colorado","Denver",279,558]
["Boston",294,588,null,null,"Arizona","West Region",264,528]
["New York",379,758,null,null,"Arkansas","South Region",242,484]
["Philadelphia",318,636,null,null,"Arlington County, Virginia","Washington, D.C.",294,588]
["Midwest Region Operating Costs",null,null,null,null,"Ashtabula County, Ohio","Cleveland",225,450]
["Location","One Car","Two Cars",null,null,"Austin County, Texas","Houston",312,624]
["Midwest Region",225,450,null,null,"Baltimore city County, Maryland","Baltimore",277,554]
["Chicago",265,530,null,null,"Baltimore county County, Maryland","Baltimore",277,554]
["Cleveland",225,450,null,null,"Barrow County, Georgia","Atlanta",300,600]
["Detroit",315,630,null,null,"Bartow County, Georgia","Atlanta",300,600]
["Minneapolis-St. Paul",214,428,null,null,"Bergen County, New Jersey","New York",379,758]
["St. Louis",244,488,null,null,"Bond County, Illinois","St. Louis",244,488]
["South Region Operating Costs",null,null,null,null,"Brazoria County, Texas","Houston",312,624]
["Location","One Car","Two Cars",null,null,"Bronx County, New York","New York",379,758]
["South Region",242,484,null,null,"Broomfield County, Colorado","Denver",279,558]
["Atlanta",300,600,null,null,"Broward County, Florida","Miami",364,728]
["Baltimore",277,554,null,null,"Bucks County, Pennsylvania","Philadelphia",318,636]
["Dallas-Ft. Worth",288,576,null,null,"Burlington County, New Jersey","Philadelphia",318,636]
["Houston",312,624,null,null,"Butts County, Georgia","Atlanta",300,600]
["Miami",364,728,null,null,"Calhoun County, Illinois","St. Louis",244,488]
["Tampa",297,594,null,null,"California","West Region",264,528]
["Washington, D.C.",294,588,null,null,"Calvert County, Maryland","Washington, D.C.",294,588]
["West Region Operating Costs",null,null,null,null,"Camden County, New Jersey","Philadelphia",318,636]
["Location","One Car","Two Cars",null,null,"Carroll County, Georgia","Atlanta",300,600]
["West Region",264,528,null,null,"Carroll County, Maryland","Baltimore",277,554]
["Anchorage",208,416,null,null,"Carver County, Minnosota","Minneapolis-St. Paul",214,428]
["Denver",279,558,null,null,"Cecil County, Maryland","Philadelphia",318,636]
["Honolulu",243,486,null,null,"Chambers County, Texas","Houston",312,624]
["Los Angeles",339,678,null,null,"Charles County, Maryland","Washington, D.C.",294,588]
["Phoenix",271,542,null,null,"Cherokee County, Georgia","Atlanta",300,600]
["San Diego",322,644,null,null,"Chester County, Pennsylvania","Philadelphia",318,636]
["San Francisco",301,602,null,null,"Chisago County, Minnosota","Minneapolis-St. Paul",214,428]
["Seattle",281,562,null,null,"Clarke County, Virginia","Washington, D.C.",294,588]
[null,null,null,null,null,"Clayton County, Georgia","Atlanta",300,600]
[null,null,null,null,null,"Clear Creek County, Colorado","Denver",279,558]
[null,null,null,null,null,"Clinton County, Illinois","St. Louis",244,488]
[null,null,null,null,null,"Cobb County, Georgia","Atlanta",300,600]
[null,null,null,null,null,"Collin County, Texas","Dallas-Ft. Worth",288,576]
[null,null,null,null,null,"Colorado","West Region",264,528]
[null,null,null,null,null,"Connecticut","Northeast Region",298,596]
[null,null,null,null,null,"Contra Costa County, California","San Francisco",301,602]
[null,null,null,null,null,"Cook County, Illinois","Chicago",265,530]
[null,null,null,null,null,"Coweta County, Georgia","Atlanta",300,600]
[null,null,null,null,null,"Culpeper County, Virginia","Washington, D.C.",294,588]
[null,null,null,null,null,"Cuyahoga County, Ohio","Cleveland",225,450]
[null,null,null,null,null,"Dakota County, Minnosota","Minneapolis-St. Paul",214,428]
[null,null,null,null,null,"Dallas County, Texas","Dallas-Ft. Worth",288,576]
[null,null,null,null,null,"Dawson County, Georgia","Atlanta",300,600]
[null,null,null,null,null,"DeKalb County, Georgia","Atlanta",300,600]
[null,null,null,null,null,"DeKalb County, Illinois","Chicago",265,530]
[null,null,null,null,null,"Delaware","South Region",242,484]
[null,null,null,null,null,"Delaware County, Pennsylvania","Philadelphia",318,636]
[null,null,null,null,null,"Denton County, Texas","Dallas-Ft. Worth",288,576]
[null,null,null,null,null,"Denver County, Colorado","Denver",279,558]
[null,null,null,null,null,"District of Columbia","South Region",242,484]
[null,null,null,null,null,"District of Columbia County, DC","Washington, D.C.",294,588]
[null,null,null,null,null,"Douglas County, Colorado","Denver",{"$f":"_xlfn.SINGLE(_xlfn.XLOOKUP(G67,A:A,B:B))","v":279},{"$f":"_xlfn.SINGLE(_xlfn.XLOOKUP(G67,A:A,C:C))","v":558}]
[null,null,null,null,null,"Douglas County, Georgia","Atlanta",300,600]
[null,null,null,null,null,"DuPage County, Illinois","Chicago",265,530]
[null,null,null,null,null,"Dutchess County, New York","New York",379,758]
[null,null,null,null,null,"Elbert County, Colorado","Denver",279,558]
[null,null,null,null,null,"Ellis County, Texas","Dallas-Ft. Worth",288,576]
[null,null,null,null,null,"Essex County, Massachusetts","Boston",294,588]
[null,null,null,null,null,"Essex County, New Jersey","New York",379,758]
[null,null,null,null,null,"Fairfax city County, Virginia","Washington, D.C.",294,588]
[null,null,null,null,null,"Fairfax county County, Virginia","Washington, D.C.",294,588]
[null,null,null,null,null,"Falls Church city County, Virginia","Washington, D.C.",294,588]
[null,null,null,null,null,"Fauquier County, Virginia","Washington, D.C.",294,588]
[null,null,null,null,null,"Fayette County, Georgia","Atlanta",300,600]
[null,null,null,null,null,"Florida","South Region",242,484]
[null,null,null,null,null,"Forsyth County, Georgia","Atlanta",300,600]
[null,null,null,null,null,"Fort Bend County, Texas","Houston",312,624]
[null,null,null,null,null,"Franklin County, Missouri","St. Louis",244,488]
[null,null,null,null,null,"Frederick County, Maryland","Washington, D.C.",294,588]
[null,null,null,null,null,"Fredericksburg city County, Virginia","Washington, D.C.",294,588]
[null,null,null,null,null,"Fulton County, Georgia","Atlanta",300,600]
[null,null,null,null,null,"Galveston County, Texas","Houston",312,624]
[null,null,null,null,null,"Geauga County, Ohio","Cleveland",225,450]
[null,null,null,null,null,"Georgia","South Region",242,484]
[null,null,null,null,null,"Gilpin County, Colorado","Denver",279,558]
[null,null,null,null,null,"Gloucester County, New Jersey","Philadelphia",318,636]
[null,null,null,null,null,"Grundy County, Illinois","Chicago",265,530]
[null,null,null,null,null,"Gwinnett County, Georgia","Atlanta",300,600]
[null,null,null,null,null,"Haralson County, Georgia","Atlanta",300,600]
[null,null,null,null,null,"Harford County, Maryland","Baltimore",277,554]
[null,null,null,null,null,"Harris County, Texas","Houston",312,624]
[null,null,null,null,null,"Hawaii","West Region",264,528]
[null,null,null,null,null,"Heard, Henry County, Georgia","Atlanta",300,600]
[null,null,null,null,null,"Hennepin County, Minnosota","Minneapolis-St. Paul",214,428]
[null,null,null,null,null,"Hernando County, Florida","Tampa",297,594]
[null,null,null,null,null,"Hillsborough County, Florida","Tampa",297,594]
[null,null,null,null,null,"Honolulu County, Hawaii","Honolulu",243,486]
[null,null,null,null,null,"Hood County, Texas","Dallas-Ft. Worth",288,576]
[null,null,null,null,null,"Howard County, Maryland","Baltimore",277,554]
[null,null,null,null,null,"Hudson County, New Jersey","New York",379,758]
[null,null,null,null,null,"Hunt County, Texas","Dallas-Ft. Worth",288,576]
[null,null,null,null,null,"Hunterdon County, New Jersey","New York",379,758]
[null,null,null,null,null,"Idaho","West Region",264,528]
[null,null,null,null,null,"Illinois","Midwest Region",225,450]
[null,null,null,null,null,"Indiana","Midwest Region",225,450]
[null,null,null,null,null,"Iowa","Midwest Region",225,450]
[null,null,null,null,null,"Isanti County, Minnosota","Minneapolis-St. Paul",214,428]
[null,null,null,null,null,"Jasper County, Georgia","Atlanta",300,600]
[null,null,null,null,null,"Jasper County, Indiana","Chicago",265,530]
[null,null,null,null,null,"Jefferson County, Colorado","Denver",279,558]
[null,null,null,null,null,"Jefferson County, Missouri","St. Louis",244,488]
[null,null,null,null,null,"Jersey County, Illinois","St. Louis",244,488]
[null,null,null,null,null,"Johnson County, Texas","Dallas-Ft. Worth",288,576]
[null,null,null,null,null,"Kane County, Illinois","Chicago",265,530]
[null,null,null,null,null,"Kansas","Midwest Region",225,450]
[null,null,null,null,null,"Kaufman County, Texas","Dallas-Ft. Worth",288,576]
[null,null,null,null,null,"Kendall County, Illinois","Chicago",265,530]
[null,null,null,null,null,"Kenosha County, Wisconsin","Chicago",265,530]
[null,null,null,null,null,"Kentucky","South Region",242,484]
[null,null,null,null,null,"King County, Washington","Seattle",281,562]
[null,null,null,null,null,"Kings County, New York","New York",379,758]
[null,null,null,null,null,"Lake County, Illinois","Chicago",265,530]
[null,null,null,null,null,"Lake County, Indiana","Chicago",265,530]
[null,null,null,null,null,"Lake County, Ohio","Cleveland",225,450]
[null,null,null,null,null,"Lamar County, Georgia","Atlanta",300,600]
[null,null,null,null,null,"Lapeer County, Michigan","Detroit",{"$f":"_xlfn.SINGLE(_xlfn.XLOOKUP(G131,A:A,B:B))","v":315},{"$f":"_xlfn.SINGLE(_xlfn.XLOOKUP(G131,A:A,C:C))","v":630}]
[null,null,null,null,null,"Le Sueur County, Minnosota","Minneapolis-St. Paul",214,428]
[null,null,null,null,null,"Liberty County, Texas","Houston",312,624]
[null,null,null,null,null,"Lincoln County, Missouri","St. Louis",244,488]
[null,null,null,null,null,"Livingston County, Michigan","Detroit",315,630]
[null,null,null,null,null,"Lorain County, Ohio","Cleveland",225,450]
[null,null,null,null,null,"Los Angeles County, California","Los Angeles",339,678]
[null,null,null,null,null,"Loudoun County, Virginia","Washington, D.C.",294,588]
[null,null,null,null,null,"Louisiana","South Region",242,484]
[null,null,null,null,null,"Macomb County, Michigan","Detroit",315,630]
[null,null,null,null,null,"Macoupin County, Illinois","St. Louis",244,488]
[null,null,null,null,null,"Madison County, Illinois","St. Louis",244,488]
[null,null,null,null,null,"Maine","Northeast Region",298,596]
[null,null,null,null,null,"Manassas city County, Virginia","Washington, D.C.",294,588]
[null,null,null,null,null,"Manassas Park city County, Virginia","Washington, D.C.",294,588]
[null,null,null,null,null,"Maricopa County, Arizona","Phoenix",271,542]
[null,null,null,null,null,"Marin County, California","San Francisco",301,602]
[null,null,null,null,null,"Maryland","South Region",242,484]
[null,null,null,null,null,"Massachusetts","Northeast Region",298,596]
[null,null,null,null,null,"Matanuska-Susitna County, Alaska","Anchorage",208,416]
[null,null,null,null,null,"McHenry County, Illinois","Chicago",265,530]
[null,null,null,null,null,"Medina County, Ohio","Cleveland",225,450]
[null,null,null,null,null,"Meriwether County, Georgia","Atlanta",300,600]
[null,null,null,null,null,"Miami-Dade County, Florida","Miami",364,728]
[null,null,null,null,null,"Michigan","Midwest Region",225,450]
[null,null,null,null,null,"Middlesex County, Massachusetts","Boston",294,588]
[null,null,null,null,null,"Middlesex County, New Jersey","New York",379,758]
[null,null,null,null,null,"Mille Lacs County, Minnosota","Minneapolis-St. Paul",214,428]
[null,null,null,null,null,"Minnesota","Midwest Region",225,450]
[null,null,null,null,null,"Mississippi","South Region",242,484]
[null,null,null,null,null,"Missouri","Midwest Region",225,450]
[null,null,null,null,null,"Monmouth County, New Jersey","New York",379,758]
[null,null,null,null,null,"Monroe County, Illinois","St. Louis",244,488]
[null,null,null,null,null,"Montana","West Region",264,528]
[null,null,null,null,null,"Montgomery County, Maryland","Washington, D.C.",294,588]
[null,null,null,null,null,"Montgomery County, Pennsylvania","Philadelphia",318,636]
[null,null,null,null,null,"Montgomery County, Texas","Houston",312,624]
[null,null,null,null,null,"Morgan County, Georgia","Atlanta",300,600]
[null,null,null,null,null,"Morris County, New Jersey","New York",379,758]
[null,null,null,null,null,"Nassau County, New York","New York",379,758]
[null,null,null,null,null,"Nebraska","Midwest Region",225,450]
[null,null,null,null,null,"Nevada","West Region",264,528]
[null,null,null,null,null,"New Castle County, Delaware","Philadelphia",318,636]
[null,null,null,null,null,"New Hampshire","Northeast Region",298,596]
[null,null,null,null,null,"New Jersey","Northeast Region",298,596]
[null,null,null,null,null,"New Mexico","West Region",264,528]
[null,null,null,null,null,"New York","Northeast Region",298,596]
[null,null,null,null,null,"New York County, New York","New York",379,758]
[null,null,null,null,null,"Newton County, Georgia","Atlanta",300,600]
[null,null,null,null,null,"Newton County, Indiana","Chicago",265,530]
[null,null,null,null,null,"Norfolk County, Massachusetts","Boston",294,588]
[null,null,null,null,null,"North Carolina","South Region",242,484]
[null,null,null,null,null,"North Dakota","Midwest Region",225,450]
[null,null,null,null,null,"Oakland County, Michigan","Detroit",315,630]
[null,null,null,null,null,"Ocean County, New Jersey","New York",379,758]
[null,null,null,null,null,"Ohio","Midwest Region",225,450]
[null,null,null,null,null,"Oklahoma","South Region",242,484]
[null,null,null,null,null,"Orange County, California","Los Angeles",339,678]
[null,null,null,null,null,"Orange County, New York","New York",379,758]
[null,null,null,null,null,"Oregon","West Region",264,528]
[null,null,null,null,null,"Palm Beach County, Florida","Miami",364,728]
[null,null,null,null,null,"Park County, Colorado","Denver",279,558]
[null,null,null,null,null,"Parker County, Texas","Dallas-Ft. Worth",288,576]
[null,null,null,null,null,"Pasco County, Florida","Tampa",297,594]
[null,null,null,null,null,"Passaic County, New Jersey","New York",{"$f":"_xlfn.SINGLE(_xlfn.XLOOKUP(G195,A:A,B:B))","v":379},{"$f":"_xlfn.SINGLE(_xlfn.XLOOKUP(G195,A:A,C:C))","v":758}]
[null,null,null,null,null,"Paulding County, Georgia","Atlanta",300,600]
[null,null,null,null,null,"Pennsylvania","Northeast Region",298,596]
[null,null,null,null,null,"Philadelphia County, Pennsylvania","Philadelphia",318,636]
[null,null,null,null,null,"Pickens County, Georgia","Atlanta",300,600]
[null,null,null,null,null,"Pierce County, Washington","Seattle",281,562]
[null,null,null,null,null,"Pierce County, Wisconsin","Minneapolis-St. Paul",214,428]
[null,null,null,null,null,"Pike County, Georgia","Atlanta",300,600]
[null,null,null,null,null,"Pike County, Pennsylvania","New York",379,758]
[null,null,null,null,null,"Pinal County, Arizona","Phoenix",271,542]
[null,null,null,null,null,"Pinellas County, Florida","Tampa",297,594]
[null,null,null,null,null,"Plymouth County, Massachusetts","Boston",294,588]
[null,null,null,null,null,"Portage County, Ohio","Cleveland",225,450]
[null,null,null,null,null,"Porter County, Indiana","Chicago",265,530]
[null,null,null,null,null,"Prince George County, Maryland","Washington, D.C.",294,588]
[null,null,null,null,null,"Prince William County, Virginia","Washington, D.C.",294,588]
[null,null,null,null,null,"Putnam County, New York","New York",379,758]
[null,null,null,null,null,"Queen Anne’s County, Maryland","Baltimore",277,554]
[null,null,null,null,null,"Queens County, New York","New York",379,758]
[null,null,null,null,null,"Ramsey County, Minnosota","Minneapolis-St. Paul",214,428]
[null,null,null,null,null,"Rappahannock County, Virginia","Washington, D.C.",294,588]
[null,null,null,null,null,"Rhode Island","Northeast Region",298,596]
[null,null,null,null,null,"Richmond County, New York","New York",379,758]
[null,null,null,null,null,"Riverside County, California","Los Angeles",339,678]
[null,null,null,null,null,"Rockdale County, Georgia","Atlanta",300,600]
[null,null,null,null,null,"Rockingham County, New Hampshire","Boston",294,588]
[null,null,null,null,null,"Rockland County, New York","New York",379,758]
[null,null,null,null,null,"Rockwall County, Texas","Dallas-Ft. Worth",288,576]
[null,null,null,null,null,"Salem County, New Jersey","Philadelphia",318,636]
[null,null,null,null,null,"San Bernardino County, California","Los Angeles",339,678]
[null,null,null,null,null,"San Diego County, CA","San Diego",322,644]
[null,null,null,null,null,"San Francisco County, California","San Francisco",301,602]
[null,null,null,null,null,"San Mateo County, California","San Francisco",301,602]
[null,null,null,null,null,"Scott County, Minnosota","Minneapolis-St. Paul",214,428]
[null,null,null,null,null,"Sherburne County, Minnosota","Minneapolis-St. Paul",214,428]
[null,null,null,null,null,"Sibley County, Minnosota","Minneapolis-St. Paul",214,428]
[null,null,null,null,null,"Snohomish County, Washington","Seattle",281,562]
[null,null,null,null,null,"Somerset County, New Jersey","New York",379,758]
[null,null,null,null,null,"Somervell County, Texas","Dallas-Ft. Worth",288,576]
[null,null,null,null,null,"South Carolina","South Region",242,484]
[null,null,null,null,null,"South Dakota","Midwest Region",225,450]
[null,null,null,null,null,"Spalding County, Georgia","Atlanta",300,600]
[null,null,null,null,null,"Spotsylvania County, Virginia","Washington, D.C.",294,588]
[null,null,null,null,null,"St. Charles County, Missouri","St. Louis",244,488]
[null,null,null,null,null,"St. Clair County, Illinois","St. Louis",244,488]
[null,null,null,null,null,"St. Clair County, Michigan","Detroit",315,630]
[null,null,null,null,null,"St. Croix County, Wisconsin","Minneapolis-St. Paul",214,428]
[null,null,null,null,null,"St. Louis city County, Missouri","St. Louis",244,488]
[null,null,null,null,null,"St. Louis county County, Missouri","St. Louis",244,488]
[null,null,null,null,null,"Stafford County, Virginia","Washington, D.C.",294,588]
[null,null,null,null,null,"Strafford County, New Hampshire","Boston",294,588]
[null,null,null,null,null,"Suffolk County, Massachusetts","Boston",294,588]
[null,null,null,null,null,"Suffolk County, New York","New York",379,758]
[null,null,null,null,null,"Summit County, Ohio","Cleveland",225,450]
[null,null,null,null,null,"Sussex County, New Jersey","New York",379,758]
[null,null,null,null,null,"Tarrant County, Texas","Dallas-Ft. Worth",288,576]
[null,null,null,null,null,"Tennessee","South Region",242,484]
[null,null,null,null,null,"Texas","South Region",242,484]
[null,null,null,null,null,"Union County, New Jersey","New York",379,758]
[null,null,null,null,null,"Utah","West Region",264,528]
[null,null,null,null,null,"Vermont","Northeast Region",298,596]
[null,null,null,null,null,"Virginia","South Region",242,484]
[null,null,null,null,null,"Waller County, Texas","Houston",312,624]
[null,null,null,null,null,"Walton County, Georgia","Atlanta",300,600]
[null,null,null,null,null,"Warren County, Missouri","St. Louis",{"$f":"_xlfn.XLOOKUP(G259,A:A,B:B)","v":244},{"$f":"_xlfn.SINGLE(_xlfn.XLOOKUP(G259,A:A,C:C))","v":488}]
[null,null,null,null,null,"Warren County, Virginia","Washington, D.C.",294,588]
[null,null,null,null,null,"Washington","West Region",264,528]
[null,null,null,null,null,"Washington County, Minnosota","Minneapolis-St. Paul",214,428]
[null,null,null,null,null,"Wayne County, Michigan","Detroit",315,630]
[null,null,null,null,null,"West Virginia","South Region",242,484]
[null,null,null,null,null,"Westchester County, New York","New York",379,758]
[null,null,null,null,null,"Will County, Illinois","Chicago",265,530]
[null,null,null,null,null,"Wisconsin","Midwest Region",225,450]
[null,null,null,null,null,"Wise County, Texas","Dallas-Ft. Worth",288,576]
[null,null,null,null,null,"Wright County, Minnosota","Minneapolis-St. Paul",214,428]
[null,null,null,null,null,"Wyoming","West Region",264,528]