{"text_format":"1","workbook":"xlsx","n_sheets":5,"sheets":["Calculator","National Food","OOP Healthcare","Housing Standards","Transportation"],"not_rendered":{"charts":0,"images":0,"macros":0,"external_links":0,"defined_names":0,"comments":0,"pivot_tables":0},"unopened":[],"bounds":{"document_bytes":16777216,"sheet_cells":100000,"rows_first":2000,"rows_last":500,"rows_between":2000,"halvings":0,"cell_chars":16384,"cell_head_chars":4096},"cells_cut":0,"cells_raw":0,"read":"whole","date_system":"1900"}

{"sheet":"Calculator","index":0,"n_rows":40,"n_cols":26,"rows_kept":40,"cut":false,"hidden":false,"merged":[[5,12,5,16],[26,12,26,16],[10,1,11,1],[4,21,4,22],[4,24,4,25],[26,21,26,22]]}
[]
[null,"# People in household:",2]
[null,"# People 65 or over",1]
[null,"State","Tennessee"]
[null,"County","Hamilton",{"$f":"C5&\" County\"","v":"Hamilton County"},null,null,null,null,null,null,null,null,null,null,null,null,null,null,null,null,null,"Secured Debts",null,null,"Other Expenses"]
[null,"# Vehicles >",2,null,null,null,null,null,null,null,null,null,"Household Monthly Income & Expenses",null,null,null,null,"Claimed","Allowable","Manual Allowable",null,"Lender","Amount",null,"Other Expenses:","Amount"]
[null,null,"Payment","Allowable Pmt",null,null,null,null,null,null,null,null,20,"Wages (Taxpayer)",null,35,"Food, Clothing and Misc."]
[null,"Vehicle 1 Payment",null,{"$f":"IF(C8<Transportation!B8,C8,Transportation!B8)","v":0},null,null,null,null,null,null,null,null,21,"Wages (Spouse)",null,36,"Housing and Utilities"]
[null,"Vehicle 2 Payment",null,{"$f":"IF(C9<Transportation!B8,C9,Transportation!B8)","v":0},null,null,null,null,null,null,null,null,22,"Interest - Dividends",null,37,"Vehicle Ownership Costs"]
[null,null,{"$f":"IF(OR(C6=0,C6=\"\"),0,SUM(C8:C9))","v":0},{"$f":"SUM(D8:D9)","v":0},null,null,null,null,null,null,null,null,23,"Net Business Income",null,38,"Vehicle Operating Costs"]
[null,"All Vehicles Operating","Insurance",null,"Gas","Maint.","Other","Operating","Manual Input",null,null,null,24,"Net Rental Income",null,39,"Public Transportation"]
[null,null,0,null,0,0,0,{"$f":"SUM(C12:G12)","v":0},0,null,null,null,25,"Distributions (K-1, IRA, etc.)",null,40,"Health Insurance"]
[null,null,null,null,null,null,null,null,null,null,null,null,26,"Pension (Taxpayer)",null,41,"Out of Pocket Health Care Costs"]
[null,null,null,null,null,null,null,null,null,null,null,null,27,"Pension (Spouse)",null,42,"Court Ordered Payments"]
[null,null,null,null,null,null,null,null,null,null,null,null,28,"Social Security (Taxpayer)",null,43,"Child/Dependent Care"]
[null,null,null,null,null,null,null,null,null,null,null,null,29,"Social Security (Spouse)",null,44,"Life Insurance"]
[null,null,null,null,null,null,null,null,null,null,null,null,30,"Child Support",null,45,"Current year taxes (Income/FICA)"]
[null,null,null,null,null,null,null,null,null,null,null,null,31,"Alimony",null,46,"Secured Debts (Attach list)",{"$f":"SUM(SecDebtTbl[[#All],[Amount]])","v":0}]
[null,null,null,null,null,null,null,null,null,null,null,null,null,"Other Income (Specify below)",null,47,"Delinquent State or Local Taxes"]
[null,null,null,null,null,null,null,null,null,null,null,null,32,"",null,48,"Other Expenses (Attach list)",{"$f":"SUM(OtherExpTbl[[#All],[Amount]])","v":0}]
[null,null,null,null,null,null,null,null,null,null,null,null,33,"",null,49,"Total Living Exps (add lines 35-48)",{"$f":"SUM(R7:R20)","v":0},{"$f":"SUM(S7:S20)","v":0},{"$f":"SUM(T7:T20)","v":0}]
[null,null,null,null,null,null,null,null,null,null,null,null,34,"Total Income (add lines 20-33)",{"$f":"SUM(O7:O21)","v":0},50,"Net difference (Line 34 minus 49)",{"$f":"SUM(O22-R21)","v":0},{"$f":"SUM(O22-S21)","v":0},{"$f":"SUM(O22-T21)","v":0}]
[]
[]
[]
[]
[null,null,null,null,null,null,null,null,null,null,null,null,"Sole Proprietorship Information",null,null,null,null,"Claimed","Allowable",null,null,"Other Sole Prop Expenses"]
[null,null,null,null,null,null,null,null,null,null,null,null,67,"Gross Receipts",null,77,"Materials Purchased",null,null,null,null,"Other SP Expenses:","Amount"]
[null,null,null,null,null,null,null,null,null,null,null,null,68,"Gross Rental Income",null,78,"Inventory Purchased"]
[null,null,null,null,null,null,null,null,null,null,null,null,69,"Interest",null,79,"Gross Wages & Salaries"]
[null,null,null,null,null,null,null,null,null,null,null,null,70,"Dividends",null,80,"Rent"]
[null,null,null,null,null,null,null,null,null,null,null,null,71,"Cash Receipts not incl in 67-70",null,81,"Supplies"]
[null,null,null,null,null,null,null,null,null,null,null,null,null,"Other Income (Specify below)",null,82,"Utilities/Telephone"]
[null,null,null,null,null,null,null,null,null,null,null,null,72,null,null,83,"Vehicle Gasoline/Oil"]
[null,null,null,null,null,null,null,null,null,null,null,null,73,null,null,84,"Repairs & Maintenance"]
[null,null,null,null,null,null,null,null,null,null,null,null,74,null,null,85,"Insurance"]
[null,null,null,null,null,null,null,null,null,null,null,null,75,null,null,86,"Current Taxes"]
[null,null,null,null,null,null,null,null,null,null,null,null,76,"Total Income (Add 67 through 75)",{"$f":"SUM(O28:O37)","v":0},87,"Other Exp, incl install pmts (Specify)",{"$f":"SUM(OtherSPExpTb[[#All],[Amount]])","v":0}]
[null,null,null,null,null,null,null,null,null,null,null,null,null,null,null,88,"Total Exps (Add lines 77 through 87)",{"$f":"SUM(R28:R38)","v":0}]
[null,null,null,null,null,null,null,null,null,null,null,null,null,null,null,89,"Net Bus Income (Line 76 minus 88)",{"$f":"O38-R39","v":0}]

{"sheet":"National Food","index":1,"n_rows":11,"n_cols":7,"rows_kept":11,"cut":false,"hidden":false,"merged":[]}
["Expense",1,2,3,4,5,"Computed"]
["Food",466,777,936,1123,{"$f":"E2","v":1123},{"$f":"_xlfn.IFNA(LOOKUP(Calculator!$C$2,$B$1:$F$1,$B2:$F2),0)","v":777}]
["Housekeeping supplies",47,80,85,90,90,{"$f":"_xlfn.IFNA(LOOKUP(Calculator!$C$2,$B$1:$F$1,$B3:$F3),0)","v":80}]
["Apparel & services",96,145,207,252,252,{"$f":"_xlfn.IFNA(LOOKUP(Calculator!$C$2,$B$1:$F$1,$B4:$F4),0)","v":145}]
["Personal care products & services",43,78,91,97,97,{"$f":"_xlfn.IFNA(LOOKUP(Calculator!$C$2,$B$1:$F$1,$B5:$F5),0)","v":78}]
["Miscellaneous",189,309,381,431,431,{"$f":"_xlfn.IFNA(LOOKUP(Calculator!$C$2,$B$1:$F$1,$B6:$F6),0)","v":309}]
["Total",841,1389,1700,1993,1993,{"$f":"_xlfn.IFNA(LOOKUP(Calculator!$C$2,$B$1:$F$1,$B7:$F7)+C11,0)","v":1389}]
[]
[]
["More than four persons","Additional Persons Amount"]
["For each additional person, add to four-person total allowance:",356,{"$f":"IF(Calculator!C2>E1,(Calculator!C2-'National Food'!E1)*'National Food'!B11,0)","v":0}]

{"sheet":"OOP Healthcare","index":2,"n_rows":8,"n_cols":2,"rows_kept":8,"cut":false,"hidden":false,"merged":[]}
["Age","Out of Pocket Costs"]
["Under 65",79]
["65 and Older",154]
[]
[]
["Under 65",{"$f":"(Calculator!C2-Calculator!C3)*'OOP Healthcare'!B2","v":79}]
["65 & older",{"$f":"Calculator!C3*'OOP Healthcare'!B3","v":154}]
["Total",{"$f":"SUM(B6:B7)","v":233}]

{"sheet":"Housing Standards","index":3,"n_rows":3224,"n_cols":14,"rows_kept":3224,"cut":false,"hidden":false,"merged":[]}
[null,null,1,2,3,4,5,null,null,{"$f":"SUBSTITUTE(ADDRESS(1, MATCH(Calculator!C2,'Housing Standards'!A1:G1), 4), \"1\", \"\")","v":"D"},{"$f":"_xlfn.XLOOKUP(Calculator!D5&Calculator!C4,Table1[County]&Table1[State Name],Table1[Lookup])","v":2542},{"$f":"J1&K1","v":"D2542"}]
["County","State Name","2023 Published ALE\nHousing Expense for a Family of 1","2023 Published ALE\nHousing Expense for a Family of 2","2023 Published ALE\nHousing Expense for a Family of 3","2023 Published ALE\nHousing Expense for a Family of 4","2023 Published ALE\nHousing Expense for a Family of 5","Lookup",null,null,{"$f":"_xlfn.IFNA(INDIRECT(L1),0)","v":1843},null,null,"States"]
["Autauga County","Alabama",1483,1741,1835,2046,2079,{"$f":"ROW()","v":3},null,null,null,null,null,{"$f":"_xlfn.UNIQUE(B3:B3224)","v":"Alabama"}]
["Baldwin County","Alabama",1617,1899,2001,2231,2267,{"$f":"ROW()","v":4},null,null,null,null,null,"Alaska"]
["Barbour County","Alabama",1278,1501,1582,1764,1792,{"$f":"ROW()","v":5},null,null,null,null,null,"Arizona"]
["Bibb County","Alabama",1323,1554,1637,1825,1855,{"$f":"ROW()","v":6},null,null,null,null,null,"Arkansas"]
["Blount County","Alabama",1405,1650,1739,1939,1970,{"$f":"ROW()","v":7},null,null,null,null,null,"California"]
["Bullock County","Alabama",1494,1755,1849,2062,2095,{"$f":"ROW()","v":8},null,null,null,null,null,"Colorado"]
["Butler County","Alabama",1268,1489,1569,1749,1778,{"$f":"ROW()","v":9},null,null,null,null,null,"Connecticut"]
["Calhoun County","Alabama",1339,1572,1657,1848,1877,{"$f":"ROW()","v":10},null,null,null,null,null,"Delaware"]
["Chambers County","Alabama",1285,1509,1590,1773,1801,{"$f":"ROW()","v":11},null,null,null,null,null,"District of Columbia"]
["Cherokee County","Alabama",1429,1678,1768,1971,2003,{"$f":"ROW()","v":12},null,null,null,null,null,"Florida"]
["Chilton County","Alabama",1338,1572,1656,1846,1876,{"$f":"ROW()","v":13},null,null,null,null,null,"Georgia"]
["Choctaw County","Alabama",1195,1404,1479,1649,1676,{"$f":"ROW()","v":14},null,null,null,null,null,"Hawaii"]
["Clarke County","Alabama",1403,1647,1736,1936,1967,{"$f":"ROW()","v":15},null,null,null,null,null,"Idaho"]
["Clay County","Alabama",1217,1429,1506,1679,1706,{"$f":"ROW()","v":16},null,null,null,null,null,"Illinois"]
["Cleburne County","Alabama",1496,1758,1852,2065,2098,{"$f":"ROW()","v":17},null,null,null,null,null,"Indiana"]
["Coffee County","Alabama",1454,1708,1800,2007,2039,{"$f":"ROW()","v":18},null,null,null,null,null,"Iowa"]
["Colbert County","Alabama",1326,1557,1641,1830,1859,{"$f":"ROW()","v":19},null,null,null,null,null,"Kansas"]
["Conecuh County","Alabama",1221,1434,1511,1685,1712,{"$f":"ROW()","v":20},null,null,null,null,null,"Kentucky"]
["Coosa County","Alabama",1201,1411,1487,1658,1685,{"$f":"ROW()","v":21},null,null,null,null,null,"Louisiana"]
["Covington County","Alabama",1289,1514,1595,1778,1807,{"$f":"ROW()","v":22},null,null,null,null,null,"Maine"]
["Crenshaw County","Alabama",1334,1567,1651,1841,1871,{"$f":"ROW()","v":23},null,null,null,null,null,"Maryland"]
["Cullman County","Alabama",1338,1572,1656,1846,1876,{"$f":"ROW()","v":24},null,null,null,null,null,"Massachusetts"]
["Dale County","Alabama",1289,1514,1595,1778,1807,{"$f":"ROW()","v":25},null,null,null,null,null,"Michigan"]
["Dallas County","Alabama",1326,1557,1641,1830,1859,{"$f":"ROW()","v":26},null,null,null,null,null,"Minnesota"]
["DeKalb County","Alabama",1301,1528,1610,1795,1824,{"$f":"ROW()","v":27},null,null,null,null,null,"Mississippi"]
["Elmore County","Alabama",1544,1814,1911,2131,2165,{"$f":"ROW()","v":28},null,null,null,null,null,"Missouri"]
["Escambia County","Alabama",1238,1454,1532,1708,1736,{"$f":"ROW()","v":29},null,null,null,null,null,"Montana"]
["Etowah County","Alabama",1358,1595,1681,1874,1905,{"$f":"ROW()","v":30},null,null,null,null,null,"Nebraska"]
["Fayette County","Alabama",1257,1477,1556,1735,1763,{"$f":"ROW()","v":31},null,null,null,null,null,"Nevada"]
["Franklin County","Alabama",1271,1493,1573,1754,1782,{"$f":"ROW()","v":32},null,null,null,null,null,"New Hampshire"]
["Geneva County","Alabama",1313,1542,1625,1812,1841,{"$f":"ROW()","v":33},null,null,null,null,null,"New Jersey"]
["Greene County","Alabama",1109,1302,1372,1530,1554,{"$f":"ROW()","v":34},null,null,null,null,null,"New Mexico"]
["Hale County","Alabama",1233,1448,1526,1701,1729,{"$f":"ROW()","v":35},null,null,null,null,null,"New York"]
["Henry County","Alabama",1296,1522,1604,1788,1817,{"$f":"ROW()","v":36},null,null,null,null,null,"North Carolina"]
["Houston County","Alabama",1399,1644,1732,1931,1962,{"$f":"ROW()","v":37},null,null,null,null,null,"North Dakota"]
["Jackson County","Alabama",1311,1540,1623,1810,1839,{"$f":"ROW()","v":38},null,null,null,null,null,"Ohio"]
["Jefferson County","Alabama",1629,1913,2016,2248,2284,{"$f":"ROW()","v":39},null,null,null,null,null,"Oklahoma"]
["Lamar County","Alabama",1316,1546,1629,1816,1846,{"$f":"ROW()","v":40},null,null,null,null,null,"Oregon"]
["Lauderdale County","Alabama",1395,1639,1727,1926,1957,{"$f":"ROW()","v":41},null,null,null,null,null,"Pennsylvania"]
["Lawrence County","Alabama",1340,1573,1658,1849,1879,{"$f":"ROW()","v":42},null,null,null,null,null,"Puerto Rico"]
["Lee County","Alabama",1564,1837,1936,2159,2193,{"$f":"ROW()","v":43},null,null,null,null,null,"Rhode Island"]
["Limestone County","Alabama",1495,1756,1850,2063,2096,{"$f":"ROW()","v":44},null,null,null,null,null,"South Carolina"]
["Lowndes County","Alabama",1409,1655,1744,1945,1976,{"$f":"ROW()","v":45},null,null,null,null,null,"South Dakota"]
["Macon County","Alabama",1243,1460,1538,1715,1743,{"$f":"ROW()","v":46},null,null,null,null,null,"Tennessee"]
["Madison County","Alabama",1586,1863,1963,2189,2224,{"$f":"ROW()","v":47},null,null,null,null,null,"Texas"]
["Marengo County","Alabama",1416,1663,1752,1953,1985,{"$f":"ROW()","v":48},null,null,null,null,null,"Utah"]
["Marion County","Alabama",1188,1395,1470,1639,1666,{"$f":"ROW()","v":49},null,null,null,null,null,"Vermont"]
["Marshall County","Alabama",1378,1618,1705,1901,1932,{"$f":"ROW()","v":50},null,null,null,null,null,"Virginia"]
["Mobile County","Alabama",1472,1729,1822,2032,2064,{"$f":"ROW()","v":51},null,null,null,null,null,"Washington"]
["Monroe County","Alabama",1323,1554,1637,1825,1855,{"$f":"ROW()","v":52},null,null,null,null,null,"West Virginia"]
["Montgomery County","Alabama",1429,1679,1769,1972,2004,{"$f":"ROW()","v":53},null,null,null,null,null,"Wisconsin"]
["Morgan County","Alabama",1403,1647,1736,1936,1967,{"$f":"ROW()","v":54},null,null,null,null,null,"Wyoming"]
["Perry County","Alabama",1239,1455,1533,1709,1737,{"$f":"ROW()","v":55}]
["Pickens County","Alabama",1302,1530,1612,1797,1826,{"$f":"ROW()","v":56}]
["Pike County","Alabama",1476,1734,1827,2037,2070,{"$f":"ROW()","v":57}]
["Randolph County","Alabama",1329,1561,1645,1834,1864,{"$f":"ROW()","v":58}]
["Russell County","Alabama",1416,1663,1752,1953,1985,{"$f":"ROW()","v":59}]
["St. Clair County","Alabama",1523,1789,1885,2102,2136,{"$f":"ROW()","v":60}]
["Shelby County","Alabama",1728,2030,2139,2385,2423,{"$f":"ROW()","v":61}]
["Sumter County","Alabama",1189,1397,1472,1641,1668,{"$f":"ROW()","v":62}]
["Talladega County","Alabama",1348,1583,1668,1860,1890,{"$f":"ROW()","v":63}]
["Tallapoosa County","Alabama",1275,1498,1578,1759,1788,{"$f":"ROW()","v":64}]
["Tuscaloosa County","Alabama",1569,1843,1942,2165,2200,{"$f":"ROW()","v":65}]
["Walker County","Alabama",1369,1608,1694,1889,1919,{"$f":"ROW()","v":66}]
["Washington County","Alabama",1471,1727,1820,2029,2062,{"$f":"ROW()","v":67}]
["Wilcox County","Alabama",1242,1459,1537,1714,1741,{"$f":"ROW()","v":68}]
["Winston County","Alabama",1361,1598,1684,1878,1908,{"$f":"ROW()","v":69}]
["Aleutians East Borou","Alaska",1636,1922,2025,2258,2294,{"$f":"ROW()","v":70}]
["Aleutians West Cens","Alaska",2490,2925,3082,3436,3492,{"$f":"ROW()","v":71}]
["Anchorage Municipa","Alaska",2350,2761,2909,3244,3296,{"$f":"ROW()","v":72}]
["Bethel Census Area","Alaska",1908,2242,2362,2634,2676,{"$f":"ROW()","v":73}]
["Bristol Bay Borough","Alaska",2112,2481,2614,2915,2962,{"$f":"ROW()","v":74}]
["Chugach Census Are","Alaska",2035,2391,2519,2809,2854,{"$f":"ROW()","v":75}]
["Copper River Census","Alaska",1805,2120,2234,2491,2531,{"$f":"ROW()","v":76}]
["Denali Borough","Alaska",1698,1994,2101,2343,2380,{"$f":"ROW()","v":77}]
["Dillingham Census A","Alaska",2220,2608,2748,3064,3113,{"$f":"ROW()","v":78}]
["Fairbanks North Star","Alaska",2046,2403,2532,2823,2869,{"$f":"ROW()","v":79}]
["Haines Borough","Alaska",1839,2160,2276,2538,2579,{"$f":"ROW()","v":80}]
["Hoonah-Angoon Cen","Alaska",1593,1871,1972,2199,2234,{"$f":"ROW()","v":81}]
["Juneau City and Boro","Alaska",2336,2744,2891,3223,3276,{"$f":"ROW()","v":82}]
["Kenai Peninsula Boro","Alaska",1890,2220,2339,2608,2650,{"$f":"ROW()","v":83}]
["Ketchikan Gateway B","Alaska",2171,2550,2687,2996,3044,{"$f":"ROW()","v":84}]
["Kodiak Island Boroug","Alaska",2209,2595,2734,3048,3098,{"$f":"ROW()","v":85}]
["Kusilvak Census Area","Alaska",913,1072,1130,1260,1280,{"$f":"ROW()","v":86}]
["Lake and Peninsula B","Alaska",1045,1227,1293,1442,1465,{"$f":"ROW()","v":87}]
["Matanuska-Susitna B","Alaska",2063,2423,2553,2847,2893,{"$f":"ROW()","v":88}]
["Nome Census Area","Alaska",1833,2152,2268,2529,2570,{"$f":"ROW()","v":89}]
["North Slope Borough","Alaska",1460,1715,1807,2015,2047,{"$f":"ROW()","v":90}]
["Northwest Arctic Bo","Alaska",1666,1957,2062,2299,2336,{"$f":"ROW()","v":91}]
["Petersburg Borough","Alaska",1859,2184,2301,2566,2607,{"$f":"ROW()","v":92}]
["Prince of Wales-Hyd","Alaska",1775,2085,2197,2450,2489,{"$f":"ROW()","v":93}]
["Sitka City and Borou","Alaska",2421,2843,2996,3341,3394,{"$f":"ROW()","v":94}]
["Skagway Municipalit","Alaska",2407,2827,2979,3322,3375,{"$f":"ROW()","v":95}]
["Southeast Fairbanks","Alaska",1725,2026,2135,2381,2419,{"$f":"ROW()","v":96}]
["Wrangell City and Bo","Alaska",1702,2000,2107,2349,2387,{"$f":"ROW()","v":97}]
["Yakutat City and Bor","Alaska",1499,1760,1855,2068,2102,{"$f":"ROW()","v":98}]
["Yukon-Koyukuk Cens","Alaska",1361,1598,1684,1878,1908,{"$f":"ROW()","v":99}]
["Apache County","Arizona",1315,1544,1627,1814,1843,{"$f":"ROW()","v":100}]
["Cochise County","Arizona",1436,1686,1777,1981,2013,{"$f":"ROW()","v":101}]
["Coconino County","Arizona",1923,2259,2380,2654,2697,{"$f":"ROW()","v":102}]
["Gila County","Arizona",1547,1816,1914,2134,2169,{"$f":"ROW()","v":103}]
["Graham County","Arizona",1481,1740,1833,2044,2077,{"$f":"ROW()","v":104}]
["Greenlee County","Arizona",1125,1321,1392,1552,1577,{"$f":"ROW()","v":105}]
["La Paz County","Arizona",1232,1447,1525,1700,1728,{"$f":"ROW()","v":106}]
["Maricopa County","Arizona",1917,2251,2372,2645,2687,{"$f":"ROW()","v":107}]
["Mohave County","Arizona",1412,1658,1747,1948,1979,{"$f":"ROW()","v":108}]
["Navajo County","Arizona",1392,1635,1723,1921,1952,{"$f":"ROW()","v":109}]
["Pima County","Arizona",1631,1916,2019,2251,2288,{"$f":"ROW()","v":110}]
["Pinal County","Arizona",1681,1974,2080,2319,2357,{"$f":"ROW()","v":111}]
["Santa Cruz County","Arizona",1322,1553,1636,1824,1854,{"$f":"ROW()","v":112}]
["Yavapai County","Arizona",1652,1941,2045,2280,2317,{"$f":"ROW()","v":113}]
["Yuma County","Arizona",1426,1675,1765,1968,2000,{"$f":"ROW()","v":114}]
["Arkansas County","Arkansas",1351,1587,1672,1864,1894,{"$f":"ROW()","v":115}]
["Ashley County","Arkansas",1233,1448,1526,1701,1729,{"$f":"ROW()","v":116}]
["Baxter County","Arkansas",1239,1456,1534,1710,1738,{"$f":"ROW()","v":117}]
["Benton County","Arkansas",1635,1920,2023,2256,2292,{"$f":"ROW()","v":118}]
["Boone County","Arkansas",1296,1522,1604,1788,1817,{"$f":"ROW()","v":119}]
["Bradley County","Arkansas",1230,1444,1522,1697,1724,{"$f":"ROW()","v":120}]
["Calhoun County","Arkansas",1273,1495,1575,1756,1784,{"$f":"ROW()","v":121}]
["Carroll County","Arkansas",1368,1607,1693,1888,1918,{"$f":"ROW()","v":122}]
["Chicot County","Arkansas",1142,1341,1413,1575,1601,{"$f":"ROW()","v":123}]
["Clark County","Arkansas",1371,1610,1697,1892,1923,{"$f":"ROW()","v":124}]
["Clay County","Arkansas",1117,1312,1382,1541,1566,{"$f":"ROW()","v":125}]
["Cleburne County","Arkansas",1221,1434,1511,1685,1712,{"$f":"ROW()","v":126}]
["Cleveland County","Arkansas",1291,1517,1598,1782,1811,{"$f":"ROW()","v":127}]
["Columbia County","Arkansas",1290,1515,1596,1780,1808,{"$f":"ROW()","v":128}]
["Conway County","Arkansas",1271,1493,1573,1754,1782,{"$f":"ROW()","v":129}]
["Craighead County","Arkansas",1405,1650,1739,1939,1970,{"$f":"ROW()","v":130}]
["Crawford County","Arkansas",1281,1505,1586,1768,1797,{"$f":"ROW()","v":131}]
["Crittenden County","Arkansas",1366,1605,1691,1885,1916,{"$f":"ROW()","v":132}]
["Cross County","Arkansas",1305,1533,1615,1801,1830,{"$f":"ROW()","v":133}]
["Dallas County","Arkansas",1225,1439,1516,1690,1718,{"$f":"ROW()","v":134}]
["Desha County","Arkansas",1210,1421,1497,1669,1696,{"$f":"ROW()","v":135}]
["Drew County","Arkansas",1216,1428,1505,1678,1705,{"$f":"ROW()","v":136}]
["Faulkner County","Arkansas",1470,1726,1819,2028,2061,{"$f":"ROW()","v":137}]
["Franklin County","Arkansas",1224,1438,1515,1689,1716,{"$f":"ROW()","v":138}]
["Fulton County","Arkansas",1183,1389,1464,1632,1659,{"$f":"ROW()","v":139}]
["Garland County","Arkansas",1339,1572,1657,1848,1877,{"$f":"ROW()","v":140}]
["Grant County","Arkansas",1455,1709,1801,2008,2041,{"$f":"ROW()","v":141}]
["Greene County","Arkansas",1361,1598,1684,1878,1908,{"$f":"ROW()","v":142}]
["Hempstead County","Arkansas",1244,1461,1540,1717,1745,{"$f":"ROW()","v":143}]
["Hot Spring County","Arkansas",1206,1417,1493,1665,1692,{"$f":"ROW()","v":144}]
["Howard County","Arkansas",1239,1455,1533,1709,1737,{"$f":"ROW()","v":145}]
["Independence Count","Arkansas",1248,1466,1545,1723,1750,{"$f":"ROW()","v":146}]
["Izard County","Arkansas",1159,1362,1435,1600,1626,{"$f":"ROW()","v":147}]
["Jackson County","Arkansas",1122,1318,1389,1549,1574,{"$f":"ROW()","v":148}]
["Jefferson County","Arkansas",1285,1509,1590,1773,1801,{"$f":"ROW()","v":149}]
["Johnson County","Arkansas",1214,1426,1503,1676,1703,{"$f":"ROW()","v":150}]
["Lafayette County","Arkansas",1091,1281,1350,1505,1530,{"$f":"ROW()","v":151}]
["Lawrence County","Arkansas",1077,1265,1333,1486,1510,{"$f":"ROW()","v":152}]
["Lee County","Arkansas",1200,1409,1485,1656,1683,{"$f":"ROW()","v":153}]
["Lincoln County","Arkansas",1142,1341,1413,1575,1601,{"$f":"ROW()","v":154}]
["Little River County","Arkansas",1165,1368,1442,1608,1634,{"$f":"ROW()","v":155}]
["Logan County","Arkansas",1153,1354,1427,1591,1617,{"$f":"ROW()","v":156}]
["Lonoke County","Arkansas",1459,1714,1806,2014,2046,{"$f":"ROW()","v":157}]
["Madison County","Arkansas",1225,1439,1516,1690,1718,{"$f":"ROW()","v":158}]
["Marion County","Arkansas",1173,1378,1452,1619,1645,{"$f":"ROW()","v":159}]
["Miller County","Arkansas",1357,1593,1679,1872,1902,{"$f":"ROW()","v":160}]
["Mississippi County","Arkansas",1202,1412,1488,1659,1686,{"$f":"ROW()","v":161}]
["Monroe County","Arkansas",1184,1390,1465,1633,1660,{"$f":"ROW()","v":162}]
["Montgomery County","Arkansas",1315,1545,1628,1815,1845,{"$f":"ROW()","v":163}]
["Nevada County","Arkansas",1177,1383,1457,1625,1651,{"$f":"ROW()","v":164}]
["Newton County","Arkansas",1269,1490,1570,1751,1779,{"$f":"ROW()","v":165}]
["Ouachita County","Arkansas",1172,1377,1451,1618,1644,{"$f":"ROW()","v":166}]
["Perry County","Arkansas",1238,1454,1532,1708,1736,{"$f":"ROW()","v":167}]
["Phillips County","Arkansas",1228,1442,1520,1695,1722,{"$f":"ROW()","v":168}]
["Pike County","Arkansas",1204,1414,1490,1661,1688,{"$f":"ROW()","v":169}]
["Poinsett County","Arkansas",1177,1383,1457,1625,1651,{"$f":"ROW()","v":170}]
["Polk County","Arkansas",1233,1448,1526,1701,1729,{"$f":"ROW()","v":171}]
["Pope County","Arkansas",1252,1471,1550,1728,1756,{"$f":"ROW()","v":172}]
["Prairie County","Arkansas",1214,1426,1503,1676,1703,{"$f":"ROW()","v":173}]
["Pulaski County","Arkansas",1544,1814,1911,2131,2165,{"$f":"ROW()","v":174}]
["Randolph County","Arkansas",1133,1330,1402,1563,1588,{"$f":"ROW()","v":175}]
["St. Francis County","Arkansas",1130,1327,1398,1559,1584,{"$f":"ROW()","v":176}]
["Saline County","Arkansas",1497,1758,1853,2066,2099,{"$f":"ROW()","v":177}]
["Scott County","Arkansas",1182,1388,1463,1631,1658,{"$f":"ROW()","v":178}]
["Searcy County","Arkansas",1201,1411,1487,1658,1685,{"$f":"ROW()","v":179}]
["Sebastian County","Arkansas",1355,1591,1677,1870,1900,{"$f":"ROW()","v":180}]
["Sevier County","Arkansas",1214,1426,1503,1676,1703,{"$f":"ROW()","v":181}]
["Sharp County","Arkansas",1103,1295,1365,1522,1547,{"$f":"ROW()","v":182}]
["Stone County","Arkansas",1284,1508,1589,1772,1800,{"$f":"ROW()","v":183}]
["Union County","Arkansas",1295,1521,1603,1787,1816,{"$f":"ROW()","v":184}]
["Van Buren County","Arkansas",1298,1524,1606,1791,1820,{"$f":"ROW()","v":185}]
["Washington County","Arkansas",1594,1872,1973,2200,2235,{"$f":"ROW()","v":186}]
["White County","Arkansas",1321,1552,1635,1823,1852,{"$f":"ROW()","v":187}]
["Woodruff County","Arkansas",1223,1436,1513,1687,1714,{"$f":"ROW()","v":188}]
["Yell County","Arkansas",1321,1552,1635,1823,1852,{"$f":"ROW()","v":189}]
["Alameda County","California",3242,3807,4012,4473,4546,{"$f":"ROW()","v":190}]
["Alpine County","California",2409,2829,2981,3324,3377,{"$f":"ROW()","v":191}]
["Amador County","California",2056,2415,2545,2838,2883,{"$f":"ROW()","v":192}]
["Butte County","California",1975,2319,2444,2725,2769,{"$f":"ROW()","v":193}]
["Calaveras County","California",2171,2550,2687,2996,3044,{"$f":"ROW()","v":194}]
["Colusa County","California",1890,2220,2339,2608,2650,{"$f":"ROW()","v":195}]
["Contra Costa County","California",2988,3509,3698,4123,4190,{"$f":"ROW()","v":196}]
["Del Norte County","California",1602,1882,1983,2211,2247,{"$f":"ROW()","v":197}]
["El Dorado County","California",2602,3056,3220,3590,3648,{"$f":"ROW()","v":198}]
["Fresno County","California",1922,2258,2379,2653,2695,{"$f":"ROW()","v":199}]
["Glenn County","California",1823,2141,2256,2515,2556,{"$f":"ROW()","v":200}]
["Humboldt County","California",2018,2371,2498,2785,2830,{"$f":"ROW()","v":201}]
["Imperial County","California",1757,2063,2174,2424,2463,{"$f":"ROW()","v":202}]
["Inyo County","California",2211,2596,2736,3051,3100,{"$f":"ROW()","v":203}]
["Kern County","California",1869,2195,2313,2579,2621,{"$f":"ROW()","v":204}]
["Kings County","California",1796,2110,2223,2479,2519,{"$f":"ROW()","v":205}]
["Lake County","California",1856,2180,2297,2561,2603,{"$f":"ROW()","v":206}]
["Lassen County","California",1719,2019,2127,2372,2410,{"$f":"ROW()","v":207}]
["Los Angeles County","California",2817,3308,3486,3887,3950,{"$f":"ROW()","v":208}]
["Madera County","California",1891,2221,2340,2609,2651,{"$f":"ROW()","v":209}]
["Marin County","California",3971,4664,4915,5480,5569,{"$f":"ROW()","v":210}]
["Mariposa County","California",1955,2296,2419,2697,2741,{"$f":"ROW()","v":211}]
["Mendocino County","California",2184,2565,2703,3014,3062,{"$f":"ROW()","v":212}]
["Merced County","California",1834,2154,2270,2531,2572,{"$f":"ROW()","v":213}]
["Modoc County","California",1429,1678,1768,1971,2003,{"$f":"ROW()","v":214}]
["Mono County","California",2262,2657,2800,3122,3172,{"$f":"ROW()","v":215}]
["Monterey County","California",2609,3064,3229,3600,3658,{"$f":"ROW()","v":216}]
["Napa County","California",2966,3484,3671,4093,4159,{"$f":"ROW()","v":217}]
["Nevada County","California",2484,2917,3074,3428,3483,{"$f":"ROW()","v":218}]
["Orange County","California",3032,3562,3753,4185,4252,{"$f":"ROW()","v":219}]
["Placer County","California",2705,3177,3348,3733,3793,{"$f":"ROW()","v":220}]
["Plumas County","California",1778,2089,2201,2454,2494,{"$f":"ROW()","v":221}]
["Riverside County","California",2359,2770,2919,3255,3307,{"$f":"ROW()","v":222}]
["Sacramento County","California",2267,2663,2806,3129,3179,{"$f":"ROW()","v":223}]
["San Benito County","California",2885,3389,3571,3982,4046,{"$f":"ROW()","v":224}]
["San Bernardino Coun","California",2149,2524,2660,2966,3014,{"$f":"ROW()","v":225}]
["San Diego County","California",2867,3367,3548,3956,4020,{"$f":"ROW()","v":226}]
["San Francisco Count","California",3899,4579,4825,5380,5467,{"$f":"ROW()","v":227}]
["San Joaquin County","California",2253,2646,2788,3109,3159,{"$f":"ROW()","v":228}]
["San Luis Obispo Cou","California",2649,3112,3279,3656,3715,{"$f":"ROW()","v":229}]
["San Mateo County","California",3802,4466,4706,5247,5332,{"$f":"ROW()","v":230}]
["Santa Barbara Count","California",2649,3112,3279,3656,3715,{"$f":"ROW()","v":231}]
["Santa Clara County","California",3808,4473,4713,5255,5340,{"$f":"ROW()","v":232}]
["Santa Cruz County","California",3181,3736,3937,4390,4461,{"$f":"ROW()","v":233}]
["Shasta County","California",1883,2211,2330,2598,2640,{"$f":"ROW()","v":234}]
["Sierra County","California",1677,1970,2076,2315,2352,{"$f":"ROW()","v":235}]
["Siskiyou County","California",1678,1971,2077,2316,2353,{"$f":"ROW()","v":236}]
["Solano County","California",2497,2932,3090,3445,3501,{"$f":"ROW()","v":237}]
["Sonoma County","California",2819,3311,3489,3890,3953,{"$f":"ROW()","v":238}]
["Stanislaus County","California",2018,2370,2497,2784,2829,{"$f":"ROW()","v":239}]
["Sutter County","California",1980,2325,2450,2732,2776,{"$f":"ROW()","v":240}]
["Tehama County","California",1714,2013,2121,2365,2403,{"$f":"ROW()","v":241}]
["Trinity County","California",1736,2038,2148,2395,2434,{"$f":"ROW()","v":242}]
["Tulare County","California",1758,2065,2176,2426,2465,{"$f":"ROW()","v":243}]
["Tuolumne County","California",2101,2467,2600,2899,2946,{"$f":"ROW()","v":244}]
["Ventura County","California",2852,3350,3530,3936,3999,{"$f":"ROW()","v":245}]
["Yolo County","California",2473,2905,3061,3413,3468,{"$f":"ROW()","v":246}]
["Yuba County","California",1985,2332,2457,2740,2784,{"$f":"ROW()","v":247}]
["Adams County","Colorado",2098,2465,2597,2896,2942,{"$f":"ROW()","v":248}]
["Alamosa County","Colorado",1412,1658,1747,1948,1979,{"$f":"ROW()","v":249}]
["Arapahoe County","Colorado",2183,2564,2702,3013,3061,{"$f":"ROW()","v":250}]
["Archuleta County","Colorado",1770,2078,2190,2442,2481,{"$f":"ROW()","v":251}]
["Baca County","Colorado",1311,1540,1623,1810,1839,{"$f":"ROW()","v":252}]
["Bent County","Colorado",1288,1513,1594,1777,1806,{"$f":"ROW()","v":253}]
["Boulder County","Colorado",2415,2837,2989,3333,3387,{"$f":"ROW()","v":254}]
["Broomfield County","Colorado",2378,2793,2943,3281,3334,{"$f":"ROW()","v":255}]
["Chaffee County","Colorado",1748,2053,2163,2412,2451,{"$f":"ROW()","v":256}]
["Cheyenne County","Colorado",1422,1670,1760,1962,1994,{"$f":"ROW()","v":257}]
["Clear Creek County","Colorado",2186,2567,2705,3016,3065,{"$f":"ROW()","v":258}]
["Conejos County","Colorado",1263,1483,1563,1743,1771,{"$f":"ROW()","v":259}]
["Costilla County","Colorado",1290,1515,1596,1780,1808,{"$f":"ROW()","v":260}]
["Crowley County","Colorado",1293,1518,1600,1784,1813,{"$f":"ROW()","v":261}]
["Custer County","Colorado",1879,2207,2326,2593,2635,{"$f":"ROW()","v":262}]
["Delta County","Colorado",1522,1788,1884,2101,2135,{"$f":"ROW()","v":263}]
["Denver County","Colorado",2223,2611,2751,3067,3117,{"$f":"ROW()","v":264}]
["Dolores County","Colorado",1324,1554,1638,1826,1856,{"$f":"ROW()","v":265}]
["Douglas County","Colorado",2594,3046,3210,3579,3637,{"$f":"ROW()","v":266}]
["Eagle County","Colorado",2559,3005,3167,3531,3588,{"$f":"ROW()","v":267}]
["Elbert County","Colorado",2479,2912,3068,3421,3476,{"$f":"ROW()","v":268}]
["El Paso County","Colorado",1942,2281,2404,2680,2724,{"$f":"ROW()","v":269}]
["Fremont County","Colorado",1486,1745,1839,2050,2084,{"$f":"ROW()","v":270}]
["Garfield County","Colorado",2137,2510,2645,2949,2997,{"$f":"ROW()","v":271}]
["Gilpin County","Colorado",2144,2518,2653,2958,3006,{"$f":"ROW()","v":272}]
["Grand County","Colorado",1846,2168,2285,2548,2589,{"$f":"ROW()","v":273}]
["Gunnison County","Colorado",2034,2389,2517,2806,2852,{"$f":"ROW()","v":274}]
["Hinsdale County","Colorado",1952,2293,2416,2694,2737,{"$f":"ROW()","v":275}]
["Huerfano County","Colorado",1349,1584,1669,1861,1891,{"$f":"ROW()","v":276}]
["Jackson County","Colorado",1409,1655,1744,1945,1976,{"$f":"ROW()","v":277}]
["Jefferson County","Colorado",2231,2620,2761,3079,3128,{"$f":"ROW()","v":278}]
["Kiowa County","Colorado",1325,1556,1640,1829,1858,{"$f":"ROW()","v":279}]
["Kit Carson County","Colorado",1568,1842,1941,2164,2199,{"$f":"ROW()","v":280}]
["Lake County","Colorado",1712,2011,2119,2363,2401,{"$f":"ROW()","v":281}]
["La Plata County","Colorado",2012,2363,2490,2776,2821,{"$f":"ROW()","v":282}]
["Larimer County","Colorado",2094,2460,2592,2890,2937,{"$f":"ROW()","v":283}]
["Las Animas County","Colorado",1504,1766,1861,2075,2109,{"$f":"ROW()","v":284}]
["Lincoln County","Colorado",1437,1688,1779,1984,2016,{"$f":"ROW()","v":285}]
["Logan County","Colorado",1497,1758,1853,2066,2099,{"$f":"ROW()","v":286}]
["Mesa County","Colorado",1602,1882,1983,2211,2247,{"$f":"ROW()","v":287}]
["Mineral County","Colorado",1789,2101,2214,2469,2508,{"$f":"ROW()","v":288}]
["Moffat County","Colorado",1590,1868,1968,2194,2230,{"$f":"ROW()","v":289}]
["Montezuma County","Colorado",1552,1823,1921,2142,2176,{"$f":"ROW()","v":290}]
["Montrose County","Colorado",1615,1897,1999,2229,2265,{"$f":"ROW()","v":291}]
["Morgan County","Colorado",1807,2122,2236,2493,2533,{"$f":"ROW()","v":292}]
["Otero County","Colorado",1294,1520,1602,1786,1815,{"$f":"ROW()","v":293}]
["Ouray County","Colorado",1871,2197,2315,2581,2623,{"$f":"ROW()","v":294}]
["Park County","Colorado",1925,2261,2383,2657,2700,{"$f":"ROW()","v":295}]
["Phillips County","Colorado",1467,1722,1815,2024,2056,{"$f":"ROW()","v":296}]
["Pitkin County","Colorado",2422,2845,2998,3343,3397,{"$f":"ROW()","v":297}]
["Prowers County","Colorado",1381,1622,1709,1906,1936,{"$f":"ROW()","v":298}]
["Pueblo County","Colorado",1552,1823,1921,2142,2176,{"$f":"ROW()","v":299}]
["Rio Blanco County","Colorado",1656,1945,2050,2286,2323,{"$f":"ROW()","v":300}]
["Rio Grande County","Colorado",1435,1685,1776,1980,2012,{"$f":"ROW()","v":301}]
["Routt County","Colorado",2191,2574,2712,3024,3073,{"$f":"ROW()","v":302}]
["Saguache County","Colorado",1371,1610,1697,1892,1923,{"$f":"ROW()","v":303}]
["San Juan County","Colorado",1654,1943,2047,2282,2319,{"$f":"ROW()","v":304}]
["San Miguel County","Colorado",2332,2739,2886,3218,3270,{"$f":"ROW()","v":305}]
["Sedgwick County","Colorado",1227,1442,1519,1694,1721,{"$f":"ROW()","v":306}]
["Summit County","Colorado",2216,2602,2742,3057,3107,{"$f":"ROW()","v":307}]
["Teller County","Colorado",1707,2005,2113,2356,2394,{"$f":"ROW()","v":308}]
["Washington County","Colorado",1641,1927,2031,2265,2301,{"$f":"ROW()","v":309}]
["Weld County","Colorado",2030,2384,2512,2801,2846,{"$f":"ROW()","v":310}]
["Yuma County","Colorado",1622,1905,2007,2238,2274,{"$f":"ROW()","v":311}]
["Fairfield County","Connecticut",2952,3468,3654,4074,4140,{"$f":"ROW()","v":312}]
["Hartford County","Connecticut",2162,2540,2676,2984,3032,{"$f":"ROW()","v":313}]
["Litchfield County","Connecticut",2136,2508,2643,2947,2995,{"$f":"ROW()","v":314}]
["Middlesex County","Connecticut",2279,2676,2820,3144,3195,{"$f":"ROW()","v":315}]
["New Haven County","Connecticut",2245,2636,2778,3097,3147,{"$f":"ROW()","v":316}]
["New London County","Connecticut",2089,2453,2585,2882,2929,{"$f":"ROW()","v":317}]
["Tolland County","Connecticut",2172,2551,2688,2997,3046,{"$f":"ROW()","v":318}]
["Windham County","Connecticut",1900,2231,2351,2621,2664,{"$f":"ROW()","v":319}]
["Kent County","Delaware",1774,2084,2196,2449,2488,{"$f":"ROW()","v":320}]
["New Castle County","Delaware",1910,2243,2364,2636,2678,{"$f":"ROW()","v":321}]
["Sussex County","Delaware",1741,2045,2155,2403,2442,{"$f":"ROW()","v":322}]
["District of Columbia","District of Columbia",2815,3306,3484,3885,3947,{"$f":"ROW()","v":323}]
["Alachua County","Florida",1699,1996,2103,2345,2383,{"$f":"ROW()","v":324}]
["Baker County","Florida",1539,1808,1905,2124,2158,{"$f":"ROW()","v":325}]
["Bay County","Florida",1694,1990,2097,2338,2376,{"$f":"ROW()","v":326}]
["Bradford County","Florida",1421,1669,1759,1961,1993,{"$f":"ROW()","v":327}]
["Brevard County","Florida",1694,1990,2097,2338,2376,{"$f":"ROW()","v":328}]
["Broward County","Florida",2193,2576,2714,3026,3075,{"$f":"ROW()","v":329}]
["Calhoun County","Florida",1280,1503,1584,1766,1795,{"$f":"ROW()","v":330}]
["Charlotte County","Florida",1630,1914,2017,2249,2285,{"$f":"ROW()","v":331}]
["Citrus County","Florida",1338,1572,1656,1846,1876,{"$f":"ROW()","v":332}]
["Clay County","Florida",1677,1969,2075,2314,2351,{"$f":"ROW()","v":333}]
["Collier County","Florida",2169,2547,2684,2993,3041,{"$f":"ROW()","v":334}]
["Columbia County","Florida",1392,1635,1723,1921,1952,{"$f":"ROW()","v":335}]
["DeSoto County","Florida",1352,1588,1673,1865,1896,{"$f":"ROW()","v":336}]
["Dixie County","Florida",1281,1505,1586,1768,1797,{"$f":"ROW()","v":337}]
["Duval County","Florida",1690,1985,2092,2333,2370,{"$f":"ROW()","v":338}]
["Escambia County","Florida",1565,1838,1937,2160,2195,{"$f":"ROW()","v":339}]
["Flagler County","Florida",1631,1915,2018,2250,2286,{"$f":"ROW()","v":340}]
["Franklin County","Florida",1539,1808,1905,2124,2158,{"$f":"ROW()","v":341}]
["Gadsden County","Florida",1391,1633,1721,1919,1950,{"$f":"ROW()","v":342}]
["Gilchrist County","Florida",1345,1580,1665,1856,1886,{"$f":"ROW()","v":343}]
["Glades County","Florida",1349,1585,1670,1862,1892,{"$f":"ROW()","v":344}]
["Gulf County","Florida",1565,1838,1937,2160,2195,{"$f":"ROW()","v":345}]
["Hamilton County","Florida",1258,1478,1557,1736,1764,{"$f":"ROW()","v":346}]
["Hardee County","Florida",1370,1610,1696,1891,1922,{"$f":"ROW()","v":347}]
["Hendry County","Florida",1414,1661,1750,1951,1983,{"$f":"ROW()","v":348}]
["Hernando County","Florida",1489,1749,1843,2055,2088,{"$f":"ROW()","v":349}]
["Highlands County","Florida",1325,1556,1640,1829,1858,{"$f":"ROW()","v":350}]
["Hillsborough County","Florida",1881,2209,2328,2596,2638,{"$f":"ROW()","v":351}]
["Holmes County","Florida",1223,1436,1513,1687,1714,{"$f":"ROW()","v":352}]
["Indian River County","Florida",1645,1932,2036,2270,2307,{"$f":"ROW()","v":353}]
["Jackson County","Florida",1279,1502,1583,1765,1794,{"$f":"ROW()","v":354}]
["Jefferson County","Florida",1472,1729,1822,2032,2064,{"$f":"ROW()","v":355}]
["Lafayette County","Florida",1525,1791,1887,2104,2138,{"$f":"ROW()","v":356}]
["Lake County","Florida",1684,1978,2084,2324,2361,{"$f":"ROW()","v":357}]
["Lee County","Florida",1781,2092,2204,2457,2497,{"$f":"ROW()","v":358}]
["Leon County","Florida",1732,2034,2143,2389,2428,{"$f":"ROW()","v":359}]
["Levy County","Florida",1369,1608,1694,1889,1919,{"$f":"ROW()","v":360}]
["Liberty County","Florida",1328,1559,1643,1832,1862,{"$f":"ROW()","v":361}]
["Madison County","Florida",1336,1569,1653,1843,1873,{"$f":"ROW()","v":362}]
["Manatee County","Florida",1892,2223,2342,2611,2653,{"$f":"ROW()","v":363}]
["Marion County","Florida",1399,1644,1732,1931,1962,{"$f":"ROW()","v":364}]
["Martin County","Florida",2070,2431,2562,2857,2903,{"$f":"ROW()","v":365}]
["Miami-Dade County","Florida",2212,2598,2738,3053,3102,{"$f":"ROW()","v":366}]
["Monroe County","Florida",3060,3594,3787,4223,4291,{"$f":"ROW()","v":367}]
["Nassau County","Florida",1799,2112,2226,2482,2522,{"$f":"ROW()","v":368}]
["Okaloosa County","Florida",1825,2144,2259,2519,2559,{"$f":"ROW()","v":369}]
["Okeechobee County","Florida",1423,1671,1761,1964,1995,{"$f":"ROW()","v":370}]
["Orange County","Florida",1894,2224,2344,2614,2656,{"$f":"ROW()","v":371}]
["Osceola County","Florida",1741,2045,2155,2403,2442,{"$f":"ROW()","v":372}]
["Palm Beach County","Florida",2156,2532,2668,2975,3023,{"$f":"ROW()","v":373}]
["Pasco County","Florida",1740,2044,2154,2402,2440,{"$f":"ROW()","v":374}]
["Pinellas County","Florida",1845,2168,2284,2547,2588,{"$f":"ROW()","v":375}]
["Polk County","Florida",1595,1873,1974,2201,2237,{"$f":"ROW()","v":376}]
["Putnam County","Florida",1356,1592,1678,1871,1901,{"$f":"ROW()","v":377}]
["St. Johns County","Florida",2128,2500,2634,2937,2984,{"$f":"ROW()","v":378}]
["St. Lucie County","Florida",1754,2060,2171,2421,2460,{"$f":"ROW()","v":379}]
["Santa Rosa County","Florida",1747,2052,2162,2411,2450,{"$f":"ROW()","v":380}]
["Sarasota County","Florida",1812,2128,2242,2500,2540,{"$f":"ROW()","v":381}]
["Seminole County","Florida",1907,2240,2360,2631,2674,{"$f":"ROW()","v":382}]
["Sumter County","Florida",1601,1881,1982,2210,2246,{"$f":"ROW()","v":383}]
["Suwannee County","Florida",1289,1514,1595,1778,1807,{"$f":"ROW()","v":384}]
["Taylor County","Florida",1361,1599,1685,1879,1909,{"$f":"ROW()","v":385}]
["Union County","Florida",1354,1591,1676,1869,1899,{"$f":"ROW()","v":386}]
["Volusia County","Florida",1605,1886,1987,2216,2251,{"$f":"ROW()","v":387}]
["Wakulla County","Florida",1571,1845,1944,2168,2203,{"$f":"ROW()","v":388}]
["Walton County","Florida",1849,2171,2288,2551,2592,{"$f":"ROW()","v":389}]
["Washington County","Florida",1386,1628,1715,1912,1943,{"$f":"ROW()","v":390}]
["Appling County","Georgia",1252,1470,1549,1727,1755,{"$f":"ROW()","v":391}]
["Atkinson County","Georgia",1311,1539,1622,1809,1838,{"$f":"ROW()","v":392}]
["Bacon County","Georgia",1206,1416,1492,1664,1690,{"$f":"ROW()","v":393}]
["Baker County","Georgia",1218,1430,1507,1680,1707,{"$f":"ROW()","v":394}]
["Baldwin County","Georgia",1500,1762,1857,2071,2104,{"$f":"ROW()","v":395}]
["Banks County","Georgia",1525,1791,1887,2104,2138,{"$f":"ROW()","v":396}]
["Barrow County","Georgia",1586,1863,1963,2189,2224,{"$f":"ROW()","v":397}]
["Bartow County","Georgia",1609,1889,1991,2220,2256,{"$f":"ROW()","v":398}]
["Ben Hill County","Georgia",1352,1588,1673,1865,1896,{"$f":"ROW()","v":399}]
["Berrien County","Georgia",1344,1578,1663,1854,1884,{"$f":"ROW()","v":400}]
["Bibb County","Georgia",1491,1751,1845,2057,2090,{"$f":"ROW()","v":401}]
["Bleckley County","Georgia",1478,1736,1829,2039,2072,{"$f":"ROW()","v":402}]
["Brantley County","Georgia",1344,1578,1663,1854,1884,{"$f":"ROW()","v":403}]
["Brooks County","Georgia",1408,1653,1742,1942,1974,{"$f":"ROW()","v":404}]
["Bryan County","Georgia",1919,2254,2375,2648,2691,{"$f":"ROW()","v":405}]
["Bulloch County","Georgia",1505,1768,1863,2077,2111,{"$f":"ROW()","v":406}]
["Burke County","Georgia",1459,1714,1806,2014,2046,{"$f":"ROW()","v":407}]
["Butts County","Georgia",1450,1703,1795,2001,2034,{"$f":"ROW()","v":408}]
["Calhoun County","Georgia",1351,1587,1672,1864,1894,{"$f":"ROW()","v":409}]
["Camden County","Georgia",1545,1814,1912,2132,2166,{"$f":"ROW()","v":410}]
["Candler County","Georgia",1344,1578,1663,1854,1884,{"$f":"ROW()","v":411}]
["Carroll County","Georgia",1500,1761,1856,2069,2103,{"$f":"ROW()","v":412}]
["Catoosa County","Georgia",1435,1685,1776,1980,2012,{"$f":"ROW()","v":413}]
["Charlton County","Georgia",1406,1651,1740,1940,1971,{"$f":"ROW()","v":414}]
["Chatham County","Georgia",1770,2078,2190,2442,2481,{"$f":"ROW()","v":415}]
["Chattahoochee Coun","Georgia",1576,1851,1951,2175,2210,{"$f":"ROW()","v":416}]
["Chattooga County","Georgia",1256,1475,1554,1733,1761,{"$f":"ROW()","v":417}]
["Cherokee County","Georgia",1959,2301,2425,2704,2748,{"$f":"ROW()","v":418}]
["Clarke County","Georgia",1594,1872,1973,2200,2235,{"$f":"ROW()","v":419}]
["Clay County","Georgia",1342,1576,1661,1852,1882,{"$f":"ROW()","v":420}]
["Clayton County","Georgia",1485,1744,1838,2049,2082,{"$f":"ROW()","v":421}]
["Clinch County","Georgia",1198,1407,1483,1654,1680,{"$f":"ROW()","v":422}]
["Cobb County","Georgia",1993,2341,2467,2751,2795,{"$f":"ROW()","v":423}]
["Coffee County","Georgia",1382,1624,1711,1908,1939,{"$f":"ROW()","v":424}]
["Colquitt County","Georgia",1351,1587,1672,1864,1894,{"$f":"ROW()","v":425}]
["Columbia County","Georgia",1798,2112,2225,2481,2521,{"$f":"ROW()","v":426}]
["Cook County","Georgia",1448,1701,1792,1998,2030,{"$f":"ROW()","v":427}]
["Coweta County","Georgia",1853,2176,2293,2557,2598,{"$f":"ROW()","v":428}]
["Crawford County","Georgia",1350,1586,1671,1863,1893,{"$f":"ROW()","v":429}]
["Crisp County","Georgia",1349,1584,1669,1861,1891,{"$f":"ROW()","v":430}]
["Dade County","Georgia",1439,1690,1781,1986,2018,{"$f":"ROW()","v":431}]
["Dawson County","Georgia",1896,2227,2347,2617,2659,{"$f":"ROW()","v":432}]
["Decatur County","Georgia",1387,1629,1717,1914,1945,{"$f":"ROW()","v":433}]
["DeKalb County","Georgia",1930,2267,2389,2664,2707,{"$f":"ROW()","v":434}]
["Dodge County","Georgia",1514,1778,1874,2090,2123,{"$f":"ROW()","v":435}]
["Dooly County","Georgia",1260,1479,1559,1738,1766,{"$f":"ROW()","v":436}]
["Dougherty County","Georgia",1434,1684,1775,1979,2011,{"$f":"ROW()","v":437}]
["Douglas County","Georgia",1681,1974,2080,2319,2357,{"$f":"ROW()","v":438}]
["Early County","Georgia",1336,1569,1653,1843,1873,{"$f":"ROW()","v":439}]
["Echols County","Georgia",1186,1393,1468,1637,1663,{"$f":"ROW()","v":440}]
["Effingham County","Georgia",1688,1982,2089,2329,2367,{"$f":"ROW()","v":441}]
["Elbert County","Georgia",1296,1522,1604,1788,1817,{"$f":"ROW()","v":442}]
["Emanuel County","Georgia",1226,1440,1517,1691,1719,{"$f":"ROW()","v":443}]
["Evans County","Georgia",1197,1406,1482,1652,1679,{"$f":"ROW()","v":444}]
["Fannin County","Georgia",1465,1721,1813,2021,2054,{"$f":"ROW()","v":445}]
["Fayette County","Georgia",2173,2552,2689,2998,3047,{"$f":"ROW()","v":446}]
["Floyd County","Georgia",1479,1737,1830,2040,2073,{"$f":"ROW()","v":447}]
["Forsyth County","Georgia",2375,2789,2939,3277,3330,{"$f":"ROW()","v":448}]
["Franklin County","Georgia",1443,1695,1786,1991,2024,{"$f":"ROW()","v":449}]
["Fulton County","Georgia",2235,2625,2766,3084,3134,{"$f":"ROW()","v":450}]
["Gilmer County","Georgia",1538,1806,1903,2122,2156,{"$f":"ROW()","v":451}]
["Glascock County","Georgia",1509,1773,1868,2083,2116,{"$f":"ROW()","v":452}]
["Glynn County","Georgia",1690,1985,2092,2333,2370,{"$f":"ROW()","v":453}]
["Gordon County","Georgia",1470,1726,1819,2028,2061,{"$f":"ROW()","v":454}]
["Grady County","Georgia",1453,1706,1798,2005,2037,{"$f":"ROW()","v":455}]
["Greene County","Georgia",1791,2103,2216,2471,2511,{"$f":"ROW()","v":456}]
["Gwinnett County","Georgia",1929,2265,2387,2662,2704,{"$f":"ROW()","v":457}]
["Habersham County","Georgia",1467,1723,1816,2025,2058,{"$f":"ROW()","v":458}]
["Hall County","Georgia",1703,2000,2108,2350,2388,{"$f":"ROW()","v":459}]
["Hancock County","Georgia",1534,1802,1899,2117,2152,{"$f":"ROW()","v":460}]
["Haralson County","Georgia",1514,1778,1874,2090,2123,{"$f":"ROW()","v":461}]
["Harris County","Georgia",1991,2338,2464,2747,2792,{"$f":"ROW()","v":462}]
["Hart County","Georgia",1391,1633,1721,1919,1950,{"$f":"ROW()","v":463}]
["Heard County","Georgia",1468,1724,1817,2026,2059,{"$f":"ROW()","v":464}]
["Henry County","Georgia",1757,2064,2175,2425,2464,{"$f":"ROW()","v":465}]
["Houston County","Georgia",1565,1838,1937,2160,2195,{"$f":"ROW()","v":466}]
["Irwin County","Georgia",1309,1537,1620,1806,1835,{"$f":"ROW()","v":467}]
["Jackson County","Georgia",1699,1996,2103,2345,2383,{"$f":"ROW()","v":468}]
["Jasper County","Georgia",1445,1697,1788,1994,2026,{"$f":"ROW()","v":469}]
["Jeff Davis County","Georgia",1277,1499,1580,1762,1790,{"$f":"ROW()","v":470}]
["Jefferson County","Georgia",1308,1536,1619,1805,1834,{"$f":"ROW()","v":471}]
["Jenkins County","Georgia",1351,1587,1672,1864,1894,{"$f":"ROW()","v":472}]
["Johnson County","Georgia",1258,1478,1557,1736,1764,{"$f":"ROW()","v":473}]
["Jones County","Georgia",1502,1764,1859,2073,2106,{"$f":"ROW()","v":474}]
["Lamar County","Georgia",1568,1842,1941,2164,2199,{"$f":"ROW()","v":475}]
["Lanier County","Georgia",1397,1641,1729,1928,1959,{"$f":"ROW()","v":476}]
["Laurens County","Georgia",1420,1667,1757,1959,1991,{"$f":"ROW()","v":477}]
["Lee County","Georgia",1584,1861,1961,2187,2222,{"$f":"ROW()","v":478}]
["Liberty County","Georgia",1452,1705,1797,2004,2036,{"$f":"ROW()","v":479}]
["Lincoln County","Georgia",1624,1907,2010,2241,2277,{"$f":"ROW()","v":480}]
["Long County","Georgia",1586,1863,1963,2189,2224,{"$f":"ROW()","v":481}]
["Lowndes County","Georgia",1443,1695,1786,1991,2024,{"$f":"ROW()","v":482}]
["Lumpkin County","Georgia",1508,1771,1866,2081,2114,{"$f":"ROW()","v":483}]
["McDuffie County","Georgia",1391,1634,1722,1920,1951,{"$f":"ROW()","v":484}]
["McIntosh County","Georgia",1476,1734,1827,2037,2070,{"$f":"ROW()","v":485}]
["Macon County","Georgia",1273,1495,1575,1756,1784,{"$f":"ROW()","v":486}]
["Madison County","Georgia",1402,1647,1735,1935,1966,{"$f":"ROW()","v":487}]
["Marion County","Georgia",1457,1711,1803,2010,2043,{"$f":"ROW()","v":488}]
["Meriwether County","Georgia",1474,1731,1824,2034,2067,{"$f":"ROW()","v":489}]
["Miller County","Georgia",1411,1657,1746,1947,1978,{"$f":"ROW()","v":490}]
["Mitchell County","Georgia",1429,1679,1769,1972,2004,{"$f":"ROW()","v":491}]
["Monroe County","Georgia",1757,2063,2174,2424,2463,{"$f":"ROW()","v":492}]
["Montgomery County","Georgia",1337,1571,1655,1845,1875,{"$f":"ROW()","v":493}]
["Morgan County","Georgia",1763,2071,2182,2433,2472,{"$f":"ROW()","v":494}]
["Murray County","Georgia",1303,1531,1613,1798,1828,{"$f":"ROW()","v":495}]
["Muscogee County","Georgia",1541,1810,1907,2126,2161,{"$f":"ROW()","v":496}]
["Newton County","Georgia",1586,1863,1963,2189,2224,{"$f":"ROW()","v":497}]
["Oconee County","Georgia",2000,2349,2475,2760,2804,{"$f":"ROW()","v":498}]
["Oglethorpe County","Georgia",1492,1752,1846,2058,2092,{"$f":"ROW()","v":499}]
["Paulding County","Georgia",1704,2001,2109,2352,2389,{"$f":"ROW()","v":500}]
["Peach County","Georgia",1482,1740,1834,2045,2078,{"$f":"ROW()","v":501}]
["Pickens County","Georgia",1569,1843,1942,2165,2200,{"$f":"ROW()","v":502}]
["Pierce County","Georgia",1404,1649,1738,1938,1969,{"$f":"ROW()","v":503}]
["Pike County","Georgia",1778,2088,2200,2453,2493,{"$f":"ROW()","v":504}]
["Polk County","Georgia",1430,1680,1770,1974,2005,{"$f":"ROW()","v":505}]
["Pulaski County","Georgia",1358,1595,1681,1874,1905,{"$f":"ROW()","v":506}]
["Putnam County","Georgia",1445,1697,1788,1994,2026,{"$f":"ROW()","v":507}]
["Quitman County","Georgia",1012,1189,1253,1397,1420,{"$f":"ROW()","v":508}]
["Rabun County","Georgia",1490,1750,1844,2056,2089,{"$f":"ROW()","v":509}]
["Randolph County","Georgia",1216,1428,1505,1678,1705,{"$f":"ROW()","v":510}]
["Richmond County","Georgia",1444,1696,1787,1993,2025,{"$f":"ROW()","v":511}]
["Rockdale County","Georgia",1712,2011,2119,2363,2401,{"$f":"ROW()","v":512}]
["Schley County","Georgia",1532,1799,1896,2114,2148,{"$f":"ROW()","v":513}]
["Screven County","Georgia",1392,1635,1723,1921,1952,{"$f":"ROW()","v":514}]
["Seminole County","Georgia",1313,1542,1625,1812,1841,{"$f":"ROW()","v":515}]
["Spalding County","Georgia",1497,1758,1853,2066,2099,{"$f":"ROW()","v":516}]
["Stephens County","Georgia",1301,1528,1610,1795,1824,{"$f":"ROW()","v":517}]
["Stewart County","Georgia",1313,1542,1625,1812,1841,{"$f":"ROW()","v":518}]
["Sumter County","Georgia",1442,1694,1785,1990,2022,{"$f":"ROW()","v":519}]
["Talbot County","Georgia",1433,1683,1773,1977,2009,{"$f":"ROW()","v":520}]
["Taliaferro County","Georgia",1334,1567,1651,1841,1871,{"$f":"ROW()","v":521}]
["Tattnall County","Georgia",1311,1539,1622,1809,1838,{"$f":"ROW()","v":522}]
["Taylor County","Georgia",1306,1534,1616,1802,1831,{"$f":"ROW()","v":523}]
["Telfair County","Georgia",1456,1710,1802,2009,2042,{"$f":"ROW()","v":524}]
["Terrell County","Georgia",1392,1635,1723,1921,1952,{"$f":"ROW()","v":525}]
["Thomas County","Georgia",1615,1897,1999,2229,2265,{"$f":"ROW()","v":526}]
["Tift County","Georgia",1446,1699,1790,1996,2028,{"$f":"ROW()","v":527}]
["Toombs County","Georgia",1359,1596,1682,1875,1906,{"$f":"ROW()","v":528}]
["Towns County","Georgia",1462,1718,1810,2018,2051,{"$f":"ROW()","v":529}]
["Treutlen County","Georgia",1230,1444,1522,1697,1724,{"$f":"ROW()","v":530}]
["Troup County","Georgia",1486,1745,1839,2050,2084,{"$f":"ROW()","v":531}]
["Turner County","Georgia",1256,1475,1554,1733,1761,{"$f":"ROW()","v":532}]
["Twiggs County","Georgia",1264,1484,1564,1744,1772,{"$f":"ROW()","v":533}]
["Union County","Georgia",1537,1805,1902,2121,2155,{"$f":"ROW()","v":534}]
["Upson County","Georgia",1321,1552,1635,1823,1852,{"$f":"ROW()","v":535}]
["Walker County","Georgia",1416,1664,1753,1955,1986,{"$f":"ROW()","v":536}]
["Walton County","Georgia",1765,2073,2184,2435,2474,{"$f":"ROW()","v":537}]
["Ware County","Georgia",1225,1439,1516,1690,1718,{"$f":"ROW()","v":538}]
["Warren County","Georgia",1392,1635,1723,1921,1952,{"$f":"ROW()","v":539}]
["Washington County","Georgia",1403,1648,1737,1937,1968,{"$f":"ROW()","v":540}]
["Wayne County","Georgia",1422,1670,1760,1962,1994,{"$f":"ROW()","v":541}]
["Webster County","Georgia",1357,1593,1679,1872,1902,{"$f":"ROW()","v":542}]
["Wheeler County","Georgia",1137,1335,1407,1569,1594,{"$f":"ROW()","v":543}]
["White County","Georgia",1537,1805,1902,2121,2155,{"$f":"ROW()","v":544}]
["Whitfield County","Georgia",1390,1632,1720,1918,1949,{"$f":"ROW()","v":545}]
["Wilcox County","Georgia",1378,1619,1706,1902,1933,{"$f":"ROW()","v":546}]
["Wilkes County","Georgia",1393,1636,1724,1922,1953,{"$f":"ROW()","v":547}]
["Wilkinson County","Georgia",1252,1471,1550,1728,1756,{"$f":"ROW()","v":548}]
["Worth County","Georgia",1298,1524,1606,1791,1820,{"$f":"ROW()","v":549}]
["Hawaii County","Hawaii",2043,2400,2529,2820,2865,{"$f":"ROW()","v":550}]
["Honolulu County","Hawaii",2844,3340,3520,3925,3988,{"$f":"ROW()","v":551}]
["Kalawao County","Hawaii",2528,2969,3129,3489,3545,{"$f":"ROW()","v":552}]
["Kauai County","Hawaii",2522,2962,3121,3480,3536,{"$f":"ROW()","v":553}]
["Maui County","Hawaii",2661,3125,3293,3672,3731,{"$f":"ROW()","v":554}]
["Ada County","Idaho",1781,2092,2204,2457,2497,{"$f":"ROW()","v":555}]
["Adams County","Idaho",1511,1775,1870,2085,2119,{"$f":"ROW()","v":556}]
["Bannock County","Idaho",1446,1698,1789,1995,2027,{"$f":"ROW()","v":557}]
["Bear Lake County","Idaho",1385,1627,1714,1911,1942,{"$f":"ROW()","v":558}]
["Benewah County","Idaho",1507,1770,1865,2079,2113,{"$f":"ROW()","v":559}]
["Bingham County","Idaho",1467,1723,1816,2025,2058,{"$f":"ROW()","v":560}]
["Blaine County","Idaho",1954,2295,2418,2696,2740,{"$f":"ROW()","v":561}]
["Boise County","Idaho",1708,2006,2114,2357,2395,{"$f":"ROW()","v":562}]
["Bonner County","Idaho",1692,1987,2094,2335,2373,{"$f":"ROW()","v":563}]
["Bonneville County","Idaho",1547,1816,1914,2134,2169,{"$f":"ROW()","v":564}]
["Boundary County","Idaho",1527,1794,1890,2107,2141,{"$f":"ROW()","v":565}]
["Butte County","Idaho",1521,1786,1882,2098,2132,{"$f":"ROW()","v":566}]
["Camas County","Idaho",1411,1657,1746,1947,1978,{"$f":"ROW()","v":567}]
["Canyon County","Idaho",1517,1781,1877,2093,2127,{"$f":"ROW()","v":568}]
["Caribou County","Idaho",1420,1668,1758,1960,1992,{"$f":"ROW()","v":569}]
["Cassia County","Idaho",1368,1607,1693,1888,1918,{"$f":"ROW()","v":570}]
["Clark County","Idaho",1633,1918,2021,2253,2290,{"$f":"ROW()","v":571}]
["Clearwater County","Idaho",1450,1703,1794,2000,2033,{"$f":"ROW()","v":572}]
["Custer County","Idaho",1539,1808,1905,2124,2158,{"$f":"ROW()","v":573}]
["Elmore County","Idaho",1374,1614,1701,1897,1927,{"$f":"ROW()","v":574}]
["Franklin County","Idaho",1517,1782,1878,2094,2128,{"$f":"ROW()","v":575}]
["Fremont County","Idaho",1455,1709,1801,2008,2041,{"$f":"ROW()","v":576}]
["Gem County","Idaho",1463,1719,1811,2019,2052,{"$f":"ROW()","v":577}]
["Gooding County","Idaho",1312,1541,1624,1811,1840,{"$f":"ROW()","v":578}]
["Idaho County","Idaho",1495,1756,1850,2063,2096,{"$f":"ROW()","v":579}]
["Jefferson County","Idaho",1693,1988,2095,2336,2374,{"$f":"ROW()","v":580}]
["Jerome County","Idaho",1378,1619,1706,1902,1933,{"$f":"ROW()","v":581}]
["Kootenai County","Idaho",1706,2003,2111,2354,2392,{"$f":"ROW()","v":582}]
["Latah County","Idaho",1720,2020,2129,2374,2412,{"$f":"ROW()","v":583}]
["Lemhi County","Idaho",1476,1734,1827,2037,2070,{"$f":"ROW()","v":584}]
["Lewis County","Idaho",1413,1660,1749,1950,1982,{"$f":"ROW()","v":585}]
["Lincoln County","Idaho",1349,1585,1670,1862,1892,{"$f":"ROW()","v":586}]
["Madison County","Idaho",1568,1842,1941,2164,2199,{"$f":"ROW()","v":587}]
["Minidoka County","Idaho",1351,1587,1672,1864,1894,{"$f":"ROW()","v":588}]
["Nez Perce County","Idaho",1606,1887,1988,2217,2252,{"$f":"ROW()","v":589}]
["Oneida County","Idaho",1351,1587,1672,1864,1894,{"$f":"ROW()","v":590}]
["Owyhee County","Idaho",1579,1854,1954,2179,2214,{"$f":"ROW()","v":591}]
["Payette County","Idaho",1479,1737,1830,2040,2073,{"$f":"ROW()","v":592}]
["Power County","Idaho",1365,1603,1689,1883,1914,{"$f":"ROW()","v":593}]
["Shoshone County","Idaho",1319,1550,1633,1821,1850,{"$f":"ROW()","v":594}]
["Teton County","Idaho",1893,2224,2343,2612,2655,{"$f":"ROW()","v":595}]
["Twin Falls County","Idaho",1517,1782,1878,2094,2128,{"$f":"ROW()","v":596}]
["Valley County","Idaho",1828,2147,2262,2522,2563,{"$f":"ROW()","v":597}]
["Washington County","Idaho",1412,1659,1748,1949,1980,{"$f":"ROW()","v":598}]
["Adams County","Illinois",1373,1612,1699,1894,1925,{"$f":"ROW()","v":599}]
["Alexander County","Illinois",1256,1476,1555,1734,1762,{"$f":"ROW()","v":600}]
["Bond County","Illinois",1452,1705,1797,2004,2036,{"$f":"ROW()","v":601}]
["Boone County","Illinois",1663,1953,2058,2295,2332,{"$f":"ROW()","v":602}]
["Brown County","Illinois",1215,1427,1504,1677,1704,{"$f":"ROW()","v":603}]
["Bureau County","Illinois",1374,1614,1701,1897,1927,{"$f":"ROW()","v":604}]
["Calhoun County","Illinois",1639,1926,2029,2262,2299,{"$f":"ROW()","v":605}]
["Carroll County","Illinois",1373,1612,1699,1894,1925,{"$f":"ROW()","v":606}]
["Cass County","Illinois",1291,1517,1598,1782,1811,{"$f":"ROW()","v":607}]
["Champaign County","Illinois",1676,1968,2074,2313,2350,{"$f":"ROW()","v":608}]
["Christian County","Illinois",1281,1504,1585,1767,1796,{"$f":"ROW()","v":609}]
["Clark County","Illinois",1322,1553,1636,1824,1854,{"$f":"ROW()","v":610}]
["Clay County","Illinois",1310,1538,1621,1807,1837,{"$f":"ROW()","v":611}]
["Clinton County","Illinois",1577,1852,1952,2176,2212,{"$f":"ROW()","v":612}]
["Coles County","Illinois",1319,1549,1632,1820,1849,{"$f":"ROW()","v":613}]
["Cook County","Illinois",2193,2576,2714,3026,3075,{"$f":"ROW()","v":614}]
["Crawford County","Illinois",1293,1518,1600,1784,1813,{"$f":"ROW()","v":615}]
["Cumberland County","Illinois",1269,1490,1570,1751,1779,{"$f":"ROW()","v":616}]
["DeKalb County","Illinois",1896,2227,2347,2617,2659,{"$f":"ROW()","v":617}]
["De Witt County","Illinois",1331,1563,1647,1836,1866,{"$f":"ROW()","v":618}]
["Douglas County","Illinois",1450,1703,1795,2001,2034,{"$f":"ROW()","v":619}]
["DuPage County","Illinois",2371,2785,2935,3273,3325,{"$f":"ROW()","v":620}]
["Edgar County","Illinois",1264,1484,1564,1744,1772,{"$f":"ROW()","v":621}]
["Edwards County","Illinois",1231,1446,1524,1699,1727,{"$f":"ROW()","v":622}]
["Effingham County","Illinois",1448,1701,1792,1998,2030,{"$f":"ROW()","v":623}]
["Fayette County","Illinois",1288,1513,1594,1777,1806,{"$f":"ROW()","v":624}]
["Ford County","Illinois",1340,1574,1659,1850,1880,{"$f":"ROW()","v":625}]
["Franklin County","Illinois",1297,1523,1605,1790,1818,{"$f":"ROW()","v":626}]
["Fulton County","Illinois",1290,1515,1596,1780,1808,{"$f":"ROW()","v":627}]
["Gallatin County","Illinois",1220,1433,1510,1684,1711,{"$f":"ROW()","v":628}]
["Greene County","Illinois",1223,1436,1513,1687,1714,{"$f":"ROW()","v":629}]
["Grundy County","Illinois",1979,2324,2449,2731,2775,{"$f":"ROW()","v":630}]
["Hamilton County","Illinois",1304,1532,1614,1800,1829,{"$f":"ROW()","v":631}]
["Hancock County","Illinois",1239,1456,1534,1710,1738,{"$f":"ROW()","v":632}]
["Hardin County","Illinois",1243,1460,1538,1715,1743,{"$f":"ROW()","v":633}]
["Henderson County","Illinois",1297,1523,1605,1790,1818,{"$f":"ROW()","v":634}]
["Henry County","Illinois",1418,1665,1755,1957,1988,{"$f":"ROW()","v":635}]
["Iroquois County","Illinois",1371,1610,1697,1892,1923,{"$f":"ROW()","v":636}]
["Jackson County","Illinois",1443,1695,1786,1991,2024,{"$f":"ROW()","v":637}]
["Jasper County","Illinois",1298,1524,1606,1791,1820,{"$f":"ROW()","v":638}]
["Jefferson County","Illinois",1366,1605,1691,1885,1916,{"$f":"ROW()","v":639}]
["Jersey County","Illinois",1584,1860,1960,2185,2221,{"$f":"ROW()","v":640}]
["Jo Daviess County","Illinois",1499,1760,1855,2068,2102,{"$f":"ROW()","v":641}]
["Johnson County","Illinois",1482,1740,1834,2045,2078,{"$f":"ROW()","v":642}]
["Kane County","Illinois",2150,2525,2661,2967,3015,{"$f":"ROW()","v":643}]
["Kankakee County","Illinois",1673,1965,2071,2309,2346,{"$f":"ROW()","v":644}]
["Kendall County","Illinois",2225,2614,2754,3071,3120,{"$f":"ROW()","v":645}]
["Knox County","Illinois",1226,1440,1517,1691,1719,{"$f":"ROW()","v":646}]
["Lake County","Illinois",2396,2814,2965,3306,3359,{"$f":"ROW()","v":647}]
["La Salle County","Illinois",1517,1782,1878,2094,2128,{"$f":"ROW()","v":648}]
["Lawrence County","Illinois",1259,1479,1558,1737,1765,{"$f":"ROW()","v":649}]
["Lee County","Illinois",1457,1711,1803,2010,2043,{"$f":"ROW()","v":650}]
["Livingston County","Illinois",1412,1659,1748,1949,1980,{"$f":"ROW()","v":651}]
["Logan County","Illinois",1362,1600,1686,1880,1910,{"$f":"ROW()","v":652}]
["McDonough County","Illinois",1191,1399,1474,1644,1670,{"$f":"ROW()","v":653}]
["McHenry County","Illinois",2087,2451,2583,2880,2927,{"$f":"ROW()","v":654}]
["McLean County","Illinois",1713,2012,2120,2364,2402,{"$f":"ROW()","v":655}]
["Macon County","Illinois",1372,1611,1698,1893,1924,{"$f":"ROW()","v":656}]
["Macoupin County","Illinois",1312,1541,1624,1811,1840,{"$f":"ROW()","v":657}]
["Madison County","Illinois",1555,1827,1925,2146,2181,{"$f":"ROW()","v":658}]
["Marion County","Illinois",1314,1543,1626,1813,1842,{"$f":"ROW()","v":659}]
["Marshall County","Illinois",1382,1623,1710,1907,1937,{"$f":"ROW()","v":660}]
["Mason County","Illinois",1260,1479,1559,1738,1766,{"$f":"ROW()","v":661}]
["Massac County","Illinois",1315,1545,1628,1815,1845,{"$f":"ROW()","v":662}]
["Menard County","Illinois",1531,1798,1895,2113,2147,{"$f":"ROW()","v":663}]
["Mercer County","Illinois",1393,1636,1724,1922,1953,{"$f":"ROW()","v":664}]
["Monroe County","Illinois",1943,2282,2405,2682,2725,{"$f":"ROW()","v":665}]
["Montgomery County","Illinois",1290,1515,1596,1780,1808,{"$f":"ROW()","v":666}]
["Morgan County","Illinois",1357,1594,1680,1873,1903,{"$f":"ROW()","v":667}]
["Moultrie County","Illinois",1330,1562,1646,1835,1865,{"$f":"ROW()","v":668}]
["Ogle County","Illinois",1572,1847,1946,2170,2205,{"$f":"ROW()","v":669}]
["Peoria County","Illinois",1547,1816,1914,2134,2169,{"$f":"ROW()","v":670}]
["Perry County","Illinois",1246,1463,1542,1719,1747,{"$f":"ROW()","v":671}]
["Piatt County","Illinois",1505,1768,1863,2077,2111,{"$f":"ROW()","v":672}]
["Pike County","Illinois",1227,1442,1519,1694,1721,{"$f":"ROW()","v":673}]
["Pope County","Illinois",1345,1580,1665,1856,1886,{"$f":"ROW()","v":674}]
["Pulaski County","Illinois",1162,1365,1438,1603,1629,{"$f":"ROW()","v":675}]
["Putnam County","Illinois",1585,1862,1962,2188,2223,{"$f":"ROW()","v":676}]
["Randolph County","Illinois",1366,1604,1690,1884,1915,{"$f":"ROW()","v":677}]
["Richland County","Illinois",1247,1464,1543,1720,1748,{"$f":"ROW()","v":678}]
["Rock Island County","Illinois",1433,1683,1773,1977,2009,{"$f":"ROW()","v":679}]
["St. Clair County","Illinois",1637,1923,2026,2259,2295,{"$f":"ROW()","v":680}]
["Saline County","Illinois",1284,1508,1589,1772,1800,{"$f":"ROW()","v":681}]
["Sangamon County","Illinois",1555,1827,1925,2146,2181,{"$f":"ROW()","v":682}]
["Schuyler County","Illinois",1374,1613,1700,1896,1926,{"$f":"ROW()","v":683}]
["Scott County","Illinois",1269,1491,1571,1752,1780,{"$f":"ROW()","v":684}]
["Shelby County","Illinois",1266,1487,1567,1747,1775,{"$f":"ROW()","v":685}]
["Stark County","Illinois",1286,1511,1592,1775,1804,{"$f":"ROW()","v":686}]
["Stephenson County","Illinois",1395,1638,1726,1924,1956,{"$f":"ROW()","v":687}]
["Tazewell County","Illinois",1546,1815,1913,2133,2167,{"$f":"ROW()","v":688}]
["Union County","Illinois",1459,1714,1806,2014,2046,{"$f":"ROW()","v":689}]
["Vermilion County","Illinois",1250,1468,1547,1725,1753,{"$f":"ROW()","v":690}]
["Wabash County","Illinois",1391,1634,1722,1920,1951,{"$f":"ROW()","v":691}]
["Warren County","Illinois",1246,1463,1542,1719,1747,{"$f":"ROW()","v":692}]
["Washington County","Illinois",1496,1757,1851,2064,2097,{"$f":"ROW()","v":693}]
["Wayne County","Illinois",1305,1533,1615,1801,1830,{"$f":"ROW()","v":694}]
["White County","Illinois",1214,1426,1503,1676,1703,{"$f":"ROW()","v":695}]
["Whiteside County","Illinois",1345,1580,1665,1856,1886,{"$f":"ROW()","v":696}]
["Will County","Illinois",2178,2559,2696,3006,3055,{"$f":"ROW()","v":697}]
["Williamson County","Illinois",1440,1691,1782,1987,2019,{"$f":"ROW()","v":698}]
["Winnebago County","Illinois",1472,1729,1822,2032,2064,{"$f":"ROW()","v":699}]
["Woodford County","Illinois",1692,1987,2094,2335,2373,{"$f":"ROW()","v":700}]
["Adams County","Indiana",1283,1507,1588,1771,1799,{"$f":"ROW()","v":701}]
["Allen County","Indiana",1374,1613,1700,1896,1926,{"$f":"ROW()","v":702}]
["Bartholomew Count","Indiana",1464,1720,1812,2020,2053,{"$f":"ROW()","v":703}]
["Benton County","Indiana",1239,1456,1534,1710,1738,{"$f":"ROW()","v":704}]
["Blackford County","Indiana",1201,1411,1487,1658,1685,{"$f":"ROW()","v":705}]
["Boone County","Indiana",1928,2264,2386,2660,2703,{"$f":"ROW()","v":706}]
["Brown County","Indiana",1458,1712,1804,2011,2044,{"$f":"ROW()","v":707}]
["Carroll County","Indiana",1288,1513,1594,1777,1806,{"$f":"ROW()","v":708}]
["Cass County","Indiana",1194,1403,1478,1648,1675,{"$f":"ROW()","v":709}]
["Clark County","Indiana",1455,1709,1801,2008,2041,{"$f":"ROW()","v":710}]
["Clay County","Indiana",1249,1467,1546,1724,1752,{"$f":"ROW()","v":711}]
["Clinton County","Indiana",1279,1502,1583,1765,1794,{"$f":"ROW()","v":712}]
["Crawford County","Indiana",1298,1524,1606,1791,1820,{"$f":"ROW()","v":713}]
["Daviess County","Indiana",1371,1610,1697,1892,1923,{"$f":"ROW()","v":714}]
["Dearborn County","Indiana",1551,1822,1920,2141,2175,{"$f":"ROW()","v":715}]
["Decatur County","Indiana",1362,1600,1686,1880,1910,{"$f":"ROW()","v":716}]
["DeKalb County","Indiana",1316,1546,1629,1816,1846,{"$f":"ROW()","v":717}]
["Delaware County","Indiana",1228,1442,1520,1695,1722,{"$f":"ROW()","v":718}]
["Dubois County","Indiana",1387,1628,1716,1913,1944,{"$f":"ROW()","v":719}]
["Elkhart County","Indiana",1391,1634,1722,1920,1951,{"$f":"ROW()","v":720}]
["Fayette County","Indiana",1192,1400,1475,1645,1671,{"$f":"ROW()","v":721}]
["Floyd County","Indiana",1538,1807,1904,2123,2157,{"$f":"ROW()","v":722}]
["Fountain County","Indiana",1279,1502,1583,1765,1794,{"$f":"ROW()","v":723}]
["Franklin County","Indiana",1555,1826,1924,2145,2180,{"$f":"ROW()","v":724}]
["Fulton County","Indiana",1281,1505,1586,1768,1797,{"$f":"ROW()","v":725}]
["Gibson County","Indiana",1330,1562,1646,1835,1865,{"$f":"ROW()","v":726}]
["Grant County","Indiana",1228,1442,1520,1695,1722,{"$f":"ROW()","v":727}]
["Greene County","Indiana",1352,1588,1673,1865,1896,{"$f":"ROW()","v":728}]
["Hamilton County","Indiana",2003,2353,2479,2764,2809,{"$f":"ROW()","v":729}]
["Hancock County","Indiana",1537,1805,1902,2121,2155,{"$f":"ROW()","v":730}]
["Harrison County","Indiana",1412,1659,1748,1949,1980,{"$f":"ROW()","v":731}]
["Hendricks County","Indiana",1662,1952,2057,2294,2331,{"$f":"ROW()","v":732}]
["Henry County","Indiana",1222,1435,1512,1686,1713,{"$f":"ROW()","v":733}]
["Howard County","Indiana",1234,1449,1527,1703,1730,{"$f":"ROW()","v":734}]
["Huntington County","Indiana",1250,1468,1547,1725,1753,{"$f":"ROW()","v":735}]
["Jackson County","Indiana",1342,1576,1661,1852,1882,{"$f":"ROW()","v":736}]
["Jasper County","Indiana",1432,1682,1772,1976,2008,{"$f":"ROW()","v":737}]
["Jay County","Indiana",1192,1400,1475,1645,1671,{"$f":"ROW()","v":738}]
["Jefferson County","Indiana",1366,1604,1690,1884,1915,{"$f":"ROW()","v":739}]
["Jennings County","Indiana",1330,1562,1646,1835,1865,{"$f":"ROW()","v":740}]
["Johnson County","Indiana",1559,1831,1929,2151,2186,{"$f":"ROW()","v":741}]
["Knox County","Indiana",1265,1486,1566,1746,1774,{"$f":"ROW()","v":742}]
["Kosciusko County","Indiana",1386,1628,1715,1912,1943,{"$f":"ROW()","v":743}]
["LaGrange County","Indiana",1399,1644,1732,1931,1962,{"$f":"ROW()","v":744}]
["Lake County","Indiana",1528,1795,1891,2108,2143,{"$f":"ROW()","v":745}]
["LaPorte County","Indiana",1363,1601,1687,1881,1911,{"$f":"ROW()","v":746}]
["Lawrence County","Indiana",1339,1572,1657,1848,1877,{"$f":"ROW()","v":747}]
["Madison County","Indiana",1301,1528,1610,1795,1824,{"$f":"ROW()","v":748}]
["Marion County","Indiana",1459,1714,1806,2014,2046,{"$f":"ROW()","v":749}]
["Marshall County","Indiana",1362,1600,1686,1880,1910,{"$f":"ROW()","v":750}]
["Martin County","Indiana",1335,1568,1652,1842,1872,{"$f":"ROW()","v":751}]
["Miami County","Indiana",1200,1409,1485,1656,1683,{"$f":"ROW()","v":752}]
["Monroe County","Indiana",1506,1769,1864,2078,2112,{"$f":"ROW()","v":753}]
["Montgomery County","Indiana",1346,1581,1666,1858,1888,{"$f":"ROW()","v":754}]
["Morgan County","Indiana",1477,1735,1828,2038,2071,{"$f":"ROW()","v":755}]
["Newton County","Indiana",1346,1581,1666,1858,1888,{"$f":"ROW()","v":756}]
["Noble County","Indiana",1357,1594,1680,1873,1903,{"$f":"ROW()","v":757}]
["Ohio County","Indiana",1448,1701,1792,1998,2030,{"$f":"ROW()","v":758}]
["Orange County","Indiana",1260,1479,1559,1738,1766,{"$f":"ROW()","v":759}]
["Owen County","Indiana",1351,1587,1672,1864,1894,{"$f":"ROW()","v":760}]
["Parke County","Indiana",1180,1386,1461,1629,1655,{"$f":"ROW()","v":761}]
["Perry County","Indiana",1233,1448,1526,1701,1729,{"$f":"ROW()","v":762}]
["Pike County","Indiana",1244,1461,1540,1717,1745,{"$f":"ROW()","v":763}]
["Porter County","Indiana",1676,1968,2074,2313,2350,{"$f":"ROW()","v":764}]
["Posey County","Indiana",1460,1715,1807,2015,2047,{"$f":"ROW()","v":765}]
["Pulaski County","Indiana",1264,1484,1564,1744,1772,{"$f":"ROW()","v":766}]
["Putnam County","Indiana",1424,1672,1762,1965,1996,{"$f":"ROW()","v":767}]
["Randolph County","Indiana",1235,1450,1528,1704,1731,{"$f":"ROW()","v":768}]
["Ripley County","Indiana",1433,1683,1773,1977,2009,{"$f":"ROW()","v":769}]
["Rush County","Indiana",1339,1572,1657,1848,1877,{"$f":"ROW()","v":770}]
["St. Joseph County","Indiana",1357,1593,1679,1872,1902,{"$f":"ROW()","v":771}]
["Scott County","Indiana",1331,1563,1647,1836,1866,{"$f":"ROW()","v":772}]
["Shelby County","Indiana",1405,1650,1739,1939,1970,{"$f":"ROW()","v":773}]
["Spencer County","Indiana",1437,1687,1778,1982,2014,{"$f":"ROW()","v":774}]
["Starke County","Indiana",1281,1504,1585,1767,1796,{"$f":"ROW()","v":775}]
["Steuben County","Indiana",1414,1661,1750,1951,1983,{"$f":"ROW()","v":776}]
["Sullivan County","Indiana",1235,1451,1529,1705,1732,{"$f":"ROW()","v":777}]
["Switzerland County","Indiana",1395,1638,1726,1924,1956,{"$f":"ROW()","v":778}]
["Tippecanoe County","Indiana",1429,1678,1768,1971,2003,{"$f":"ROW()","v":779}]
["Tipton County","Indiana",1286,1511,1592,1775,1804,{"$f":"ROW()","v":780}]
["Union County","Indiana",1339,1572,1657,1848,1877,{"$f":"ROW()","v":781}]
["Vanderburgh County","Indiana",1397,1641,1729,1928,1959,{"$f":"ROW()","v":782}]
["Vermillion County","Indiana",1199,1408,1484,1655,1681,{"$f":"ROW()","v":783}]
["Vigo County","Indiana",1261,1481,1561,1741,1769,{"$f":"ROW()","v":784}]
["Wabash County","Indiana",1227,1442,1519,1694,1721,{"$f":"ROW()","v":785}]
["Warren County","Indiana",1319,1550,1633,1821,1850,{"$f":"ROW()","v":786}]
["Warrick County","Indiana",1547,1817,1915,2135,2170,{"$f":"ROW()","v":787}]
["Washington County","Indiana",1353,1589,1674,1867,1897,{"$f":"ROW()","v":788}]
["Wayne County","Indiana",1219,1432,1509,1683,1710,{"$f":"ROW()","v":789}]
["Wells County","Indiana",1290,1516,1597,1781,1809,{"$f":"ROW()","v":790}]
["White County","Indiana",1319,1549,1632,1820,1849,{"$f":"ROW()","v":791}]
["Whitley County","Indiana",1360,1597,1683,1877,1907,{"$f":"ROW()","v":792}]
["Adair County","Iowa",1381,1622,1709,1906,1936,{"$f":"ROW()","v":793}]
["Adams County","Iowa",1439,1690,1781,1986,2018,{"$f":"ROW()","v":794}]
["Allamakee County","Iowa",1467,1722,1815,2024,2056,{"$f":"ROW()","v":795}]
["Appanoose County","Iowa",1312,1541,1624,1811,1840,{"$f":"ROW()","v":796}]
["Audubon County","Iowa",1180,1386,1460,1628,1654,{"$f":"ROW()","v":797}]
["Benton County","Iowa",1578,1853,1953,2178,2213,{"$f":"ROW()","v":798}]
["Black Hawk County","Iowa",1492,1753,1847,2059,2093,{"$f":"ROW()","v":799}]
["Boone County","Iowa",1551,1821,1919,2140,2174,{"$f":"ROW()","v":800}]
["Bremer County","Iowa",1574,1849,1948,2172,2207,{"$f":"ROW()","v":801}]
["Buchanan County","Iowa",1519,1784,1880,2096,2130,{"$f":"ROW()","v":802}]
["Buena Vista County","Iowa",1376,1616,1703,1899,1929,{"$f":"ROW()","v":803}]
["Butler County","Iowa",1350,1586,1671,1863,1893,{"$f":"ROW()","v":804}]
["Calhoun County","Iowa",1248,1466,1545,1723,1750,{"$f":"ROW()","v":805}]
["Carroll County","Iowa",1374,1614,1701,1897,1927,{"$f":"ROW()","v":806}]
["Cass County","Iowa",1306,1534,1616,1802,1831,{"$f":"ROW()","v":807}]
["Cedar County","Iowa",1555,1826,1924,2145,2180,{"$f":"ROW()","v":808}]
["Cerro Gordo County","Iowa",1395,1639,1727,1926,1957,{"$f":"ROW()","v":809}]
["Cherokee County","Iowa",1370,1609,1695,1890,1920,{"$f":"ROW()","v":810}]
["Chickasaw County","Iowa",1395,1638,1726,1924,1956,{"$f":"ROW()","v":811}]
["Clarke County","Iowa",1559,1831,1929,2151,2186,{"$f":"ROW()","v":812}]
["Clay County","Iowa",1406,1651,1740,1940,1971,{"$f":"ROW()","v":813}]
["Clayton County","Iowa",1415,1662,1751,1952,1984,{"$f":"ROW()","v":814}]
["Clinton County","Iowa",1434,1684,1775,1979,2011,{"$f":"ROW()","v":815}]
["Crawford County","Iowa",1312,1541,1624,1811,1840,{"$f":"ROW()","v":816}]
["Dallas County","Iowa",2023,2376,2504,2792,2837,{"$f":"ROW()","v":817}]
["Davis County","Iowa",1534,1802,1899,2117,2152,{"$f":"ROW()","v":818}]
["Decatur County","Iowa",1391,1634,1722,1920,1951,{"$f":"ROW()","v":819}]
["Delaware County","Iowa",1474,1731,1824,2034,2067,{"$f":"ROW()","v":820}]
["Des Moines County","Iowa",1408,1653,1742,1942,1974,{"$f":"ROW()","v":821}]
["Dickinson County","Iowa",1509,1773,1868,2083,2116,{"$f":"ROW()","v":822}]
["Dubuque County","Iowa",1617,1899,2001,2231,2267,{"$f":"ROW()","v":823}]
["Emmet County","Iowa",1241,1458,1536,1713,1740,{"$f":"ROW()","v":824}]
["Fayette County","Iowa",1311,1540,1623,1810,1839,{"$f":"ROW()","v":825}]
["Floyd County","Iowa",1345,1580,1665,1856,1886,{"$f":"ROW()","v":826}]
["Franklin County","Iowa",1190,1398,1473,1642,1669,{"$f":"ROW()","v":827}]
["Fremont County","Iowa",1395,1639,1727,1926,1957,{"$f":"ROW()","v":828}]
["Greene County","Iowa",1265,1486,1566,1746,1774,{"$f":"ROW()","v":829}]
["Grundy County","Iowa",1472,1729,1822,2032,2064,{"$f":"ROW()","v":830}]
["Guthrie County","Iowa",1502,1764,1859,2073,2106,{"$f":"ROW()","v":831}]
["Hamilton County","Iowa",1324,1555,1639,1827,1857,{"$f":"ROW()","v":832}]
["Hancock County","Iowa",1261,1481,1561,1741,1769,{"$f":"ROW()","v":833}]
["Hardin County","Iowa",1286,1511,1592,1775,1804,{"$f":"ROW()","v":834}]
["Harrison County","Iowa",1408,1654,1743,1943,1975,{"$f":"ROW()","v":835}]
["Henry County","Iowa",1378,1618,1705,1901,1932,{"$f":"ROW()","v":836}]
["Howard County","Iowa",1280,1503,1584,1766,1795,{"$f":"ROW()","v":837}]
["Humboldt County","Iowa",1328,1560,1644,1833,1863,{"$f":"ROW()","v":838}]
["Ida County","Iowa",1197,1406,1482,1652,1679,{"$f":"ROW()","v":839}]
["Iowa County","Iowa",1585,1862,1962,2188,2223,{"$f":"ROW()","v":840}]
["Jackson County","Iowa",1443,1695,1786,1991,2024,{"$f":"ROW()","v":841}]
["Jasper County","Iowa",1434,1684,1775,1979,2011,{"$f":"ROW()","v":842}]
["Jefferson County","Iowa",1483,1741,1835,2046,2079,{"$f":"ROW()","v":843}]
["Johnson County","Iowa",1948,2288,2411,2688,2732,{"$f":"ROW()","v":844}]
["Jones County","Iowa",1483,1741,1835,2046,2079,{"$f":"ROW()","v":845}]
["Keokuk County","Iowa",1357,1594,1680,1873,1903,{"$f":"ROW()","v":846}]
["Kossuth County","Iowa",1363,1601,1687,1881,1911,{"$f":"ROW()","v":847}]
["Lee County","Iowa",1340,1574,1659,1850,1880,{"$f":"ROW()","v":848}]
["Linn County","Iowa",1618,1900,2002,2232,2268,{"$f":"ROW()","v":849}]
["Louisa County","Iowa",1420,1667,1757,1959,1991,{"$f":"ROW()","v":850}]
["Lucas County","Iowa",1403,1647,1736,1936,1967,{"$f":"ROW()","v":851}]
["Lyon County","Iowa",1443,1695,1786,1991,2024,{"$f":"ROW()","v":852}]
["Madison County","Iowa",1787,2099,2212,2466,2506,{"$f":"ROW()","v":853}]
["Mahaska County","Iowa",1391,1633,1721,1919,1950,{"$f":"ROW()","v":854}]
["Marion County","Iowa",1552,1823,1921,2142,2176,{"$f":"ROW()","v":855}]
["Marshall County","Iowa",1357,1593,1679,1872,1902,{"$f":"ROW()","v":856}]
["Mills County","Iowa",1635,1921,2024,2257,2293,{"$f":"ROW()","v":857}]
["Mitchell County","Iowa",1360,1597,1683,1877,1907,{"$f":"ROW()","v":858}]
["Monona County","Iowa",1321,1552,1635,1823,1852,{"$f":"ROW()","v":859}]
["Monroe County","Iowa",1338,1572,1656,1846,1876,{"$f":"ROW()","v":860}]
["Montgomery County","Iowa",1267,1488,1568,1748,1777,{"$f":"ROW()","v":861}]
["Muscatine County","Iowa",1492,1753,1847,2059,2093,{"$f":"ROW()","v":862}]
["O'Brien County","Iowa",1412,1659,1748,1949,1980,{"$f":"ROW()","v":863}]
["Osceola County","Iowa",1302,1529,1611,1796,1825,{"$f":"ROW()","v":864}]
["Page County","Iowa",1235,1450,1528,1704,1731,{"$f":"ROW()","v":865}]
["Palo Alto County","Iowa",1298,1525,1607,1792,1821,{"$f":"ROW()","v":866}]
["Plymouth County","Iowa",1509,1772,1867,2082,2115,{"$f":"ROW()","v":867}]
["Pocahontas County","Iowa",1302,1530,1612,1797,1826,{"$f":"ROW()","v":868}]
["Polk County","Iowa",1738,2041,2151,2398,2437,{"$f":"ROW()","v":869}]
["Pottawattamie Coun","Iowa",1547,1816,1914,2134,2169,{"$f":"ROW()","v":870}]
["Poweshiek County","Iowa",1560,1833,1931,2153,2188,{"$f":"ROW()","v":871}]
["Ringgold County","Iowa",1455,1709,1801,2008,2041,{"$f":"ROW()","v":872}]
["Sac County","Iowa",1245,1462,1541,1718,1746,{"$f":"ROW()","v":873}]
["Scott County","Iowa",1609,1889,1991,2220,2256,{"$f":"ROW()","v":874}]
["Shelby County","Iowa",1451,1704,1796,2003,2035,{"$f":"ROW()","v":875}]
["Sioux County","Iowa",1608,1889,1990,2219,2255,{"$f":"ROW()","v":876}]
["Story County","Iowa",1707,2005,2113,2356,2394,{"$f":"ROW()","v":877}]
["Tama County","Iowa",1409,1655,1744,1945,1976,{"$f":"ROW()","v":878}]
["Taylor County","Iowa",1269,1490,1570,1751,1779,{"$f":"ROW()","v":879}]
["Union County","Iowa",1311,1540,1623,1810,1839,{"$f":"ROW()","v":880}]
["Van Buren County","Iowa",1357,1593,1679,1872,1902,{"$f":"ROW()","v":881}]
["Wapello County","Iowa",1349,1585,1670,1862,1892,{"$f":"ROW()","v":882}]
["Warren County","Iowa",1801,2115,2229,2485,2525,{"$f":"ROW()","v":883}]
["Washington County","Iowa",1585,1862,1962,2188,2223,{"$f":"ROW()","v":884}]
["Wayne County","Iowa",1316,1546,1629,1816,1846,{"$f":"ROW()","v":885}]
["Webster County","Iowa",1328,1560,1644,1833,1863,{"$f":"ROW()","v":886}]
["Winnebago County","Iowa",1337,1571,1655,1845,1875,{"$f":"ROW()","v":887}]
["Winneshiek County","Iowa",1613,1894,1996,2226,2261,{"$f":"ROW()","v":888}]
["Woodbury County","Iowa",1459,1714,1806,2014,2046,{"$f":"ROW()","v":889}]
["Worth County","Iowa",1273,1496,1576,1757,1786,{"$f":"ROW()","v":890}]
["Wright County","Iowa",1162,1365,1438,1603,1629,{"$f":"ROW()","v":891}]
["Allen County","Kansas",1349,1585,1670,1862,1892,{"$f":"ROW()","v":892}]
["Anderson County","Kansas",1503,1765,1860,2074,2107,{"$f":"ROW()","v":893}]
["Atchison County","Kansas",1419,1666,1756,1958,1990,{"$f":"ROW()","v":894}]
["Barber County","Kansas",1420,1668,1758,1960,1992,{"$f":"ROW()","v":895}]
["Barton County","Kansas",1349,1584,1669,1861,1891,{"$f":"ROW()","v":896}]
["Bourbon County","Kansas",1332,1564,1648,1838,1867,{"$f":"ROW()","v":897}]
["Brown County","Kansas",1252,1471,1550,1728,1756,{"$f":"ROW()","v":898}]
["Butler County","Kansas",1697,1993,2100,2342,2379,{"$f":"ROW()","v":899}]
["Chase County","Kansas",1307,1535,1618,1804,1833,{"$f":"ROW()","v":900}]
["Chautauqua County","Kansas",1372,1611,1698,1893,1924,{"$f":"ROW()","v":901}]
["Cherokee County","Kansas",1261,1481,1561,1741,1769,{"$f":"ROW()","v":902}]
["Cheyenne County","Kansas",1323,1554,1637,1825,1855,{"$f":"ROW()","v":903}]
["Clark County","Kansas",1340,1573,1658,1849,1879,{"$f":"ROW()","v":904}]
["Clay County","Kansas",1492,1753,1847,2059,2093,{"$f":"ROW()","v":905}]
["Cloud County","Kansas",1267,1488,1568,1748,1777,{"$f":"ROW()","v":906}]
["Coffey County","Kansas",1441,1692,1783,1988,2020,{"$f":"ROW()","v":907}]
["Comanche County","Kansas",1346,1581,1666,1858,1888,{"$f":"ROW()","v":908}]
["Cowley County","Kansas",1351,1587,1672,1864,1894,{"$f":"ROW()","v":909}]
["Crawford County","Kansas",1363,1601,1687,1881,1911,{"$f":"ROW()","v":910}]
["Decatur County","Kansas",1075,1262,1330,1483,1507,{"$f":"ROW()","v":911}]
["Dickinson County","Kansas",1462,1717,1809,2017,2050,{"$f":"ROW()","v":912}]
["Doniphan County","Kansas",1363,1601,1687,1881,1911,{"$f":"ROW()","v":913}]
["Douglas County","Kansas",1855,2179,2296,2560,2601,{"$f":"ROW()","v":914}]
["Edwards County","Kansas",1200,1409,1485,1656,1683,{"$f":"ROW()","v":915}]
["Elk County","Kansas",1241,1458,1536,1713,1740,{"$f":"ROW()","v":916}]
["Ellis County","Kansas",1630,1914,2017,2249,2285,{"$f":"ROW()","v":917}]
["Ellsworth County","Kansas",1345,1579,1664,1855,1885,{"$f":"ROW()","v":918}]
["Finney County","Kansas",1720,2020,2129,2374,2412,{"$f":"ROW()","v":919}]
["Ford County","Kansas",1481,1740,1833,2044,2077,{"$f":"ROW()","v":920}]
["Franklin County","Kansas",1612,1893,1995,2224,2260,{"$f":"ROW()","v":921}]
["Geary County","Kansas",1658,1947,2052,2288,2325,{"$f":"ROW()","v":922}]
["Gove County","Kansas",1448,1701,1792,1998,2030,{"$f":"ROW()","v":923}]
["Graham County","Kansas",1441,1692,1783,1988,2020,{"$f":"ROW()","v":924}]
["Grant County","Kansas",1497,1758,1853,2066,2099,{"$f":"ROW()","v":925}]
["Gray County","Kansas",1478,1736,1829,2039,2072,{"$f":"ROW()","v":926}]
["Greeley County","Kansas",1540,1809,1906,2125,2159,{"$f":"ROW()","v":927}]
["Greenwood County","Kansas",1215,1427,1504,1677,1704,{"$f":"ROW()","v":928}]
["Hamilton County","Kansas",1358,1595,1681,1874,1905,{"$f":"ROW()","v":929}]
["Harper County","Kansas",1330,1562,1646,1835,1865,{"$f":"ROW()","v":930}]
["Harvey County","Kansas",1521,1786,1882,2098,2132,{"$f":"ROW()","v":931}]
["Haskell County","Kansas",1551,1822,1920,2141,2175,{"$f":"ROW()","v":932}]
["Hodgeman County","Kansas",1566,1839,1938,2161,2196,{"$f":"ROW()","v":933}]
["Jackson County","Kansas",1571,1845,1944,2168,2203,{"$f":"ROW()","v":934}]
["Jefferson County","Kansas",1673,1964,2070,2308,2345,{"$f":"ROW()","v":935}]
["Jewell County","Kansas",1332,1564,1648,1838,1867,{"$f":"ROW()","v":936}]
["Johnson County","Kansas",2110,2478,2611,2911,2958,{"$f":"ROW()","v":937}]
["Kearny County","Kansas",1682,1976,2082,2321,2359,{"$f":"ROW()","v":938}]
["Kingman County","Kansas",1468,1724,1817,2026,2059,{"$f":"ROW()","v":939}]
["Kiowa County","Kansas",1575,1850,1949,2173,2208,{"$f":"ROW()","v":940}]
["Labette County","Kansas",1486,1745,1839,2050,2084,{"$f":"ROW()","v":941}]
["Lane County","Kansas",1218,1431,1508,1681,1709,{"$f":"ROW()","v":942}]
["Leavenworth County","Kansas",1807,2123,2237,2494,2535,{"$f":"ROW()","v":943}]
["Lincoln County","Kansas",1340,1574,1659,1850,1880,{"$f":"ROW()","v":944}]
["Linn County","Kansas",1469,1725,1818,2027,2060,{"$f":"ROW()","v":945}]
["Logan County","Kansas",1328,1560,1644,1833,1863,{"$f":"ROW()","v":946}]
["Lyon County","Kansas",1421,1669,1759,1961,1993,{"$f":"ROW()","v":947}]
["McPherson County","Kansas",1538,1806,1903,2122,2156,{"$f":"ROW()","v":948}]
["Marion County","Kansas",1351,1587,1672,1864,1894,{"$f":"ROW()","v":949}]
["Marshall County","Kansas",1370,1609,1695,1890,1920,{"$f":"ROW()","v":950}]
["Meade County","Kansas",1481,1740,1833,2044,2077,{"$f":"ROW()","v":951}]
["Miami County","Kansas",1855,2179,2296,2560,2601,{"$f":"ROW()","v":952}]
["Mitchell County","Kansas",1444,1696,1787,1993,2025,{"$f":"ROW()","v":953}]
["Montgomery County","Kansas",1368,1607,1693,1888,1918,{"$f":"ROW()","v":954}]
["Morris County","Kansas",1374,1613,1700,1896,1926,{"$f":"ROW()","v":955}]
["Morton County","Kansas",1326,1557,1641,1830,1859,{"$f":"ROW()","v":956}]
["Nemaha County","Kansas",1450,1703,1794,2000,2033,{"$f":"ROW()","v":957}]
["Neosho County","Kansas",1293,1518,1600,1784,1813,{"$f":"ROW()","v":958}]
["Ness County","Kansas",1248,1466,1545,1723,1750,{"$f":"ROW()","v":959}]
["Norton County","Kansas",1256,1475,1554,1733,1761,{"$f":"ROW()","v":960}]
["Osage County","Kansas",1483,1741,1835,2046,2079,{"$f":"ROW()","v":961}]
["Osborne County","Kansas",1142,1341,1413,1575,1601,{"$f":"ROW()","v":962}]
["Ottawa County","Kansas",1695,1991,2098,2339,2377,{"$f":"ROW()","v":963}]
["Pawnee County","Kansas",1372,1611,1698,1893,1924,{"$f":"ROW()","v":964}]
["Phillips County","Kansas",1225,1439,1516,1690,1718,{"$f":"ROW()","v":965}]
["Pottawatomie Count","Kansas",1795,2109,2222,2478,2518,{"$f":"ROW()","v":966}]
["Pratt County","Kansas",1406,1651,1740,1940,1971,{"$f":"ROW()","v":967}]
["Rawlins County","Kansas",1416,1663,1752,1953,1985,{"$f":"ROW()","v":968}]
["Reno County","Kansas",1385,1627,1714,1911,1942,{"$f":"ROW()","v":969}]
["Republic County","Kansas",1366,1604,1690,1884,1915,{"$f":"ROW()","v":970}]
["Rice County","Kansas",1250,1468,1547,1725,1753,{"$f":"ROW()","v":971}]
["Riley County","Kansas",1810,2126,2240,2498,2538,{"$f":"ROW()","v":972}]
["Rooks County","Kansas",1217,1429,1506,1679,1706,{"$f":"ROW()","v":973}]
["Rush County","Kansas",1193,1402,1477,1647,1673,{"$f":"ROW()","v":974}]
["Russell County","Kansas",1526,1792,1888,2105,2139,{"$f":"ROW()","v":975}]
["Saline County","Kansas",1457,1711,1803,2010,2043,{"$f":"ROW()","v":976}]
["Scott County","Kansas",1401,1646,1734,1933,1965,{"$f":"ROW()","v":977}]
["Sedgwick County","Kansas",1593,1871,1972,2199,2234,{"$f":"ROW()","v":978}]
["Seward County","Kansas",1578,1853,1953,2178,2213,{"$f":"ROW()","v":979}]
["Shawnee County","Kansas",1504,1766,1861,2075,2109,{"$f":"ROW()","v":980}]
["Sheridan County","Kansas",1416,1664,1753,1955,1986,{"$f":"ROW()","v":981}]
["Sherman County","Kansas",1387,1628,1716,1913,1944,{"$f":"ROW()","v":982}]
["Smith County","Kansas",1277,1500,1581,1763,1791,{"$f":"ROW()","v":983}]
["Stafford County","Kansas",1312,1541,1624,1811,1840,{"$f":"ROW()","v":984}]
["Stanton County","Kansas",1311,1539,1622,1809,1838,{"$f":"ROW()","v":985}]
["Stevens County","Kansas",1547,1816,1914,2134,2169,{"$f":"ROW()","v":986}]
["Sumner County","Kansas",1509,1772,1867,2082,2115,{"$f":"ROW()","v":987}]
["Thomas County","Kansas",1408,1653,1742,1942,1974,{"$f":"ROW()","v":988}]
["Trego County","Kansas",1346,1581,1666,1858,1888,{"$f":"ROW()","v":989}]
["Wabaunsee County","Kansas",1501,1763,1858,2072,2105,{"$f":"ROW()","v":990}]
["Wallace County","Kansas",1381,1622,1709,1906,1936,{"$f":"ROW()","v":991}]
["Washington County","Kansas",1297,1523,1605,1790,1818,{"$f":"ROW()","v":992}]
["Wichita County","Kansas",1526,1792,1888,2105,2139,{"$f":"ROW()","v":993}]
["Wilson County","Kansas",1297,1523,1605,1790,1818,{"$f":"ROW()","v":994}]
["Woodson County","Kansas",1418,1665,1755,1957,1988,{"$f":"ROW()","v":995}]
["Wyandotte County","Kansas",1534,1801,1898,2116,2150,{"$f":"ROW()","v":996}]
["Adair County","Kentucky",1238,1454,1532,1708,1736,{"$f":"ROW()","v":997}]
["Allen County","Kentucky",1298,1525,1607,1792,1821,{"$f":"ROW()","v":998}]
["Anderson County","Kentucky",1464,1720,1812,2020,2053,{"$f":"ROW()","v":999}]
["Ballard County","Kentucky",1315,1545,1628,1815,1845,{"$f":"ROW()","v":1000}]
["Barren County","Kentucky",1323,1554,1637,1825,1855,{"$f":"ROW()","v":1001}]
["Bath County","Kentucky",1193,1401,1476,1646,1672,{"$f":"ROW()","v":1002}]
["Bell County","Kentucky",1168,1372,1446,1612,1638,{"$f":"ROW()","v":1003}]
["Boone County","Kentucky",1648,1936,2040,2275,2311,{"$f":"ROW()","v":1004}]
["Bourbon County","Kentucky",1452,1705,1797,2004,2036,{"$f":"ROW()","v":1005}]
["Boyd County","Kentucky",1378,1618,1705,1901,1932,{"$f":"ROW()","v":1006}]
["Boyle County","Kentucky",1414,1661,1750,1951,1983,{"$f":"ROW()","v":1007}]
["Bracken County","Kentucky",1306,1534,1616,1802,1831,{"$f":"ROW()","v":1008}]
["Breathitt County","Kentucky",1198,1407,1483,1654,1680,{"$f":"ROW()","v":1009}]
["Breckinridge County","Kentucky",1261,1481,1561,1741,1769,{"$f":"ROW()","v":1010}]
["Bullitt County","Kentucky",1570,1844,1943,2166,2201,{"$f":"ROW()","v":1011}]
["Butler County","Kentucky",1323,1554,1637,1825,1855,{"$f":"ROW()","v":1012}]
["Caldwell County","Kentucky",1329,1561,1645,1834,1864,{"$f":"ROW()","v":1013}]
["Calloway County","Kentucky",1404,1649,1738,1938,1969,{"$f":"ROW()","v":1014}]
["Campbell County","Kentucky",1626,1909,2012,2243,2280,{"$f":"ROW()","v":1015}]
["Carlisle County","Kentucky",1290,1515,1596,1780,1808,{"$f":"ROW()","v":1016}]
["Carroll County","Kentucky",1401,1646,1734,1933,1965,{"$f":"ROW()","v":1017}]
["Carter County","Kentucky",1330,1562,1646,1835,1865,{"$f":"ROW()","v":1018}]
["Casey County","Kentucky",1305,1533,1615,1801,1830,{"$f":"ROW()","v":1019}]
["Christian County","Kentucky",1397,1641,1729,1928,1959,{"$f":"ROW()","v":1020}]
["Clark County","Kentucky",1488,1748,1842,2054,2087,{"$f":"ROW()","v":1021}]
["Clay County","Kentucky",1143,1343,1415,1578,1603,{"$f":"ROW()","v":1022}]
["Clinton County","Kentucky",1144,1344,1416,1579,1604,{"$f":"ROW()","v":1023}]
["Crittenden County","Kentucky",1216,1428,1505,1678,1705,{"$f":"ROW()","v":1024}]
["Cumberland County","Kentucky",1304,1532,1614,1800,1829,{"$f":"ROW()","v":1025}]
["Daviess County","Kentucky",1455,1709,1801,2008,2041,{"$f":"ROW()","v":1026}]
["Edmonson County","Kentucky",1215,1427,1504,1677,1704,{"$f":"ROW()","v":1027}]
["Elliott County","Kentucky",1200,1409,1485,1656,1683,{"$f":"ROW()","v":1028}]
["Estill County","Kentucky",1185,1391,1466,1635,1661,{"$f":"ROW()","v":1029}]
["Fayette County","Kentucky",1629,1913,2016,2248,2284,{"$f":"ROW()","v":1030}]
["Fleming County","Kentucky",1200,1409,1485,1656,1683,{"$f":"ROW()","v":1031}]
["Floyd County","Kentucky",1304,1532,1614,1800,1829,{"$f":"ROW()","v":1032}]
["Franklin County","Kentucky",1472,1729,1822,2032,2064,{"$f":"ROW()","v":1033}]
["Fulton County","Kentucky",1178,1384,1458,1626,1652,{"$f":"ROW()","v":1034}]
["Gallatin County","Kentucky",1425,1673,1763,1966,1997,{"$f":"ROW()","v":1035}]
["Garrard County","Kentucky",1404,1649,1738,1938,1969,{"$f":"ROW()","v":1036}]
["Grant County","Kentucky",1521,1787,1883,2100,2133,{"$f":"ROW()","v":1037}]
["Graves County","Kentucky",1331,1563,1647,1836,1866,{"$f":"ROW()","v":1038}]
["Grayson County","Kentucky",1290,1515,1596,1780,1808,{"$f":"ROW()","v":1039}]
["Green County","Kentucky",1087,1276,1345,1500,1524,{"$f":"ROW()","v":1040}]
["Greenup County","Kentucky",1408,1654,1743,1943,1975,{"$f":"ROW()","v":1041}]
["Hancock County","Kentucky",1294,1520,1602,1786,1815,{"$f":"ROW()","v":1042}]
["Hardin County","Kentucky",1483,1741,1835,2046,2079,{"$f":"ROW()","v":1043}]
["Harlan County","Kentucky",1149,1349,1422,1586,1611,{"$f":"ROW()","v":1044}]
["Harrison County","Kentucky",1425,1674,1764,1967,1999,{"$f":"ROW()","v":1045}]
["Hart County","Kentucky",1178,1384,1458,1626,1652,{"$f":"ROW()","v":1046}]
["Henderson County","Kentucky",1403,1648,1737,1937,1968,{"$f":"ROW()","v":1047}]
["Henry County","Kentucky",1425,1673,1763,1966,1997,{"$f":"ROW()","v":1048}]
["Hickman County","Kentucky",1263,1483,1563,1743,1771,{"$f":"ROW()","v":1049}]
["Hopkins County","Kentucky",1252,1470,1549,1727,1755,{"$f":"ROW()","v":1050}]
["Jackson County","Kentucky",1197,1405,1481,1651,1678,{"$f":"ROW()","v":1051}]
["Jefferson County","Kentucky",1610,1891,1993,2222,2258,{"$f":"ROW()","v":1052}]
["Jessamine County","Kentucky",1555,1827,1925,2146,2181,{"$f":"ROW()","v":1053}]
["Johnson County","Kentucky",1357,1594,1680,1873,1903,{"$f":"ROW()","v":1054}]
["Kenton County","Kentucky",1571,1845,1944,2168,2203,{"$f":"ROW()","v":1055}]
["Knott County","Kentucky",1239,1455,1533,1709,1737,{"$f":"ROW()","v":1056}]
["Knox County","Kentucky",1221,1434,1511,1685,1712,{"$f":"ROW()","v":1057}]
["Larue County","Kentucky",1317,1547,1630,1817,1847,{"$f":"ROW()","v":1058}]
["Laurel County","Kentucky",1295,1521,1603,1787,1816,{"$f":"ROW()","v":1059}]
["Lawrence County","Kentucky",1366,1604,1690,1884,1915,{"$f":"ROW()","v":1060}]
["Lee County","Kentucky",1142,1341,1413,1575,1601,{"$f":"ROW()","v":1061}]
["Leslie County","Kentucky",1177,1383,1457,1625,1651,{"$f":"ROW()","v":1062}]
["Letcher County","Kentucky",1252,1471,1550,1728,1756,{"$f":"ROW()","v":1063}]
["Lewis County","Kentucky",1124,1320,1391,1551,1576,{"$f":"ROW()","v":1064}]
["Lincoln County","Kentucky",1191,1399,1474,1644,1670,{"$f":"ROW()","v":1065}]
["Livingston County","Kentucky",1311,1540,1623,1810,1839,{"$f":"ROW()","v":1066}]
["Logan County","Kentucky",1354,1591,1676,1869,1899,{"$f":"ROW()","v":1067}]
["Lyon County","Kentucky",1404,1649,1738,1938,1969,{"$f":"ROW()","v":1068}]
["McCracken County","Kentucky",1438,1689,1780,1985,2017,{"$f":"ROW()","v":1069}]
["McCreary County","Kentucky",1197,1406,1482,1652,1679,{"$f":"ROW()","v":1070}]
["McLean County","Kentucky",1370,1609,1695,1890,1920,{"$f":"ROW()","v":1071}]
["Madison County","Kentucky",1521,1786,1882,2098,2132,{"$f":"ROW()","v":1072}]
["Magoffin County","Kentucky",1239,1455,1533,1709,1737,{"$f":"ROW()","v":1073}]
["Marion County","Kentucky",1336,1569,1653,1843,1873,{"$f":"ROW()","v":1074}]
["Marshall County","Kentucky",1403,1648,1737,1937,1968,{"$f":"ROW()","v":1075}]
["Martin County","Kentucky",1369,1608,1694,1889,1919,{"$f":"ROW()","v":1076}]
["Mason County","Kentucky",1403,1647,1736,1936,1967,{"$f":"ROW()","v":1077}]
["Meade County","Kentucky",1483,1741,1835,2046,2079,{"$f":"ROW()","v":1078}]
["Menifee County","Kentucky",1088,1278,1347,1502,1526,{"$f":"ROW()","v":1079}]
["Mercer County","Kentucky",1401,1646,1734,1933,1965,{"$f":"ROW()","v":1080}]
["Metcalfe County","Kentucky",1209,1420,1496,1668,1695,{"$f":"ROW()","v":1081}]
["Monroe County","Kentucky",1238,1454,1532,1708,1736,{"$f":"ROW()","v":1082}]
["Montgomery County","Kentucky",1338,1572,1656,1846,1876,{"$f":"ROW()","v":1083}]
["Morgan County","Kentucky",1302,1529,1611,1796,1825,{"$f":"ROW()","v":1084}]
["Muhlenberg County","Kentucky",1309,1537,1620,1806,1835,{"$f":"ROW()","v":1085}]
["Nelson County","Kentucky",1434,1684,1775,1979,2011,{"$f":"ROW()","v":1086}]
["Nicholas County","Kentucky",1230,1444,1522,1697,1724,{"$f":"ROW()","v":1087}]
["Ohio County","Kentucky",1231,1445,1523,1698,1726,{"$f":"ROW()","v":1088}]
["Oldham County","Kentucky",2106,2474,2607,2907,2954,{"$f":"ROW()","v":1089}]
["Owen County","Kentucky",1470,1726,1819,2028,2061,{"$f":"ROW()","v":1090}]
["Owsley County","Kentucky",1106,1299,1369,1526,1551,{"$f":"ROW()","v":1091}]
["Pendleton County","Kentucky",1471,1728,1821,2030,2063,{"$f":"ROW()","v":1092}]
["Perry County","Kentucky",1246,1463,1542,1719,1747,{"$f":"ROW()","v":1093}]
["Pike County","Kentucky",1370,1610,1696,1891,1922,{"$f":"ROW()","v":1094}]
["Powell County","Kentucky",1255,1474,1553,1732,1760,{"$f":"ROW()","v":1095}]
["Pulaski County","Kentucky",1310,1538,1621,1807,1837,{"$f":"ROW()","v":1096}]
["Robertson County","Kentucky",1244,1461,1540,1717,1745,{"$f":"ROW()","v":1097}]
["Rockcastle County","Kentucky",1221,1434,1511,1685,1712,{"$f":"ROW()","v":1098}]
["Rowan County","Kentucky",1432,1682,1772,1976,2008,{"$f":"ROW()","v":1099}]
["Russell County","Kentucky",1241,1458,1536,1713,1740,{"$f":"ROW()","v":1100}]
["Scott County","Kentucky",1617,1899,2001,2231,2267,{"$f":"ROW()","v":1101}]
["Shelby County","Kentucky",1652,1941,2045,2280,2317,{"$f":"ROW()","v":1102}]
["Simpson County","Kentucky",1369,1608,1694,1889,1919,{"$f":"ROW()","v":1103}]
["Spencer County","Kentucky",1654,1943,2047,2282,2319,{"$f":"ROW()","v":1104}]
["Taylor County","Kentucky",1242,1459,1537,1714,1741,{"$f":"ROW()","v":1105}]
["Todd County","Kentucky",1231,1445,1523,1698,1726,{"$f":"ROW()","v":1106}]
["Trigg County","Kentucky",1508,1771,1866,2081,2114,{"$f":"ROW()","v":1107}]
["Trimble County","Kentucky",1451,1704,1796,2003,2035,{"$f":"ROW()","v":1108}]
["Union County","Kentucky",1318,1548,1631,1819,1848,{"$f":"ROW()","v":1109}]
["Warren County","Kentucky",1545,1814,1912,2132,2166,{"$f":"ROW()","v":1110}]
["Washington County","Kentucky",1218,1431,1508,1681,1709,{"$f":"ROW()","v":1111}]
["Wayne County","Kentucky",1181,1387,1462,1630,1656,{"$f":"ROW()","v":1112}]
["Webster County","Kentucky",1277,1500,1581,1763,1791,{"$f":"ROW()","v":1113}]
["Whitley County","Kentucky",1318,1548,1631,1819,1848,{"$f":"ROW()","v":1114}]
["Wolfe County","Kentucky",1129,1326,1397,1558,1583,{"$f":"ROW()","v":1115}]
["Woodford County","Kentucky",1603,1883,1984,2212,2248,{"$f":"ROW()","v":1116}]
["Acadia Parish","Louisiana",1399,1643,1731,1930,1961,{"$f":"ROW()","v":1117}]
["Allen Parish","Louisiana",1361,1599,1685,1879,1909,{"$f":"ROW()","v":1118}]
["Ascension Parish","Louisiana",1784,2095,2208,2462,2502,{"$f":"ROW()","v":1119}]
["Assumption Parish","Louisiana",1450,1703,1794,2000,2033,{"$f":"ROW()","v":1120}]
["Avoyelles Parish","Louisiana",1225,1439,1516,1690,1718,{"$f":"ROW()","v":1121}]
["Beauregard Parish","Louisiana",1462,1717,1809,2017,2050,{"$f":"ROW()","v":1122}]
["Bienville Parish","Louisiana",1151,1352,1425,1589,1615,{"$f":"ROW()","v":1123}]
["Bossier Parish","Louisiana",1632,1917,2020,2252,2289,{"$f":"ROW()","v":1124}]
["Caddo Parish","Louisiana",1483,1741,1835,2046,2079,{"$f":"ROW()","v":1125}]
["Calcasieu Parish","Louisiana",1519,1784,1880,2096,2130,{"$f":"ROW()","v":1126}]
["Caldwell Parish","Louisiana",1408,1653,1742,1942,1974,{"$f":"ROW()","v":1127}]
["Cameron Parish","Louisiana",1517,1781,1877,2093,2127,{"$f":"ROW()","v":1128}]
["Catahoula Parish","Louisiana",1251,1469,1548,1726,1754,{"$f":"ROW()","v":1129}]
["Claiborne Parish","Louisiana",1137,1335,1407,1569,1594,{"$f":"ROW()","v":1130}]
["Concordia Parish","Louisiana",1251,1469,1548,1726,1754,{"$f":"ROW()","v":1131}]
["De Soto Parish","Louisiana",1357,1594,1680,1873,1903,{"$f":"ROW()","v":1132}]
["East Baton Rouge Pa","Louisiana",1697,1993,2100,2342,2379,{"$f":"ROW()","v":1133}]
["East Carroll Parish","Louisiana",1265,1486,1566,1746,1774,{"$f":"ROW()","v":1134}]
["East Feliciana Parish","Louisiana",1491,1751,1845,2057,2090,{"$f":"ROW()","v":1135}]
["Evangeline Parish","Louisiana",1289,1514,1595,1778,1807,{"$f":"ROW()","v":1136}]
["Franklin Parish","Louisiana",1277,1499,1580,1762,1790,{"$f":"ROW()","v":1137}]
["Grant Parish","Louisiana",1417,1665,1754,1956,1987,{"$f":"ROW()","v":1138}]
["Iberia Parish","Louisiana",1409,1655,1744,1945,1976,{"$f":"ROW()","v":1139}]
["Iberville Parish","Louisiana",1458,1712,1804,2011,2044,{"$f":"ROW()","v":1140}]
["Jackson Parish","Louisiana",1335,1568,1652,1842,1872,{"$f":"ROW()","v":1141}]
["Jefferson Parish","Louisiana",1709,2007,2115,2358,2396,{"$f":"ROW()","v":1142}]
["Jefferson Davis Paris","Louisiana",1416,1664,1753,1955,1986,{"$f":"ROW()","v":1143}]
["Lafayette Parish","Louisiana",1641,1927,2031,2265,2301,{"$f":"ROW()","v":1144}]
["Lafourche Parish","Louisiana",1521,1787,1883,2100,2133,{"$f":"ROW()","v":1145}]
["La Salle Parish","Louisiana",1428,1677,1767,1970,2002,{"$f":"ROW()","v":1146}]
["Lincoln Parish","Louisiana",1525,1791,1887,2104,2138,{"$f":"ROW()","v":1147}]
["Livingston Parish","Louisiana",1632,1917,2020,2252,2289,{"$f":"ROW()","v":1148}]
["Madison Parish","Louisiana",1450,1703,1794,2000,2033,{"$f":"ROW()","v":1149}]
["Morehouse Parish","Louisiana",1235,1450,1528,1704,1731,{"$f":"ROW()","v":1150}]
["Natchitoches Parish","Louisiana",1431,1681,1771,1975,2007,{"$f":"ROW()","v":1151}]
["Orleans Parish","Louisiana",1988,2335,2460,2743,2787,{"$f":"ROW()","v":1152}]
["Ouachita Parish","Louisiana",1469,1725,1818,2027,2060,{"$f":"ROW()","v":1153}]
["Plaquemines Parish","Louisiana",1831,2150,2266,2527,2567,{"$f":"ROW()","v":1154}]
["Pointe Coupee Paris","Louisiana",1596,1874,1975,2202,2238,{"$f":"ROW()","v":1155}]
["Rapides Parish","Louisiana",1476,1734,1827,2037,2070,{"$f":"ROW()","v":1156}]
["Red River Parish","Louisiana",1244,1461,1540,1717,1745,{"$f":"ROW()","v":1157}]
["Richland Parish","Louisiana",1324,1555,1639,1827,1857,{"$f":"ROW()","v":1158}]
["Sabine Parish","Louisiana",1386,1628,1715,1912,1943,{"$f":"ROW()","v":1159}]
["St. Bernard Parish","Louisiana",1399,1644,1732,1931,1962,{"$f":"ROW()","v":1160}]
["St. Charles Parish","Louisiana",1812,2129,2243,2501,2541,{"$f":"ROW()","v":1161}]
["St. Helena Parish","Louisiana",1263,1483,1563,1743,1771,{"$f":"ROW()","v":1162}]
["St. James Parish","Louisiana",1621,1904,2006,2237,2273,{"$f":"ROW()","v":1163}]
["St. John the Baptist P","Louisiana",1469,1725,1818,2027,2060,{"$f":"ROW()","v":1164}]
["St. Landry Parish","Louisiana",1364,1602,1688,1882,1913,{"$f":"ROW()","v":1165}]
["St. Martin Parish","Louisiana",1450,1703,1795,2001,2034,{"$f":"ROW()","v":1166}]
["St. Mary Parish","Louisiana",1403,1647,1736,1936,1967,{"$f":"ROW()","v":1167}]
["St. Tammany Parish","Louisiana",1803,2118,2232,2489,2529,{"$f":"ROW()","v":1168}]
["Tangipahoa Parish","Louisiana",1503,1765,1860,2074,2107,{"$f":"ROW()","v":1169}]
["Tensas Parish","Louisiana",1164,1367,1440,1606,1632,{"$f":"ROW()","v":1170}]
["Terrebonne Parish","Louisiana",1603,1883,1984,2212,2248,{"$f":"ROW()","v":1171}]
["Union Parish","Louisiana",1286,1510,1591,1774,1803,{"$f":"ROW()","v":1172}]
["Vermilion Parish","Louisiana",1446,1698,1789,1995,2027,{"$f":"ROW()","v":1173}]
["Vernon Parish","Louisiana",1473,1730,1823,2033,2065,{"$f":"ROW()","v":1174}]
["Washington Parish","Louisiana",1350,1586,1671,1863,1893,{"$f":"ROW()","v":1175}]
["Webster Parish","Louisiana",1237,1453,1531,1707,1735,{"$f":"ROW()","v":1176}]
["West Baton Rouge P","Louisiana",1601,1881,1982,2210,2246,{"$f":"ROW()","v":1177}]
["West Carroll Parish","Louisiana",1249,1467,1546,1724,1752,{"$f":"ROW()","v":1178}]
["West Feliciana Paris","Louisiana",1665,1956,2061,2298,2335,{"$f":"ROW()","v":1179}]
["Winn Parish","Louisiana",1242,1459,1537,1714,1741,{"$f":"ROW()","v":1180}]
["Androscoggin Count","Maine",1599,1878,1979,2207,2242,{"$f":"ROW()","v":1181}]
["Aroostook County","Maine",1245,1462,1541,1718,1746,{"$f":"ROW()","v":1182}]
["Cumberland County","Maine",2018,2370,2497,2784,2829,{"$f":"ROW()","v":1183}]
["Franklin County","Maine",1358,1595,1681,1874,1905,{"$f":"ROW()","v":1184}]
["Hancock County","Maine",1599,1878,1979,2207,2242,{"$f":"ROW()","v":1185}]
["Kennebec County","Maine",1481,1740,1833,2044,2077,{"$f":"ROW()","v":1186}]
["Knox County","Maine",1653,1942,2046,2281,2318,{"$f":"ROW()","v":1187}]
["Lincoln County","Maine",1547,1816,1914,2134,2169,{"$f":"ROW()","v":1188}]
["Oxford County","Maine",1439,1690,1781,1986,2018,{"$f":"ROW()","v":1189}]
["Penobscot County","Maine",1525,1791,1887,2104,2138,{"$f":"ROW()","v":1190}]
["Piscataquis County","Maine",1328,1560,1644,1833,1863,{"$f":"ROW()","v":1191}]
["Sagadahoc County","Maine",1743,2047,2157,2405,2444,{"$f":"ROW()","v":1192}]
["Somerset County","Maine",1313,1542,1625,1812,1841,{"$f":"ROW()","v":1193}]
["Waldo County","Maine",1513,1777,1872,2087,2121,{"$f":"ROW()","v":1194}]
["Washington County","Maine",1327,1558,1642,1831,1860,{"$f":"ROW()","v":1195}]
["York County","Maine",1871,2197,2315,2581,2623,{"$f":"ROW()","v":1196}]
["Allegany County","Maryland",1356,1592,1678,1871,1901,{"$f":"ROW()","v":1197}]
["Anne Arundel Count","Maryland",2411,2832,2984,3327,3381,{"$f":"ROW()","v":1198}]
["Baltimore County","Maryland",2040,2396,2525,2815,2861,{"$f":"ROW()","v":1199}]
["Calvert County","Maryland",2330,2737,2884,3216,3268,{"$f":"ROW()","v":1200}]
["Caroline County","Maryland",1812,2128,2242,2500,2540,{"$f":"ROW()","v":1201}]
["Carroll County","Maryland",2291,2690,2835,3161,3212,{"$f":"ROW()","v":1202}]
["Cecil County","Maryland",1977,2322,2447,2728,2772,{"$f":"ROW()","v":1203}]
["Charles County","Maryland",2367,2780,2929,3266,3319,{"$f":"ROW()","v":1204}]
["Dorchester County","Maryland",1694,1990,2097,2338,2376,{"$f":"ROW()","v":1205}]
["Frederick County","Maryland",2288,2688,2832,3158,3209,{"$f":"ROW()","v":1206}]
["Garrett County","Maryland",1644,1931,2035,2269,2306,{"$f":"ROW()","v":1207}]
["Harford County","Maryland",2153,2528,2664,2970,3018,{"$f":"ROW()","v":1208}]
["Howard County","Maryland",2844,3340,3520,3925,3988,{"$f":"ROW()","v":1209}]
["Kent County","Maryland",1963,2305,2429,2708,2752,{"$f":"ROW()","v":1210}]
["Montgomery County","Maryland",2750,3229,3403,3794,3856,{"$f":"ROW()","v":1211}]
["Prince George's Cou","Maryland",2328,2734,2881,3212,3264,{"$f":"ROW()","v":1212}]
["Queen Anne's Count","Maryland",2433,2857,3011,3357,3411,{"$f":"ROW()","v":1213}]
["St. Mary's County","Maryland",2203,2587,2726,3039,3089,{"$f":"ROW()","v":1214}]
["Somerset County","Maryland",1563,1836,1935,2158,2192,{"$f":"ROW()","v":1215}]
["Talbot County","Maryland",2104,2471,2604,2903,2950,{"$f":"ROW()","v":1216}]
["Washington County","Maryland",1824,2143,2258,2518,2558,{"$f":"ROW()","v":1217}]
["Wicomico County","Maryland",1651,1939,2043,2278,2315,{"$f":"ROW()","v":1218}]
["Worcester County","Maryland",1890,2220,2339,2608,2650,{"$f":"ROW()","v":1219}]
["Baltimore city","Maryland",1776,2086,2198,2451,2490,{"$f":"ROW()","v":1220}]
["Barnstable County","Massachusetts",2264,2659,2802,3124,3175,{"$f":"ROW()","v":1221}]
["Berkshire County","Massachusetts",1766,2075,2186,2437,2477,{"$f":"ROW()","v":1222}]
["Bristol County","Massachusetts",2219,2606,2746,3062,3111,{"$f":"ROW()","v":1223}]
["Dukes County","Massachusetts",2902,3409,3592,4005,4070,{"$f":"ROW()","v":1224}]
["Essex County","Massachusetts",2620,3078,3243,3616,3674,{"$f":"ROW()","v":1225}]
["Franklin County","Massachusetts",1879,2206,2325,2592,2634,{"$f":"ROW()","v":1226}]
["Hampden County","Massachusetts",1868,2194,2312,2578,2619,{"$f":"ROW()","v":1227}]
["Hampshire County","Massachusetts",2096,2462,2594,2892,2939,{"$f":"ROW()","v":1228}]
["Middlesex County","Massachusetts",2866,3366,3547,3955,4019,{"$f":"ROW()","v":1229}]
["Nantucket County","Massachusetts",3634,4269,4498,5015,5096,{"$f":"ROW()","v":1230}]
["Norfolk County","Massachusetts",2841,3337,3516,3920,3984,{"$f":"ROW()","v":1231}]
["Plymouth County","Massachusetts",2507,2945,3103,3460,3516,{"$f":"ROW()","v":1232}]
["Suffolk County","Massachusetts",2648,3110,3277,3654,3713,{"$f":"ROW()","v":1233}]
["Worcester County","Massachusetts",2208,2594,2733,3047,3096,{"$f":"ROW()","v":1234}]
["Alcona County","Michigan",1196,1405,1480,1650,1677,{"$f":"ROW()","v":1235}]
["Alger County","Michigan",1347,1582,1667,1859,1889,{"$f":"ROW()","v":1236}]
["Allegan County","Michigan",1515,1779,1875,2091,2124,{"$f":"ROW()","v":1237}]
["Alpena County","Michigan",1241,1458,1536,1713,1740,{"$f":"ROW()","v":1238}]
["Antrim County","Michigan",1416,1664,1753,1955,1986,{"$f":"ROW()","v":1239}]
["Arenac County","Michigan",1271,1493,1573,1754,1782,{"$f":"ROW()","v":1240}]
["Baraga County","Michigan",1297,1523,1605,1790,1818,{"$f":"ROW()","v":1241}]
["Barry County","Michigan",1601,1880,1981,2209,2244,{"$f":"ROW()","v":1242}]
["Bay County","Michigan",1349,1584,1669,1861,1891,{"$f":"ROW()","v":1243}]
["Benzie County","Michigan",1447,1700,1791,1997,2029,{"$f":"ROW()","v":1244}]
["Berrien County","Michigan",1479,1737,1830,2040,2073,{"$f":"ROW()","v":1245}]
["Branch County","Michigan",1338,1572,1656,1846,1876,{"$f":"ROW()","v":1246}]
["Calhoun County","Michigan",1371,1610,1697,1892,1923,{"$f":"ROW()","v":1247}]
["Cass County","Michigan",1480,1739,1832,2043,2076,{"$f":"ROW()","v":1248}]
["Charlevoix County","Michigan",1451,1704,1796,2003,2035,{"$f":"ROW()","v":1249}]
["Cheboygan County","Michigan",1359,1596,1682,1875,1906,{"$f":"ROW()","v":1250}]
["Chippewa County","Michigan",1284,1508,1589,1772,1800,{"$f":"ROW()","v":1251}]
["Clare County","Michigan",1232,1447,1525,1700,1728,{"$f":"ROW()","v":1252}]
["Clinton County","Michigan",1728,2029,2138,2384,2422,{"$f":"ROW()","v":1253}]
["Crawford County","Michigan",1261,1481,1561,1741,1769,{"$f":"ROW()","v":1254}]
["Delta County","Michigan",1331,1563,1647,1836,1866,{"$f":"ROW()","v":1255}]
["Dickinson County","Michigan",1233,1448,1526,1701,1729,{"$f":"ROW()","v":1256}]
["Eaton County","Michigan",1588,1865,1965,2191,2226,{"$f":"ROW()","v":1257}]
["Emmet County","Michigan",1564,1837,1936,2159,2193,{"$f":"ROW()","v":1258}]
["Genesee County","Michigan",1499,1760,1855,2068,2102,{"$f":"ROW()","v":1259}]
["Gladwin County","Michigan",1328,1560,1644,1833,1863,{"$f":"ROW()","v":1260}]
["Gogebic County","Michigan",1218,1431,1508,1681,1709,{"$f":"ROW()","v":1261}]
["Grand Traverse Coun","Michigan",1571,1845,1944,2168,2203,{"$f":"ROW()","v":1262}]
["Gratiot County","Michigan",1333,1566,1650,1840,1869,{"$f":"ROW()","v":1263}]
["Hillsdale County","Michigan",1337,1571,1655,1845,1875,{"$f":"ROW()","v":1264}]
["Houghton County","Michigan",1344,1578,1663,1854,1884,{"$f":"ROW()","v":1265}]
["Huron County","Michigan",1252,1470,1549,1727,1755,{"$f":"ROW()","v":1266}]
["Ingham County","Michigan",1555,1827,1925,2146,2181,{"$f":"ROW()","v":1267}]
["Ionia County","Michigan",1397,1641,1729,1928,1959,{"$f":"ROW()","v":1268}]
["Iosco County","Michigan",1151,1352,1425,1589,1615,{"$f":"ROW()","v":1269}]
["Iron County","Michigan",1265,1486,1566,1746,1774,{"$f":"ROW()","v":1270}]
["Isabella County","Michigan",1423,1671,1761,1964,1995,{"$f":"ROW()","v":1271}]
["Jackson County","Michigan",1434,1684,1775,1979,2011,{"$f":"ROW()","v":1272}]
["Kalamazoo County","Michigan",1606,1887,1988,2217,2252,{"$f":"ROW()","v":1273}]
["Kalkaska County","Michigan",1371,1610,1697,1892,1923,{"$f":"ROW()","v":1274}]
["Kent County","Michigan",1597,1875,1976,2203,2239,{"$f":"ROW()","v":1275}]
["Keweenaw County","Michigan",1301,1528,1610,1795,1824,{"$f":"ROW()","v":1276}]
["Lake County","Michigan",1302,1529,1611,1796,1825,{"$f":"ROW()","v":1277}]
["Lapeer County","Michigan",1555,1827,1925,2146,2181,{"$f":"ROW()","v":1278}]
["Leelanau County","Michigan",1690,1984,2091,2331,2369,{"$f":"ROW()","v":1279}]
["Lenawee County","Michigan",1448,1701,1792,1998,2030,{"$f":"ROW()","v":1280}]
["Livingston County","Michigan",1867,2193,2311,2577,2618,{"$f":"ROW()","v":1281}]
["Luce County","Michigan",1184,1390,1465,1633,1660,{"$f":"ROW()","v":1282}]
["Mackinac County","Michigan",1353,1590,1675,1868,1898,{"$f":"ROW()","v":1283}]
["Macomb County","Michigan",1652,1941,2045,2280,2317,{"$f":"ROW()","v":1284}]
["Manistee County","Michigan",1349,1584,1669,1861,1891,{"$f":"ROW()","v":1285}]
["Marquette County","Michigan",1416,1663,1752,1953,1985,{"$f":"ROW()","v":1286}]
["Mason County","Michigan",1412,1659,1748,1949,1980,{"$f":"ROW()","v":1287}]
["Mecosta County","Michigan",1364,1602,1688,1882,1913,{"$f":"ROW()","v":1288}]
["Menominee County","Michigan",1281,1505,1586,1768,1797,{"$f":"ROW()","v":1289}]
["Midland County","Michigan",1517,1781,1877,2093,2127,{"$f":"ROW()","v":1290}]
["Missaukee County","Michigan",1350,1586,1671,1863,1893,{"$f":"ROW()","v":1291}]
["Monroe County","Michigan",1609,1889,1991,2220,2256,{"$f":"ROW()","v":1292}]
["Montcalm County","Michigan",1370,1609,1695,1890,1920,{"$f":"ROW()","v":1293}]
["Montmorency Count","Michigan",1273,1495,1575,1756,1784,{"$f":"ROW()","v":1294}]
["Muskegon County","Michigan",1373,1612,1699,1894,1925,{"$f":"ROW()","v":1295}]
["Newaygo County","Michigan",1395,1639,1727,1926,1957,{"$f":"ROW()","v":1296}]
["Oakland County","Michigan",1942,2281,2404,2680,2724,{"$f":"ROW()","v":1297}]
["Oceana County","Michigan",1345,1579,1664,1855,1885,{"$f":"ROW()","v":1298}]
["Ogemaw County","Michigan",1231,1445,1523,1698,1726,{"$f":"ROW()","v":1299}]
["Ontonagon County","Michigan",1167,1370,1444,1610,1636,{"$f":"ROW()","v":1300}]
["Osceola County","Michigan",1279,1502,1583,1765,1794,{"$f":"ROW()","v":1301}]
["Oscoda County","Michigan",1208,1419,1495,1667,1694,{"$f":"ROW()","v":1302}]
["Otsego County","Michigan",1403,1647,1736,1936,1967,{"$f":"ROW()","v":1303}]
["Ottawa County","Michigan",1634,1919,2022,2255,2291,{"$f":"ROW()","v":1304}]
["Presque Isle County","Michigan",1236,1452,1530,1706,1733,{"$f":"ROW()","v":1305}]
["Roscommon County","Michigan",1239,1456,1534,1710,1738,{"$f":"ROW()","v":1306}]
["Saginaw County","Michigan",1378,1619,1706,1902,1933,{"$f":"ROW()","v":1307}]
["St. Clair County","Michigan",1545,1814,1912,2132,2166,{"$f":"ROW()","v":1308}]
["St. Joseph County","Michigan",1358,1595,1681,1874,1905,{"$f":"ROW()","v":1309}]
["Sanilac County","Michigan",1315,1545,1628,1815,1845,{"$f":"ROW()","v":1310}]
["Schoolcraft County","Michigan",1326,1557,1641,1830,1859,{"$f":"ROW()","v":1311}]
["Shiawassee County","Michigan",1392,1635,1723,1921,1952,{"$f":"ROW()","v":1312}]
["Tuscola County","Michigan",1344,1578,1663,1854,1884,{"$f":"ROW()","v":1313}]
["Van Buren County","Michigan",1503,1765,1860,2074,2107,{"$f":"ROW()","v":1314}]
["Washtenaw County","Michigan",2055,2413,2543,2835,2881,{"$f":"ROW()","v":1315}]
["Wayne County","Michigan",1598,1877,1978,2205,2241,{"$f":"ROW()","v":1316}]
["Wexford County","Michigan",1354,1591,1676,1869,1899,{"$f":"ROW()","v":1317}]
["Aitkin County","Minnesota",1536,1804,1901,2120,2154,{"$f":"ROW()","v":1318}]
["Anoka County","Minnesota",1887,2217,2336,2605,2647,{"$f":"ROW()","v":1319}]
["Becker County","Minnesota",1660,1950,2055,2291,2328,{"$f":"ROW()","v":1320}]
["Beltrami County","Minnesota",1576,1851,1950,2174,2209,{"$f":"ROW()","v":1321}]
["Benton County","Minnesota",1659,1948,2053,2289,2326,{"$f":"ROW()","v":1322}]
["Big Stone County","Minnesota",1315,1545,1628,1815,1845,{"$f":"ROW()","v":1323}]
["Blue Earth County","Minnesota",1648,1935,2039,2273,2310,{"$f":"ROW()","v":1324}]
["Brown County","Minnesota",1429,1679,1769,1972,2004,{"$f":"ROW()","v":1325}]
["Carlton County","Minnesota",1648,1936,2040,2275,2311,{"$f":"ROW()","v":1326}]
["Carver County","Minnesota",2313,2717,2863,3192,3244,{"$f":"ROW()","v":1327}]
["Cass County","Minnesota",1554,1825,1923,2144,2179,{"$f":"ROW()","v":1328}]
["Chippewa County","Minnesota",1441,1692,1783,1988,2020,{"$f":"ROW()","v":1329}]
["Chisago County","Minnesota",1921,2256,2377,2650,2693,{"$f":"ROW()","v":1330}]
["Clay County","Minnesota",1795,2109,2222,2478,2518,{"$f":"ROW()","v":1331}]
["Clearwater County","Minnesota",1558,1830,1928,2150,2184,{"$f":"ROW()","v":1332}]
["Cook County","Minnesota",1684,1978,2084,2324,2361,{"$f":"ROW()","v":1333}]
["Cottonwood County","Minnesota",1363,1601,1687,1881,1911,{"$f":"ROW()","v":1334}]
["Crow Wing County","Minnesota",1601,1880,1981,2209,2244,{"$f":"ROW()","v":1335}]
["Dakota County","Minnesota",2012,2363,2490,2776,2821,{"$f":"ROW()","v":1336}]
["Dodge County","Minnesota",1807,2123,2237,2494,2535,{"$f":"ROW()","v":1337}]
["Douglas County","Minnesota",1727,2028,2137,2383,2421,{"$f":"ROW()","v":1338}]
["Faribault County","Minnesota",1335,1568,1652,1842,1872,{"$f":"ROW()","v":1339}]
["Fillmore County","Minnesota",1504,1766,1861,2075,2109,{"$f":"ROW()","v":1340}]
["Freeborn County","Minnesota",1400,1645,1733,1932,1963,{"$f":"ROW()","v":1341}]
["Goodhue County","Minnesota",1768,2076,2188,2440,2479,{"$f":"ROW()","v":1342}]
["Grant County","Minnesota",1427,1676,1766,1969,2001,{"$f":"ROW()","v":1343}]
["Hennepin County","Minnesota",2096,2462,2594,2892,2939,{"$f":"ROW()","v":1344}]
["Houston County","Minnesota",1625,1908,2011,2242,2278,{"$f":"ROW()","v":1345}]
["Hubbard County","Minnesota",1652,1940,2044,2279,2316,{"$f":"ROW()","v":1346}]
["Isanti County","Minnesota",1774,2084,2196,2449,2488,{"$f":"ROW()","v":1347}]
["Itasca County","Minnesota",1501,1763,1858,2072,2105,{"$f":"ROW()","v":1348}]
["Jackson County","Minnesota",1362,1600,1686,1880,1910,{"$f":"ROW()","v":1349}]
["Kanabec County","Minnesota",1624,1907,2010,2241,2277,{"$f":"ROW()","v":1350}]
["Kandiyohi County","Minnesota",1601,1881,1982,2210,2246,{"$f":"ROW()","v":1351}]
["Kittson County","Minnesota",1413,1660,1749,1950,1982,{"$f":"ROW()","v":1352}]
["Koochiching County","Minnesota",1321,1552,1635,1823,1852,{"$f":"ROW()","v":1353}]
["Lac qui Parle County","Minnesota",1308,1536,1619,1805,1834,{"$f":"ROW()","v":1354}]
["Lake County","Minnesota",1568,1841,1940,2163,2198,{"$f":"ROW()","v":1355}]
["Lake of the Woods C","Minnesota",1561,1833,1932,2154,2189,{"$f":"ROW()","v":1356}]
["Le Sueur County","Minnesota",1795,2108,2221,2476,2516,{"$f":"ROW()","v":1357}]
["Lincoln County","Minnesota",1384,1626,1713,1910,1941,{"$f":"ROW()","v":1358}]
["Lyon County","Minnesota",1513,1777,1873,2088,2122,{"$f":"ROW()","v":1359}]
["McLeod County","Minnesota",1680,1973,2079,2318,2356,{"$f":"ROW()","v":1360}]
["Mahnomen County","Minnesota",1457,1711,1803,2010,2043,{"$f":"ROW()","v":1361}]
["Marshall County","Minnesota",1392,1635,1723,1921,1952,{"$f":"ROW()","v":1362}]
["Martin County","Minnesota",1349,1585,1670,1862,1892,{"$f":"ROW()","v":1363}]
["Meeker County","Minnesota",1598,1877,1978,2205,2241,{"$f":"ROW()","v":1364}]
["Mille Lacs County","Minnesota",1611,1892,1994,2223,2259,{"$f":"ROW()","v":1365}]
["Morrison County","Minnesota",1564,1837,1936,2159,2193,{"$f":"ROW()","v":1366}]
["Mower County","Minnesota",1397,1641,1729,1928,1959,{"$f":"ROW()","v":1367}]
["Murray County","Minnesota",1447,1700,1791,1997,2029,{"$f":"ROW()","v":1368}]
["Nicollet County","Minnesota",1725,2026,2135,2381,2419,{"$f":"ROW()","v":1369}]
["Nobles County","Minnesota",1472,1729,1822,2032,2064,{"$f":"ROW()","v":1370}]
["Norman County","Minnesota",1357,1594,1680,1873,1903,{"$f":"ROW()","v":1371}]
["Olmsted County","Minnesota",1851,2174,2291,2554,2596,{"$f":"ROW()","v":1372}]
["Otter Tail County","Minnesota",1597,1875,1976,2203,2239,{"$f":"ROW()","v":1373}]
["Pennington County","Minnesota",1517,1782,1878,2094,2128,{"$f":"ROW()","v":1374}]
["Pine County","Minnesota",1586,1863,1963,2189,2224,{"$f":"ROW()","v":1375}]
["Pipestone County","Minnesota",1284,1508,1589,1772,1800,{"$f":"ROW()","v":1376}]
["Polk County","Minnesota",1652,1940,2044,2279,2316,{"$f":"ROW()","v":1377}]
["Pope County","Minnesota",1634,1919,2022,2255,2291,{"$f":"ROW()","v":1378}]
["Ramsey County","Minnesota",1888,2218,2337,2606,2648,{"$f":"ROW()","v":1379}]
["Red Lake County","Minnesota",1483,1741,1835,2046,2079,{"$f":"ROW()","v":1380}]
["Redwood County","Minnesota",1374,1614,1701,1897,1927,{"$f":"ROW()","v":1381}]
["Renville County","Minnesota",1456,1710,1802,2009,2042,{"$f":"ROW()","v":1382}]
["Rice County","Minnesota",1843,2165,2281,2543,2584,{"$f":"ROW()","v":1383}]
["Rock County","Minnesota",1456,1710,1802,2009,2042,{"$f":"ROW()","v":1384}]
["Roseau County","Minnesota",1529,1796,1892,2110,2144,{"$f":"ROW()","v":1385}]
["St. Louis County","Minnesota",1543,1813,1910,2130,2164,{"$f":"ROW()","v":1386}]
["Scott County","Minnesota",2176,2556,2693,3003,3051,{"$f":"ROW()","v":1387}]
["Sherburne County","Minnesota",1892,2222,2341,2610,2652,{"$f":"ROW()","v":1388}]
["Sibley County","Minnesota",1629,1913,2016,2248,2284,{"$f":"ROW()","v":1389}]
["Stearns County","Minnesota",1672,1963,2069,2307,2344,{"$f":"ROW()","v":1390}]
["Steele County","Minnesota",1685,1979,2085,2325,2362,{"$f":"ROW()","v":1391}]
["Stevens County","Minnesota",1441,1693,1784,1989,2021,{"$f":"ROW()","v":1392}]
["Swift County","Minnesota",1373,1612,1699,1894,1925,{"$f":"ROW()","v":1393}]
["Todd County","Minnesota",1436,1686,1777,1981,2013,{"$f":"ROW()","v":1394}]
["Traverse County","Minnesota",1330,1562,1646,1835,1865,{"$f":"ROW()","v":1395}]
["Wabasha County","Minnesota",1693,1988,2095,2336,2374,{"$f":"ROW()","v":1396}]
["Wadena County","Minnesota",1394,1637,1725,1923,1954,{"$f":"ROW()","v":1397}]
["Waseca County","Minnesota",1497,1758,1853,2066,2099,{"$f":"ROW()","v":1398}]
["Washington County","Minnesota",2142,2516,2651,2956,3004,{"$f":"ROW()","v":1399}]
["Watonwan County","Minnesota",1364,1602,1688,1882,1913,{"$f":"ROW()","v":1400}]
["Wilkin County","Minnesota",1456,1710,1802,2009,2042,{"$f":"ROW()","v":1401}]
["Winona County","Minnesota",1555,1827,1925,2146,2181,{"$f":"ROW()","v":1402}]
["Wright County","Minnesota",1961,2303,2427,2706,2750,{"$f":"ROW()","v":1403}]
["Yellow Medicine Cou","Minnesota",1471,1727,1820,2029,2062,{"$f":"ROW()","v":1404}]
["Adams County","Mississippi",1229,1443,1521,1696,1723,{"$f":"ROW()","v":1405}]
["Alcorn County","Mississippi",1331,1563,1647,1836,1866,{"$f":"ROW()","v":1406}]
["Amite County","Mississippi",1251,1469,1548,1726,1754,{"$f":"ROW()","v":1407}]
["Attala County","Mississippi",1244,1461,1539,1716,1744,{"$f":"ROW()","v":1408}]
["Benton County","Mississippi",1199,1408,1484,1655,1681,{"$f":"ROW()","v":1409}]
["Bolivar County","Mississippi",1390,1632,1720,1918,1949,{"$f":"ROW()","v":1410}]
["Calhoun County","Mississippi",1194,1403,1478,1648,1675,{"$f":"ROW()","v":1411}]
["Carroll County","Mississippi",1351,1587,1672,1864,1894,{"$f":"ROW()","v":1412}]
["Chickasaw County","Mississippi",1138,1337,1409,1571,1596,{"$f":"ROW()","v":1413}]
["Choctaw County","Mississippi",1428,1677,1767,1970,2002,{"$f":"ROW()","v":1414}]
["Claiborne County","Mississippi",1188,1395,1470,1639,1666,{"$f":"ROW()","v":1415}]
["Clarke County","Mississippi",1435,1685,1776,1980,2012,{"$f":"ROW()","v":1416}]
["Clay County","Mississippi",1324,1555,1639,1827,1857,{"$f":"ROW()","v":1417}]
["Coahoma County","Mississippi",1302,1530,1612,1797,1826,{"$f":"ROW()","v":1418}]
["Copiah County","Mississippi",1350,1586,1671,1863,1893,{"$f":"ROW()","v":1419}]
["Covington County","Mississippi",1270,1492,1572,1753,1781,{"$f":"ROW()","v":1420}]
["DeSoto County","Mississippi",1631,1915,2018,2250,2286,{"$f":"ROW()","v":1421}]
["Forrest County","Mississippi",1435,1685,1776,1980,2012,{"$f":"ROW()","v":1422}]
["Franklin County","Mississippi",1251,1469,1548,1726,1754,{"$f":"ROW()","v":1423}]
["George County","Mississippi",1485,1744,1838,2049,2082,{"$f":"ROW()","v":1424}]
["Greene County","Mississippi",1219,1432,1509,1683,1710,{"$f":"ROW()","v":1425}]
["Grenada County","Mississippi",1156,1358,1431,1596,1621,{"$f":"ROW()","v":1426}]
["Hancock County","Mississippi",1605,1885,1986,2214,2250,{"$f":"ROW()","v":1427}]
["Harrison County","Mississippi",1531,1798,1895,2113,2147,{"$f":"ROW()","v":1428}]
["Hinds County","Mississippi",1453,1706,1798,2005,2037,{"$f":"ROW()","v":1429}]
["Holmes County","Mississippi",1126,1323,1394,1554,1579,{"$f":"ROW()","v":1430}]
["Humphreys County","Mississippi",1201,1411,1487,1658,1685,{"$f":"ROW()","v":1431}]
["Issaquena County","Mississippi",1324,1555,1639,1827,1857,{"$f":"ROW()","v":1432}]
["Itawamba County","Mississippi",1216,1428,1505,1678,1705,{"$f":"ROW()","v":1433}]
["Jackson County","Mississippi",1555,1826,1924,2145,2180,{"$f":"ROW()","v":1434}]
["Jasper County","Mississippi",1306,1534,1616,1802,1831,{"$f":"ROW()","v":1435}]
["Jefferson County","Mississippi",1147,1347,1419,1582,1608,{"$f":"ROW()","v":1436}]
["Jefferson Davis Coun","Mississippi",1209,1420,1496,1668,1695,{"$f":"ROW()","v":1437}]
["Jones County","Mississippi",1328,1559,1643,1832,1862,{"$f":"ROW()","v":1438}]
["Kemper County","Mississippi",1129,1326,1397,1558,1583,{"$f":"ROW()","v":1439}]
["Lafayette County","Mississippi",1742,2046,2156,2404,2443,{"$f":"ROW()","v":1440}]
["Lamar County","Mississippi",1637,1923,2026,2259,2295,{"$f":"ROW()","v":1441}]
["Lauderdale County","Mississippi",1416,1663,1752,1953,1985,{"$f":"ROW()","v":1442}]
["Lawrence County","Mississippi",1335,1568,1652,1842,1872,{"$f":"ROW()","v":1443}]
["Leake County","Mississippi",1335,1568,1652,1842,1872,{"$f":"ROW()","v":1444}]
["Lee County","Mississippi",1446,1698,1789,1995,2027,{"$f":"ROW()","v":1445}]
["Leflore County","Mississippi",1252,1470,1549,1727,1755,{"$f":"ROW()","v":1446}]
["Lincoln County","Mississippi",1368,1607,1693,1888,1918,{"$f":"ROW()","v":1447}]
["Lowndes County","Mississippi",1392,1635,1723,1921,1952,{"$f":"ROW()","v":1448}]
["Madison County","Mississippi",1783,2094,2207,2461,2501,{"$f":"ROW()","v":1449}]
["Marion County","Mississippi",1343,1577,1662,1853,1883,{"$f":"ROW()","v":1450}]
["Marshall County","Mississippi",1451,1704,1796,2003,2035,{"$f":"ROW()","v":1451}]
["Monroe County","Mississippi",1276,1498,1579,1761,1789,{"$f":"ROW()","v":1452}]
["Montgomery County","Mississippi",1351,1587,1672,1864,1894,{"$f":"ROW()","v":1453}]
["Neshoba County","Mississippi",1230,1444,1522,1697,1724,{"$f":"ROW()","v":1454}]
["Newton County","Mississippi",1319,1549,1632,1820,1849,{"$f":"ROW()","v":1455}]
["Noxubee County","Mississippi",1225,1439,1516,1690,1718,{"$f":"ROW()","v":1456}]
["Oktibbeha County","Mississippi",1562,1834,1933,2155,2190,{"$f":"ROW()","v":1457}]
["Panola County","Mississippi",1271,1493,1573,1754,1782,{"$f":"ROW()","v":1458}]
["Pearl River County","Mississippi",1478,1736,1829,2039,2072,{"$f":"ROW()","v":1459}]
["Perry County","Mississippi",1451,1704,1796,2003,2035,{"$f":"ROW()","v":1460}]
["Pike County","Mississippi",1364,1602,1688,1882,1913,{"$f":"ROW()","v":1461}]
["Pontotoc County","Mississippi",1223,1437,1514,1688,1715,{"$f":"ROW()","v":1462}]
["Prentiss County","Mississippi",1218,1430,1507,1680,1707,{"$f":"ROW()","v":1463}]
["Quitman County","Mississippi",1156,1358,1431,1596,1621,{"$f":"ROW()","v":1464}]
["Rankin County","Mississippi",1597,1876,1977,2204,2240,{"$f":"ROW()","v":1465}]
["Scott County","Mississippi",1284,1508,1589,1772,1800,{"$f":"ROW()","v":1466}]
["Sharkey County","Mississippi",1479,1738,1831,2042,2075,{"$f":"ROW()","v":1467}]
["Simpson County","Mississippi",1246,1463,1542,1719,1747,{"$f":"ROW()","v":1468}]
["Smith County","Mississippi",1212,1424,1500,1673,1700,{"$f":"ROW()","v":1469}]
["Stone County","Mississippi",1386,1628,1715,1912,1943,{"$f":"ROW()","v":1470}]
["Sunflower County","Mississippi",1255,1474,1553,1732,1760,{"$f":"ROW()","v":1471}]
["Tallahatchie County","Mississippi",1176,1381,1455,1622,1649,{"$f":"ROW()","v":1472}]
["Tate County","Mississippi",1508,1771,1866,2081,2114,{"$f":"ROW()","v":1473}]
["Tippah County","Mississippi",1265,1485,1565,1745,1773,{"$f":"ROW()","v":1474}]
["Tishomingo County","Mississippi",1319,1549,1632,1820,1849,{"$f":"ROW()","v":1475}]
["Tunica County","Mississippi",1492,1753,1847,2059,2093,{"$f":"ROW()","v":1476}]
["Union County","Mississippi",1216,1428,1505,1678,1705,{"$f":"ROW()","v":1477}]
["Walthall County","Mississippi",1368,1607,1693,1888,1918,{"$f":"ROW()","v":1478}]
["Warren County","Mississippi",1435,1685,1776,1980,2012,{"$f":"ROW()","v":1479}]
["Washington County","Mississippi",1425,1674,1764,1967,1999,{"$f":"ROW()","v":1480}]
["Wayne County","Mississippi",1213,1424,1501,1674,1701,{"$f":"ROW()","v":1481}]
["Webster County","Mississippi",1224,1438,1515,1689,1716,{"$f":"ROW()","v":1482}]
["Wilkinson County","Mississippi",1269,1491,1571,1752,1780,{"$f":"ROW()","v":1483}]
["Winston County","Mississippi",1324,1555,1639,1827,1857,{"$f":"ROW()","v":1484}]
["Yalobusha County","Mississippi",1221,1434,1511,1685,1712,{"$f":"ROW()","v":1485}]
["Yazoo County","Mississippi",1441,1693,1784,1989,2021,{"$f":"ROW()","v":1486}]
["Adair County","Missouri",1273,1496,1576,1757,1786,{"$f":"ROW()","v":1487}]
["Andrew County","Missouri",1437,1687,1778,1982,2014,{"$f":"ROW()","v":1488}]
["Atchison County","Missouri",1169,1373,1447,1613,1639,{"$f":"ROW()","v":1489}]
["Audrain County","Missouri",1155,1357,1430,1594,1620,{"$f":"ROW()","v":1490}]
["Barry County","Missouri",1323,1554,1637,1825,1855,{"$f":"ROW()","v":1491}]
["Barton County","Missouri",1269,1490,1570,1751,1779,{"$f":"ROW()","v":1492}]
["Bates County","Missouri",1350,1586,1671,1863,1893,{"$f":"ROW()","v":1493}]
["Benton County","Missouri",1238,1454,1532,1708,1736,{"$f":"ROW()","v":1494}]
["Bollinger County","Missouri",1281,1505,1586,1768,1797,{"$f":"ROW()","v":1495}]
["Boone County","Missouri",1635,1921,2024,2257,2293,{"$f":"ROW()","v":1496}]
["Buchanan County","Missouri",1401,1646,1734,1933,1965,{"$f":"ROW()","v":1497}]
["Butler County","Missouri",1275,1498,1578,1759,1788,{"$f":"ROW()","v":1498}]
["Caldwell County","Missouri",1391,1633,1721,1919,1950,{"$f":"ROW()","v":1499}]
["Callaway County","Missouri",1476,1734,1827,2037,2070,{"$f":"ROW()","v":1500}]
["Camden County","Missouri",1533,1800,1897,2115,2149,{"$f":"ROW()","v":1501}]
["Cape Girardeau Cou","Missouri",1454,1707,1799,2006,2038,{"$f":"ROW()","v":1502}]
["Carroll County","Missouri",1206,1417,1493,1665,1692,{"$f":"ROW()","v":1503}]
["Carter County","Missouri",1378,1618,1705,1901,1932,{"$f":"ROW()","v":1504}]
["Cass County","Missouri",1720,2020,2129,2374,2412,{"$f":"ROW()","v":1505}]
["Cedar County","Missouri",1296,1522,1604,1788,1817,{"$f":"ROW()","v":1506}]
["Chariton County","Missouri",1247,1464,1543,1720,1748,{"$f":"ROW()","v":1507}]
["Christian County","Missouri",1550,1820,1918,2139,2173,{"$f":"ROW()","v":1508}]
["Clark County","Missouri",1205,1415,1491,1662,1689,{"$f":"ROW()","v":1509}]
["Clay County","Missouri",1708,2006,2114,2357,2395,{"$f":"ROW()","v":1510}]
["Clinton County","Missouri",1584,1861,1961,2187,2222,{"$f":"ROW()","v":1511}]
["Cole County","Missouri",1478,1736,1829,2039,2072,{"$f":"ROW()","v":1512}]
["Cooper County","Missouri",1356,1592,1678,1871,1901,{"$f":"ROW()","v":1513}]
["Crawford County","Missouri",1326,1557,1641,1830,1859,{"$f":"ROW()","v":1514}]
["Dade County","Missouri",1210,1422,1498,1670,1697,{"$f":"ROW()","v":1515}]
["Dallas County","Missouri",1293,1518,1600,1784,1813,{"$f":"ROW()","v":1516}]
["Daviess County","Missouri",1374,1614,1701,1897,1927,{"$f":"ROW()","v":1517}]
["DeKalb County","Missouri",1463,1719,1811,2019,2052,{"$f":"ROW()","v":1518}]
["Dent County","Missouri",1266,1487,1567,1747,1775,{"$f":"ROW()","v":1519}]
["Douglas County","Missouri",1263,1483,1563,1743,1771,{"$f":"ROW()","v":1520}]
["Dunklin County","Missouri",1170,1374,1448,1615,1641,{"$f":"ROW()","v":1521}]
["Franklin County","Missouri",1469,1725,1818,2027,2060,{"$f":"ROW()","v":1522}]
["Gasconade County","Missouri",1307,1535,1618,1804,1833,{"$f":"ROW()","v":1523}]
["Gentry County","Missouri",1253,1472,1551,1729,1757,{"$f":"ROW()","v":1524}]
["Greene County","Missouri",1415,1662,1751,1952,1984,{"$f":"ROW()","v":1525}]
["Grundy County","Missouri",1217,1429,1506,1679,1706,{"$f":"ROW()","v":1526}]
["Harrison County","Missouri",1231,1446,1524,1699,1727,{"$f":"ROW()","v":1527}]
["Henry County","Missouri",1337,1571,1655,1845,1875,{"$f":"ROW()","v":1528}]
["Hickory County","Missouri",1067,1254,1321,1473,1497,{"$f":"ROW()","v":1529}]
["Holt County","Missouri",1235,1450,1528,1704,1731,{"$f":"ROW()","v":1530}]
["Howard County","Missouri",1357,1593,1679,1872,1902,{"$f":"ROW()","v":1531}]
["Howell County","Missouri",1218,1430,1507,1680,1707,{"$f":"ROW()","v":1532}]
["Iron County","Missouri",1207,1418,1494,1666,1693,{"$f":"ROW()","v":1533}]
["Jackson County","Missouri",1620,1903,2005,2236,2272,{"$f":"ROW()","v":1534}]
["Jasper County","Missouri",1307,1535,1618,1804,1833,{"$f":"ROW()","v":1535}]
["Jefferson County","Missouri",1594,1872,1973,2200,2235,{"$f":"ROW()","v":1536}]
["Johnson County","Missouri",1536,1804,1901,2120,2154,{"$f":"ROW()","v":1537}]
["Knox County","Missouri",1270,1492,1572,1753,1781,{"$f":"ROW()","v":1538}]
["Laclede County","Missouri",1226,1440,1517,1691,1719,{"$f":"ROW()","v":1539}]
["Lafayette County","Missouri",1468,1724,1817,2026,2059,{"$f":"ROW()","v":1540}]
["Lawrence County","Missouri",1253,1472,1551,1729,1757,{"$f":"ROW()","v":1541}]
["Lewis County","Missouri",1162,1365,1438,1603,1629,{"$f":"ROW()","v":1542}]
["Lincoln County","Missouri",1555,1826,1924,2145,2180,{"$f":"ROW()","v":1543}]
["Linn County","Missouri",1155,1357,1430,1594,1620,{"$f":"ROW()","v":1544}]
["Livingston County","Missouri",1293,1518,1600,1784,1813,{"$f":"ROW()","v":1545}]
["McDonald County","Missouri",1220,1433,1510,1684,1711,{"$f":"ROW()","v":1546}]
["Macon County","Missouri",1244,1461,1540,1717,1745,{"$f":"ROW()","v":1547}]
["Madison County","Missouri",1205,1415,1491,1662,1689,{"$f":"ROW()","v":1548}]
["Maries County","Missouri",1304,1532,1614,1800,1829,{"$f":"ROW()","v":1549}]
["Marion County","Missouri",1302,1530,1612,1797,1826,{"$f":"ROW()","v":1550}]
["Mercer County","Missouri",1058,1242,1309,1460,1483,{"$f":"ROW()","v":1551}]
["Miller County","Missouri",1328,1560,1644,1833,1863,{"$f":"ROW()","v":1552}]
["Mississippi County","Missouri",1075,1263,1331,1484,1508,{"$f":"ROW()","v":1553}]
["Moniteau County","Missouri",1332,1565,1649,1839,1868,{"$f":"ROW()","v":1554}]
["Monroe County","Missouri",1336,1569,1653,1843,1873,{"$f":"ROW()","v":1555}]
["Montgomery County","Missouri",1359,1596,1682,1875,1906,{"$f":"ROW()","v":1556}]
["Morgan County","Missouri",1374,1613,1700,1896,1926,{"$f":"ROW()","v":1557}]
["New Madrid County","Missouri",1270,1492,1572,1753,1781,{"$f":"ROW()","v":1558}]
["Newton County","Missouri",1357,1593,1679,1872,1902,{"$f":"ROW()","v":1559}]
["Nodaway County","Missouri",1332,1564,1648,1838,1867,{"$f":"ROW()","v":1560}]
["Oregon County","Missouri",1206,1416,1492,1664,1690,{"$f":"ROW()","v":1561}]
["Osage County","Missouri",1444,1696,1787,1993,2025,{"$f":"ROW()","v":1562}]
["Ozark County","Missouri",1213,1424,1501,1674,1701,{"$f":"ROW()","v":1563}]
["Pemiscot County","Missouri",1343,1577,1662,1853,1883,{"$f":"ROW()","v":1564}]
["Perry County","Missouri",1364,1602,1688,1882,1913,{"$f":"ROW()","v":1565}]
["Pettis County","Missouri",1326,1557,1641,1830,1859,{"$f":"ROW()","v":1566}]
["Phelps County","Missouri",1444,1696,1787,1993,2025,{"$f":"ROW()","v":1567}]
["Pike County","Missouri",1294,1520,1602,1786,1815,{"$f":"ROW()","v":1568}]
["Platte County","Missouri",1892,2222,2341,2610,2652,{"$f":"ROW()","v":1569}]
["Polk County","Missouri",1333,1566,1650,1840,1869,{"$f":"ROW()","v":1570}]
["Pulaski County","Missouri",1448,1701,1792,1998,2030,{"$f":"ROW()","v":1571}]
["Putnam County","Missouri",1173,1378,1452,1619,1645,{"$f":"ROW()","v":1572}]
["Ralls County","Missouri",1343,1577,1662,1853,1883,{"$f":"ROW()","v":1573}]
["Randolph County","Missouri",1294,1520,1602,1786,1815,{"$f":"ROW()","v":1574}]
["Ray County","Missouri",1469,1725,1818,2027,2060,{"$f":"ROW()","v":1575}]
["Reynolds County","Missouri",1159,1361,1434,1599,1625,{"$f":"ROW()","v":1576}]
["Ripley County","Missouri",1156,1358,1431,1596,1621,{"$f":"ROW()","v":1577}]
["St. Charles County","Missouri",1839,2160,2276,2538,2579,{"$f":"ROW()","v":1578}]
["St. Clair County","Missouri",1300,1527,1609,1794,1823,{"$f":"ROW()","v":1579}]
["Ste. Genevieve Coun","Missouri",1488,1748,1842,2054,2087,{"$f":"ROW()","v":1580}]
["St. Francois County","Missouri",1248,1466,1545,1723,1750,{"$f":"ROW()","v":1581}]
["St. Louis County","Missouri",1782,2093,2205,2459,2498,{"$f":"ROW()","v":1582}]
["Saline County","Missouri",1264,1484,1564,1744,1772,{"$f":"ROW()","v":1583}]
["Schuyler County","Missouri",1128,1325,1396,1557,1582,{"$f":"ROW()","v":1584}]
["Scotland County","Missouri",1336,1569,1653,1843,1873,{"$f":"ROW()","v":1585}]
["Scott County","Missouri",1281,1505,1586,1768,1797,{"$f":"ROW()","v":1586}]
["Shannon County","Missouri",1268,1489,1569,1749,1778,{"$f":"ROW()","v":1587}]
["Shelby County","Missouri",1163,1366,1439,1604,1630,{"$f":"ROW()","v":1588}]
["Stoddard County","Missouri",1255,1474,1553,1732,1760,{"$f":"ROW()","v":1589}]
["Stone County","Missouri",1450,1703,1794,2000,2033,{"$f":"ROW()","v":1590}]
["Sullivan County","Missouri",1197,1406,1482,1652,1679,{"$f":"ROW()","v":1591}]
["Taney County","Missouri",1408,1653,1742,1942,1974,{"$f":"ROW()","v":1592}]
["Texas County","Missouri",1165,1368,1442,1608,1634,{"$f":"ROW()","v":1593}]
["Vernon County","Missouri",1253,1472,1551,1729,1757,{"$f":"ROW()","v":1594}]
["Warren County","Missouri",1547,1816,1914,2134,2169,{"$f":"ROW()","v":1595}]
["Washington County","Missouri",1260,1479,1559,1738,1766,{"$f":"ROW()","v":1596}]
["Wayne County","Missouri",1232,1447,1525,1700,1728,{"$f":"ROW()","v":1597}]
["Webster County","Missouri",1349,1584,1669,1861,1891,{"$f":"ROW()","v":1598}]
["Worth County","Missouri",1213,1424,1501,1674,1701,{"$f":"ROW()","v":1599}]
["Wright County","Missouri",1185,1391,1466,1635,1661,{"$f":"ROW()","v":1600}]
["St. Louis city","Missouri",1547,1817,1915,2135,2170,{"$f":"ROW()","v":1601}]
["Beaverhead County","Montana",1573,1848,1947,2171,2206,{"$f":"ROW()","v":1602}]
["Big Horn County","Montana",1476,1734,1827,2037,2070,{"$f":"ROW()","v":1603}]
["Blaine County","Montana",1430,1680,1770,1974,2005,{"$f":"ROW()","v":1604}]
["Broadwater County","Montana",1690,1985,2092,2333,2370,{"$f":"ROW()","v":1605}]
["Carbon County","Montana",1784,2095,2208,2462,2502,{"$f":"ROW()","v":1606}]
["Carter County","Montana",1454,1707,1799,2006,2038,{"$f":"ROW()","v":1607}]
["Cascade County","Montana",1563,1836,1935,2158,2192,{"$f":"ROW()","v":1608}]
["Chouteau County","Montana",1399,1644,1732,1931,1962,{"$f":"ROW()","v":1609}]
["Custer County","Montana",1568,1841,1940,2163,2198,{"$f":"ROW()","v":1610}]
["Daniels County","Montana",1606,1887,1988,2217,2252,{"$f":"ROW()","v":1611}]
["Dawson County","Montana",1485,1744,1838,2049,2082,{"$f":"ROW()","v":1612}]
["Deer Lodge County","Montana",1372,1611,1698,1893,1924,{"$f":"ROW()","v":1613}]
["Fallon County","Montana",1655,1944,2048,2284,2320,{"$f":"ROW()","v":1614}]
["Fergus County","Montana",1356,1592,1678,1871,1901,{"$f":"ROW()","v":1615}]
["Flathead County","Montana",1816,2132,2247,2505,2546,{"$f":"ROW()","v":1616}]
["Gallatin County","Montana",2075,2437,2568,2863,2910,{"$f":"ROW()","v":1617}]
["Garfield County","Montana",1412,1658,1747,1948,1979,{"$f":"ROW()","v":1618}]
["Glacier County","Montana",1263,1483,1563,1743,1771,{"$f":"ROW()","v":1619}]
["Golden Valley Count","Montana",1224,1438,1515,1689,1716,{"$f":"ROW()","v":1620}]
["Granite County","Montana",1563,1836,1935,2158,2192,{"$f":"ROW()","v":1621}]
["Hill County","Montana",1515,1779,1875,2091,2124,{"$f":"ROW()","v":1622}]
["Jefferson County","Montana",1908,2241,2361,2633,2675,{"$f":"ROW()","v":1623}]
["Judith Basin County","Montana",1330,1562,1646,1835,1865,{"$f":"ROW()","v":1624}]
["Lake County","Montana",1774,2083,2195,2447,2487,{"$f":"ROW()","v":1625}]
["Lewis and Clark Cou","Montana",1813,2130,2244,2502,2542,{"$f":"ROW()","v":1626}]
["Liberty County","Montana",1393,1636,1724,1922,1953,{"$f":"ROW()","v":1627}]
["Lincoln County","Montana",1495,1756,1850,2063,2096,{"$f":"ROW()","v":1628}]
["McCone County","Montana",2051,2409,2538,2830,2876,{"$f":"ROW()","v":1629}]
["Madison County","Montana",1727,2028,2137,2383,2421,{"$f":"ROW()","v":1630}]
["Meagher County","Montana",1437,1688,1779,1984,2016,{"$f":"ROW()","v":1631}]
["Mineral County","Montana",1589,1866,1966,2192,2227,{"$f":"ROW()","v":1632}]
["Missoula County","Montana",1884,2213,2332,2600,2642,{"$f":"ROW()","v":1633}]
["Musselshell County","Montana",1494,1755,1849,2062,2095,{"$f":"ROW()","v":1634}]
["Park County","Montana",1690,1984,2091,2331,2369,{"$f":"ROW()","v":1635}]
["Petroleum County","Montana",1497,1758,1853,2066,2099,{"$f":"ROW()","v":1636}]
["Phillips County","Montana",1475,1733,1826,2036,2069,{"$f":"ROW()","v":1637}]
["Pondera County","Montana",1420,1668,1758,1960,1992,{"$f":"ROW()","v":1638}]
["Powder River County","Montana",1398,1642,1730,1929,1960,{"$f":"ROW()","v":1639}]
["Powell County","Montana",1420,1668,1758,1960,1992,{"$f":"ROW()","v":1640}]
["Prairie County","Montana",1083,1272,1340,1494,1518,{"$f":"ROW()","v":1641}]
["Ravalli County","Montana",1704,2001,2109,2352,2389,{"$f":"ROW()","v":1642}]
["Richland County","Montana",1832,2151,2267,2528,2569,{"$f":"ROW()","v":1643}]
["Roosevelt County","Montana",1539,1808,1905,2124,2158,{"$f":"ROW()","v":1644}]
["Rosebud County","Montana",1413,1660,1749,1950,1982,{"$f":"ROW()","v":1645}]
["Sanders County","Montana",1485,1744,1838,2049,2082,{"$f":"ROW()","v":1646}]
["Sheridan County","Montana",1458,1712,1804,2011,2044,{"$f":"ROW()","v":1647}]
["Silver Bow County","Montana",1358,1595,1681,1874,1905,{"$f":"ROW()","v":1648}]
["Stillwater County","Montana",1786,2098,2211,2465,2505,{"$f":"ROW()","v":1649}]
["Sweet Grass County","Montana",1744,2049,2159,2407,2446,{"$f":"ROW()","v":1650}]
["Teton County","Montana",1585,1862,1962,2188,2223,{"$f":"ROW()","v":1651}]
["Toole County","Montana",1506,1769,1864,2078,2112,{"$f":"ROW()","v":1652}]
["Treasure County","Montana",1624,1907,2010,2241,2277,{"$f":"ROW()","v":1653}]
["Valley County","Montana",1496,1757,1851,2064,2097,{"$f":"ROW()","v":1654}]
["Wheatland County","Montana",1321,1552,1635,1823,1852,{"$f":"ROW()","v":1655}]
["Wibaux County","Montana",1298,1525,1607,1792,1821,{"$f":"ROW()","v":1656}]
["Yellowstone County","Montana",1779,2090,2202,2455,2495,{"$f":"ROW()","v":1657}]
["Adams County","Nebraska",1475,1732,1825,2035,2068,{"$f":"ROW()","v":1658}]
["Antelope County","Nebraska",1359,1596,1682,1875,1906,{"$f":"ROW()","v":1659}]
["Arthur County","Nebraska",1879,2207,2326,2593,2635,{"$f":"ROW()","v":1660}]
["Banner County","Nebraska",1464,1720,1812,2020,2053,{"$f":"ROW()","v":1661}]
["Blaine County","Nebraska",1386,1628,1715,1912,1943,{"$f":"ROW()","v":1662}]
["Boone County","Nebraska",1458,1712,1804,2011,2044,{"$f":"ROW()","v":1663}]
["Box Butte County","Nebraska",1480,1739,1832,2043,2076,{"$f":"ROW()","v":1664}]
["Boyd County","Nebraska",1377,1617,1704,1900,1931,{"$f":"ROW()","v":1665}]
["Brown County","Nebraska",1123,1319,1390,1550,1575,{"$f":"ROW()","v":1666}]
["Buffalo County","Nebraska",1703,2000,2108,2350,2388,{"$f":"ROW()","v":1667}]
["Burt County","Nebraska",1403,1647,1736,1936,1967,{"$f":"ROW()","v":1668}]
["Butler County","Nebraska",1531,1798,1895,2113,2147,{"$f":"ROW()","v":1669}]
["Cass County","Nebraska",1854,2177,2294,2558,2599,{"$f":"ROW()","v":1670}]
["Cedar County","Nebraska",1401,1646,1734,1933,1965,{"$f":"ROW()","v":1671}]
["Chase County","Nebraska",1527,1794,1890,2107,2141,{"$f":"ROW()","v":1672}]
["Cherry County","Nebraska",1488,1747,1841,2053,2086,{"$f":"ROW()","v":1673}]
["Cheyenne County","Nebraska",1458,1712,1804,2011,2044,{"$f":"ROW()","v":1674}]
["Clay County","Nebraska",1394,1637,1725,1923,1954,{"$f":"ROW()","v":1675}]
["Colfax County","Nebraska",1395,1638,1726,1924,1956,{"$f":"ROW()","v":1676}]
["Cuming County","Nebraska",1460,1715,1807,2015,2047,{"$f":"ROW()","v":1677}]
["Custer County","Nebraska",1432,1682,1772,1976,2008,{"$f":"ROW()","v":1678}]
["Dakota County","Nebraska",1529,1796,1892,2110,2144,{"$f":"ROW()","v":1679}]
["Dawes County","Nebraska",1429,1679,1769,1972,2004,{"$f":"ROW()","v":1680}]
["Dawson County","Nebraska",1416,1664,1753,1955,1986,{"$f":"ROW()","v":1681}]
["Deuel County","Nebraska",1298,1525,1607,1792,1821,{"$f":"ROW()","v":1682}]
["Dixon County","Nebraska",1336,1569,1653,1843,1873,{"$f":"ROW()","v":1683}]
["Dodge County","Nebraska",1501,1763,1858,2072,2105,{"$f":"ROW()","v":1684}]
["Douglas County","Nebraska",1809,2125,2239,2496,2537,{"$f":"ROW()","v":1685}]
["Dundy County","Nebraska",1346,1581,1666,1858,1888,{"$f":"ROW()","v":1686}]
["Fillmore County","Nebraska",1262,1482,1562,1742,1770,{"$f":"ROW()","v":1687}]
["Franklin County","Nebraska",1250,1468,1547,1725,1753,{"$f":"ROW()","v":1688}]
["Frontier County","Nebraska",1354,1591,1676,1869,1899,{"$f":"ROW()","v":1689}]
["Furnas County","Nebraska",1298,1525,1607,1792,1821,{"$f":"ROW()","v":1690}]
["Gage County","Nebraska",1465,1721,1813,2021,2054,{"$f":"ROW()","v":1691}]
["Garden County","Nebraska",1183,1389,1464,1632,1659,{"$f":"ROW()","v":1692}]
["Garfield County","Nebraska",1412,1659,1748,1949,1980,{"$f":"ROW()","v":1693}]
["Gosper County","Nebraska",1548,1818,1916,2136,2171,{"$f":"ROW()","v":1694}]
["Grant County","Nebraska",1320,1551,1634,1822,1851,{"$f":"ROW()","v":1695}]
["Greeley County","Nebraska",1378,1619,1706,1902,1933,{"$f":"ROW()","v":1696}]
["Hall County","Nebraska",1568,1842,1941,2164,2199,{"$f":"ROW()","v":1697}]
["Hamilton County","Nebraska",1558,1830,1928,2150,2184,{"$f":"ROW()","v":1698}]
["Harlan County","Nebraska",1382,1623,1710,1907,1937,{"$f":"ROW()","v":1699}]
["Hayes County","Nebraska",1403,1647,1736,1936,1967,{"$f":"ROW()","v":1700}]
["Hitchcock County","Nebraska",1182,1388,1463,1631,1658,{"$f":"ROW()","v":1701}]
["Holt County","Nebraska",1423,1671,1761,1964,1995,{"$f":"ROW()","v":1702}]
["Hooker County","Nebraska",1120,1315,1386,1545,1570,{"$f":"ROW()","v":1703}]
["Howard County","Nebraska",1583,1859,1959,2184,2220,{"$f":"ROW()","v":1704}]
["Jefferson County","Nebraska",1412,1659,1748,1949,1980,{"$f":"ROW()","v":1705}]
["Johnson County","Nebraska",1347,1582,1667,1859,1889,{"$f":"ROW()","v":1706}]
["Kearney County","Nebraska",1664,1954,2059,2296,2333,{"$f":"ROW()","v":1707}]
["Keith County","Nebraska",1384,1626,1713,1910,1941,{"$f":"ROW()","v":1708}]
["Keya Paha County","Nebraska",1686,1981,2087,2327,2365,{"$f":"ROW()","v":1709}]
["Kimball County","Nebraska",1530,1796,1893,2111,2145,{"$f":"ROW()","v":1710}]
["Knox County","Nebraska",1349,1584,1669,1861,1891,{"$f":"ROW()","v":1711}]
["Lancaster County","Nebraska",1701,1998,2105,2347,2385,{"$f":"ROW()","v":1712}]
["Lincoln County","Nebraska",1555,1826,1924,2145,2180,{"$f":"ROW()","v":1713}]
["Logan County","Nebraska",1619,1902,2004,2234,2271,{"$f":"ROW()","v":1714}]
["Loup County","Nebraska",1246,1463,1542,1719,1747,{"$f":"ROW()","v":1715}]
["McPherson County","Nebraska",1250,1468,1547,1725,1753,{"$f":"ROW()","v":1716}]
["Madison County","Nebraska",1481,1740,1833,2044,2077,{"$f":"ROW()","v":1717}]
["Merrick County","Nebraska",1319,1550,1633,1821,1850,{"$f":"ROW()","v":1718}]
["Morrill County","Nebraska",1397,1641,1729,1928,1959,{"$f":"ROW()","v":1719}]
["Nance County","Nebraska",1310,1538,1621,1807,1837,{"$f":"ROW()","v":1720}]
["Nemaha County","Nebraska",1346,1581,1666,1858,1888,{"$f":"ROW()","v":1721}]
["Nuckolls County","Nebraska",1359,1596,1682,1875,1906,{"$f":"ROW()","v":1722}]
["Otoe County","Nebraska",1623,1907,2009,2240,2276,{"$f":"ROW()","v":1723}]
["Pawnee County","Nebraska",1415,1662,1751,1952,1984,{"$f":"ROW()","v":1724}]
["Perkins County","Nebraska",1363,1601,1687,1881,1911,{"$f":"ROW()","v":1725}]
["Phelps County","Nebraska",1463,1719,1811,2019,2052,{"$f":"ROW()","v":1726}]
["Pierce County","Nebraska",1530,1797,1894,2112,2146,{"$f":"ROW()","v":1727}]
["Platte County","Nebraska",1506,1769,1864,2078,2112,{"$f":"ROW()","v":1728}]
["Polk County","Nebraska",1366,1604,1690,1884,1915,{"$f":"ROW()","v":1729}]
["Red Willow County","Nebraska",1399,1644,1732,1931,1962,{"$f":"ROW()","v":1730}]
["Richardson County","Nebraska",1241,1458,1536,1713,1740,{"$f":"ROW()","v":1731}]
["Rock County","Nebraska",1391,1633,1721,1919,1950,{"$f":"ROW()","v":1732}]
["Saline County","Nebraska",1509,1772,1867,2082,2115,{"$f":"ROW()","v":1733}]
["Sarpy County","Nebraska",1941,2279,2402,2678,2721,{"$f":"ROW()","v":1734}]
["Saunders County","Nebraska",1683,1977,2083,2323,2360,{"$f":"ROW()","v":1735}]
["Scotts Bluff County","Nebraska",1526,1792,1888,2105,2139,{"$f":"ROW()","v":1736}]
["Seward County","Nebraska",1622,1906,2008,2239,2275,{"$f":"ROW()","v":1737}]
["Sheridan County","Nebraska",1308,1536,1619,1805,1834,{"$f":"ROW()","v":1738}]
["Sherman County","Nebraska",1343,1577,1662,1853,1883,{"$f":"ROW()","v":1739}]
["Sioux County","Nebraska",1512,1776,1871,2086,2120,{"$f":"ROW()","v":1740}]
["Stanton County","Nebraska",1462,1717,1809,2017,2050,{"$f":"ROW()","v":1741}]
["Thayer County","Nebraska",1300,1527,1609,1794,1823,{"$f":"ROW()","v":1742}]
["Thomas County","Nebraska",1155,1357,1430,1594,1620,{"$f":"ROW()","v":1743}]
["Thurston County","Nebraska",1376,1616,1703,1899,1929,{"$f":"ROW()","v":1744}]
["Valley County","Nebraska",1374,1614,1701,1897,1927,{"$f":"ROW()","v":1745}]
["Washington County","Nebraska",1838,2159,2275,2537,2578,{"$f":"ROW()","v":1746}]
["Wayne County","Nebraska",1446,1699,1790,1996,2028,{"$f":"ROW()","v":1747}]
["Webster County","Nebraska",1268,1489,1569,1749,1778,{"$f":"ROW()","v":1748}]
["Wheeler County","Nebraska",1392,1635,1723,1921,1952,{"$f":"ROW()","v":1749}]
["York County","Nebraska",1457,1711,1803,2010,2043,{"$f":"ROW()","v":1750}]
["Churchill County","Nevada",1635,1920,2023,2256,2292,{"$f":"ROW()","v":1751}]
["Clark County","Nevada",1840,2161,2277,2539,2580,{"$f":"ROW()","v":1752}]
["Douglas County","Nevada",2077,2440,2571,2867,2913,{"$f":"ROW()","v":1753}]
["Elko County","Nevada",1779,2090,2202,2455,2495,{"$f":"ROW()","v":1754}]
["Esmeralda County","Nevada",1159,1361,1434,1599,1625,{"$f":"ROW()","v":1755}]
["Eureka County","Nevada",1673,1965,2071,2309,2346,{"$f":"ROW()","v":1756}]
["Humboldt County","Nevada",1682,1976,2082,2321,2359,{"$f":"ROW()","v":1757}]
["Lander County","Nevada",1553,1824,1922,2143,2178,{"$f":"ROW()","v":1758}]
["Lincoln County","Nevada",1422,1670,1760,1962,1994,{"$f":"ROW()","v":1759}]
["Lyon County","Nevada",1700,1997,2104,2346,2384,{"$f":"ROW()","v":1760}]
["Mineral County","Nevada",1366,1604,1690,1884,1915,{"$f":"ROW()","v":1761}]
["Nye County","Nevada",1554,1825,1923,2144,2179,{"$f":"ROW()","v":1762}]
["Pershing County","Nevada",1443,1695,1786,1991,2024,{"$f":"ROW()","v":1763}]
["Storey County","Nevada",1652,1940,2044,2279,2316,{"$f":"ROW()","v":1764}]
["Washoe County","Nevada",1991,2338,2464,2747,2792,{"$f":"ROW()","v":1765}]
["White Pine County","Nevada",1537,1805,1902,2121,2155,{"$f":"ROW()","v":1766}]
["Carson City","Nevada",1790,2102,2215,2470,2510,{"$f":"ROW()","v":1767}]
["Belknap County","New Hampshire",1942,2281,2404,2680,2724,{"$f":"ROW()","v":1768}]
["Carroll County","New Hampshire",1797,2111,2224,2480,2520,{"$f":"ROW()","v":1769}]
["Cheshire County","New Hampshire",1908,2242,2362,2634,2676,{"$f":"ROW()","v":1770}]
["Coos County","New Hampshire",1455,1709,1801,2008,2041,{"$f":"ROW()","v":1771}]
["Grafton County","New Hampshire",1971,2315,2439,2719,2763,{"$f":"ROW()","v":1772}]
["Hillsborough County","New Hampshire",2299,2700,2845,3172,3223,{"$f":"ROW()","v":1773}]
["Merrimack County","New Hampshire",2126,2497,2631,2934,2981,{"$f":"ROW()","v":1774}]
["Rockingham County","New Hampshire",2436,2861,3015,3362,3416,{"$f":"ROW()","v":1775}]
["Strafford County","New Hampshire",2215,2601,2741,3056,3106,{"$f":"ROW()","v":1776}]
["Sullivan County","New Hampshire",1831,2150,2266,2527,2567,{"$f":"ROW()","v":1777}]
["Atlantic County","New Jersey",2144,2518,2653,2958,3006,{"$f":"ROW()","v":1778}]
["Bergen County","New Jersey",3184,3739,3940,4393,4464,{"$f":"ROW()","v":1779}]
["Burlington County","New Jersey",2352,2763,2911,3246,3298,{"$f":"ROW()","v":1780}]
["Camden County","New Jersey",2153,2528,2664,2970,3018,{"$f":"ROW()","v":1781}]
["Cape May County","New Jersey",2111,2480,2613,2913,2961,{"$f":"ROW()","v":1782}]
["Cumberland County","New Jersey",1861,2186,2303,2568,2609,{"$f":"ROW()","v":1783}]
["Essex County","New Jersey",2998,3521,3710,4137,4203,{"$f":"ROW()","v":1784}]
["Gloucester County","New Jersey",2298,2699,2844,3171,3222,{"$f":"ROW()","v":1785}]
["Hudson County","New Jersey",3008,3533,3723,4151,4218,{"$f":"ROW()","v":1786}]
["Hunterdon County","New Jersey",2931,3442,3627,4044,4109,{"$f":"ROW()","v":1787}]
["Mercer County","New Jersey",2493,2929,3086,3441,3496,{"$f":"ROW()","v":1788}]
["Middlesex County","New Jersey",2653,3117,3284,3662,3721,{"$f":"ROW()","v":1789}]
["Monmouth County","New Jersey",2825,3318,3496,3898,3961,{"$f":"ROW()","v":1790}]
["Morris County","New Jersey",3033,3563,3754,4186,4253,{"$f":"ROW()","v":1791}]
["Ocean County","New Jersey",2237,2627,2768,3086,3136,{"$f":"ROW()","v":1792}]
["Passaic County","New Jersey",2777,3262,3437,3832,3894,{"$f":"ROW()","v":1793}]
["Salem County","New Jersey",2071,2432,2563,2858,2904,{"$f":"ROW()","v":1794}]
["Somerset County","New Jersey",2927,3437,3622,4039,4104,{"$f":"ROW()","v":1795}]
["Sussex County","New Jersey",2382,2798,2948,3287,3340,{"$f":"ROW()","v":1796}]
["Union County","New Jersey",2893,3397,3580,3992,4056,{"$f":"ROW()","v":1797}]
["Warren County","New Jersey",2301,2703,2848,3176,3227,{"$f":"ROW()","v":1798}]
["Bernalillo County","New Mexico",1635,1921,2024,2257,2293,{"$f":"ROW()","v":1799}]
["Catron County","New Mexico",1363,1601,1687,1881,1911,{"$f":"ROW()","v":1800}]
["Chaves County","New Mexico",1359,1596,1682,1875,1906,{"$f":"ROW()","v":1801}]
["Cibola County","New Mexico",1286,1511,1592,1775,1804,{"$f":"ROW()","v":1802}]
["Colfax County","New Mexico",1288,1513,1594,1777,1806,{"$f":"ROW()","v":1803}]
["Curry County","New Mexico",1447,1700,1791,1997,2029,{"$f":"ROW()","v":1804}]
["DeBaca County","New Mexico",1378,1619,1706,1902,1933,{"$f":"ROW()","v":1805}]
["Dona Ana County","New Mexico",1498,1759,1854,2067,2101,{"$f":"ROW()","v":1806}]
["Eddy County","New Mexico",1552,1823,1921,2142,2176,{"$f":"ROW()","v":1807}]
["Grant County","New Mexico",1302,1529,1611,1796,1825,{"$f":"ROW()","v":1808}]
["Guadalupe County","New Mexico",1557,1829,1927,2149,2183,{"$f":"ROW()","v":1809}]
["Harding County","New Mexico",1267,1488,1568,1748,1777,{"$f":"ROW()","v":1810}]
["Hidalgo County","New Mexico",1329,1561,1645,1834,1864,{"$f":"ROW()","v":1811}]
["Lea County","New Mexico",1523,1789,1885,2102,2136,{"$f":"ROW()","v":1812}]
["Lincoln County","New Mexico",1523,1789,1885,2102,2136,{"$f":"ROW()","v":1813}]
["Los Alamos County","New Mexico",2144,2519,2654,2959,3007,{"$f":"ROW()","v":1814}]
["Luna County","New Mexico",1187,1394,1469,1638,1664,{"$f":"ROW()","v":1815}]
["McKinley County","New Mexico",1349,1585,1670,1862,1892,{"$f":"ROW()","v":1816}]
["Mora County","New Mexico",1349,1584,1669,1861,1891,{"$f":"ROW()","v":1817}]
["Otero County","New Mexico",1296,1522,1604,1788,1817,{"$f":"ROW()","v":1818}]
["Quay County","New Mexico",1096,1288,1357,1513,1537,{"$f":"ROW()","v":1819}]
["Rio Arriba County","New Mexico",1513,1777,1873,2088,2122,{"$f":"ROW()","v":1820}]
["Roosevelt County","New Mexico",1433,1683,1773,1977,2009,{"$f":"ROW()","v":1821}]
["Sandoval County","New Mexico",1634,1919,2022,2255,2291,{"$f":"ROW()","v":1822}]
["San Juan County","New Mexico",1558,1830,1928,2150,2184,{"$f":"ROW()","v":1823}]
["San Miguel County","New Mexico",1446,1698,1789,1995,2027,{"$f":"ROW()","v":1824}]
["Santa Fe County","New Mexico",1839,2160,2276,2538,2579,{"$f":"ROW()","v":1825}]
["Sierra County","New Mexico",1130,1328,1399,1560,1585,{"$f":"ROW()","v":1826}]
["Socorro County","New Mexico",1378,1618,1705,1901,1932,{"$f":"ROW()","v":1827}]
["Taos County","New Mexico",1572,1847,1946,2170,2205,{"$f":"ROW()","v":1828}]
["Torrance County","New Mexico",1336,1570,1654,1844,1874,{"$f":"ROW()","v":1829}]
["Union County","New Mexico",1398,1642,1730,1929,1960,{"$f":"ROW()","v":1830}]
["Valencia County","New Mexico",1490,1750,1844,2056,2089,{"$f":"ROW()","v":1831}]
["Albany County","New York",1946,2286,2409,2686,2729,{"$f":"ROW()","v":1832}]
["Allegany County","New York",1301,1528,1610,1795,1824,{"$f":"ROW()","v":1833}]
["Bronx County","New York",2721,3195,3367,3754,3815,{"$f":"ROW()","v":1834}]
["Broome County","New York",1454,1707,1799,2006,2038,{"$f":"ROW()","v":1835}]
["Cattaraugus County","New York",1366,1605,1691,1885,1916,{"$f":"ROW()","v":1836}]
["Cayuga County","New York",1564,1837,1936,2159,2193,{"$f":"ROW()","v":1837}]
["Chautauqua County","New York",1273,1496,1576,1757,1786,{"$f":"ROW()","v":1838}]
["Chemung County","New York",1441,1692,1783,1988,2020,{"$f":"ROW()","v":1839}]
["Chenango County","New York",1421,1669,1759,1961,1993,{"$f":"ROW()","v":1840}]
["Clinton County","New York",1572,1846,1945,2169,2204,{"$f":"ROW()","v":1841}]
["Columbia County","New York",1900,2232,2352,2622,2665,{"$f":"ROW()","v":1842}]
["Cortland County","New York",1549,1819,1917,2137,2172,{"$f":"ROW()","v":1843}]
["Delaware County","New York",1448,1701,1792,1998,2030,{"$f":"ROW()","v":1844}]
["Dutchess County","New York",2412,2833,2985,3328,3382,{"$f":"ROW()","v":1845}]
["Erie County","New York",1605,1885,1986,2214,2250,{"$f":"ROW()","v":1846}]
["Essex County","New York",1624,1907,2010,2241,2277,{"$f":"ROW()","v":1847}]
["Franklin County","New York",1465,1721,1813,2021,2054,{"$f":"ROW()","v":1848}]
["Fulton County","New York",1442,1694,1785,1990,2022,{"$f":"ROW()","v":1849}]
["Genesee County","New York",1479,1737,1830,2040,2073,{"$f":"ROW()","v":1850}]
["Greene County","New York",1833,2152,2268,2529,2570,{"$f":"ROW()","v":1851}]
["Hamilton County","New York",1471,1727,1820,2029,2062,{"$f":"ROW()","v":1852}]
["Herkimer County","New York",1387,1628,1716,1913,1944,{"$f":"ROW()","v":1853}]
["Jefferson County","New York",1559,1832,1930,2152,2187,{"$f":"ROW()","v":1854}]
["Kings County","New York",3114,3657,3854,4297,4367,{"$f":"ROW()","v":1855}]
["Lewis County","New York",1477,1735,1828,2038,2071,{"$f":"ROW()","v":1856}]
["Livingston County","New York",1562,1834,1933,2155,2190,{"$f":"ROW()","v":1857}]
["Madison County","New York",1635,1920,2023,2256,2292,{"$f":"ROW()","v":1858}]
["Monroe County","New York",1656,1945,2050,2286,2323,{"$f":"ROW()","v":1859}]
["Montgomery County","New York",1478,1736,1829,2039,2072,{"$f":"ROW()","v":1860}]
["Nassau County","New York",3395,3988,4202,4685,4761,{"$f":"ROW()","v":1861}]
["New York County","New York",3619,4251,4479,4994,5075,{"$f":"ROW()","v":1862}]
["Niagara County","New York",1537,1805,1902,2121,2155,{"$f":"ROW()","v":1863}]
["Oneida County","New York",1515,1779,1875,2091,2124,{"$f":"ROW()","v":1864}]
["Onondaga County","New York",1660,1950,2055,2291,2328,{"$f":"ROW()","v":1865}]
["Ontario County","New York",1656,1945,2050,2286,2323,{"$f":"ROW()","v":1866}]
["Orange County","New York",2489,2924,3081,3435,3491,{"$f":"ROW()","v":1867}]
["Orleans County","New York",1465,1721,1813,2021,2054,{"$f":"ROW()","v":1868}]
["Oswego County","New York",1489,1749,1843,2055,2088,{"$f":"ROW()","v":1869}]
["Otsego County","New York",1556,1828,1926,2147,2182,{"$f":"ROW()","v":1870}]
["Putnam County","New York",2846,3342,3522,3927,3990,{"$f":"ROW()","v":1871}]
["Queens County","New York",2825,3318,3496,3898,3961,{"$f":"ROW()","v":1872}]
["Rensselaer County","New York",1891,2221,2340,2609,2651,{"$f":"ROW()","v":1873}]
["Richmond County","New York",2744,3223,3396,3787,3848,{"$f":"ROW()","v":1874}]
["Rockland County","New York",3250,3817,4022,4485,4557,{"$f":"ROW()","v":1875}]
["St. Lawrence County","New York",1391,1634,1722,1920,1951,{"$f":"ROW()","v":1876}]
["Saratoga County","New York",2001,2350,2476,2761,2805,{"$f":"ROW()","v":1877}]
["Schenectady County","New York",1799,2113,2227,2483,2523,{"$f":"ROW()","v":1878}]
["Schoharie County","New York",1625,1908,2011,2242,2278,{"$f":"ROW()","v":1879}]
["Schuyler County","New York",1511,1775,1870,2085,2119,{"$f":"ROW()","v":1880}]
["Seneca County","New York",1393,1636,1724,1922,1953,{"$f":"ROW()","v":1881}]
["Steuben County","New York",1449,1702,1793,1999,2031,{"$f":"ROW()","v":1882}]
["Suffolk County","New York",2969,3487,3674,4097,4163,{"$f":"ROW()","v":1883}]
["Sullivan County","New York",1807,2122,2236,2493,2533,{"$f":"ROW()","v":1884}]
["Tioga County","New York",1537,1805,1902,2121,2155,{"$f":"ROW()","v":1885}]
["Tompkins County","New York",1947,2287,2410,2687,2731,{"$f":"ROW()","v":1886}]
["Ulster County","New York",2134,2506,2641,2945,2992,{"$f":"ROW()","v":1887}]
["Warren County","New York",1759,2066,2177,2427,2467,{"$f":"ROW()","v":1888}]
["Washington County","New York",1613,1894,1996,2226,2261,{"$f":"ROW()","v":1889}]
["Wayne County","New York",1582,1858,1958,2183,2218,{"$f":"ROW()","v":1890}]
["Westchester County","New York",3562,4184,4409,4916,4995,{"$f":"ROW()","v":1891}]
["Wyoming County","New York",1449,1702,1793,1999,2031,{"$f":"ROW()","v":1892}]
["Yates County","New York",1455,1709,1801,2008,2041,{"$f":"ROW()","v":1893}]
["Alamance County","North Carolina",1470,1726,1819,2028,2061,{"$f":"ROW()","v":1894}]
["Alexander County","North Carolina",1341,1575,1660,1851,1881,{"$f":"ROW()","v":1895}]
["Alleghany County","North Carolina",1387,1629,1717,1914,1945,{"$f":"ROW()","v":1896}]
["Anson County","North Carolina",1304,1532,1614,1800,1829,{"$f":"ROW()","v":1897}]
["Ashe County","North Carolina",1343,1577,1662,1853,1883,{"$f":"ROW()","v":1898}]
["Avery County","North Carolina",1298,1525,1607,1792,1821,{"$f":"ROW()","v":1899}]
["Beaufort County","North Carolina",1547,1817,1915,2135,2170,{"$f":"ROW()","v":1900}]
["Bertie County","North Carolina",1357,1594,1680,1873,1903,{"$f":"ROW()","v":1901}]
["Bladen County","North Carolina",1345,1580,1665,1856,1886,{"$f":"ROW()","v":1902}]
["Brunswick County","North Carolina",1664,1954,2059,2296,2333,{"$f":"ROW()","v":1903}]
["Buncombe County","North Carolina",1721,2021,2130,2375,2413,{"$f":"ROW()","v":1904}]
["Burke County","North Carolina",1301,1528,1610,1795,1824,{"$f":"ROW()","v":1905}]
["Cabarrus County","North Carolina",1774,2084,2196,2449,2488,{"$f":"ROW()","v":1906}]
["Caldwell County","North Carolina",1329,1561,1645,1834,1864,{"$f":"ROW()","v":1907}]
["Camden County","North Carolina",1758,2065,2176,2426,2465,{"$f":"ROW()","v":1908}]
["Carteret County","North Carolina",1753,2058,2169,2418,2457,{"$f":"ROW()","v":1909}]
["Caswell County","North Carolina",1357,1594,1680,1873,1903,{"$f":"ROW()","v":1910}]
["Catawba County","North Carolina",1387,1629,1717,1914,1945,{"$f":"ROW()","v":1911}]
["Chatham County","North Carolina",1962,2304,2428,2707,2751,{"$f":"ROW()","v":1912}]
["Cherokee County","North Carolina",1366,1605,1691,1885,1916,{"$f":"ROW()","v":1913}]
["Chowan County","North Carolina",1365,1603,1689,1883,1914,{"$f":"ROW()","v":1914}]
["Clay County","North Carolina",1378,1619,1706,1902,1933,{"$f":"ROW()","v":1915}]
["Cleveland County","North Carolina",1357,1593,1679,1872,1902,{"$f":"ROW()","v":1916}]
["Columbus County","North Carolina",1321,1552,1635,1823,1852,{"$f":"ROW()","v":1917}]
["Craven County","North Carolina",1486,1745,1839,2050,2084,{"$f":"ROW()","v":1918}]
["Cumberland County","North Carolina",1551,1821,1919,2140,2174,{"$f":"ROW()","v":1919}]
["Currituck County","North Carolina",1871,2197,2315,2581,2623,{"$f":"ROW()","v":1920}]
["Dare County","North Carolina",1968,2312,2436,2716,2760,{"$f":"ROW()","v":1921}]
["Davidson County","North Carolina",1414,1661,1750,1951,1983,{"$f":"ROW()","v":1922}]
["Davie County","North Carolina",1525,1791,1887,2104,2138,{"$f":"ROW()","v":1923}]
["Duplin County","North Carolina",1390,1632,1720,1918,1949,{"$f":"ROW()","v":1924}]
["Durham County","North Carolina",1749,2054,2164,2413,2452,{"$f":"ROW()","v":1925}]
["Edgecombe County","North Carolina",1371,1610,1697,1892,1923,{"$f":"ROW()","v":1926}]
["Forsyth County","North Carolina",1532,1799,1896,2114,2148,{"$f":"ROW()","v":1927}]
["Franklin County","North Carolina",1584,1860,1960,2185,2221,{"$f":"ROW()","v":1928}]
["Gaston County","North Carolina",1497,1758,1853,2066,2099,{"$f":"ROW()","v":1929}]
["Gates County","North Carolina",1576,1851,1951,2175,2210,{"$f":"ROW()","v":1930}]
["Graham County","North Carolina",1179,1385,1459,1627,1653,{"$f":"ROW()","v":1931}]
["Granville County","North Carolina",1618,1900,2002,2232,2268,{"$f":"ROW()","v":1932}]
["Greene County","North Carolina",1290,1516,1597,1781,1809,{"$f":"ROW()","v":1933}]
["Guilford County","North Carolina",1572,1847,1946,2170,2205,{"$f":"ROW()","v":1934}]
["Halifax County","North Carolina",1382,1624,1711,1908,1939,{"$f":"ROW()","v":1935}]
["Harnett County","North Carolina",1579,1854,1954,2179,2214,{"$f":"ROW()","v":1936}]
["Haywood County","North Carolina",1466,1721,1814,2023,2055,{"$f":"ROW()","v":1937}]
["Henderson County","North Carolina",1643,1930,2034,2268,2305,{"$f":"ROW()","v":1938}]
["Hertford County","North Carolina",1378,1618,1705,1901,1932,{"$f":"ROW()","v":1939}]
["Hoke County","North Carolina",1504,1766,1861,2075,2109,{"$f":"ROW()","v":1940}]
["Hyde County","North Carolina",1458,1713,1805,2013,2045,{"$f":"ROW()","v":1941}]
["Iredell County","North Carolina",1657,1946,2051,2287,2324,{"$f":"ROW()","v":1942}]
["Jackson County","North Carolina",1446,1699,1790,1996,2028,{"$f":"ROW()","v":1943}]
["Johnston County","North Carolina",1589,1866,1966,2192,2227,{"$f":"ROW()","v":1944}]
["Jones County","North Carolina",1395,1639,1727,1926,1957,{"$f":"ROW()","v":1945}]
["Lee County","North Carolina",1510,1774,1869,2084,2118,{"$f":"ROW()","v":1946}]
["Lenoir County","North Carolina",1362,1600,1686,1880,1910,{"$f":"ROW()","v":1947}]
["Lincoln County","North Carolina",1572,1847,1946,2170,2205,{"$f":"ROW()","v":1948}]
["McDowell County","North Carolina",1289,1514,1595,1778,1807,{"$f":"ROW()","v":1949}]
["Macon County","North Carolina",1345,1579,1664,1855,1885,{"$f":"ROW()","v":1950}]
["Madison County","North Carolina",1562,1834,1933,2155,2190,{"$f":"ROW()","v":1951}]
["Martin County","North Carolina",1213,1424,1501,1674,1701,{"$f":"ROW()","v":1952}]
["Mecklenburg County","North Carolina",1801,2115,2229,2485,2525,{"$f":"ROW()","v":1953}]
["Mitchell County","North Carolina",1343,1577,1662,1853,1883,{"$f":"ROW()","v":1954}]
["Montgomery County","North Carolina",1302,1530,1612,1797,1826,{"$f":"ROW()","v":1955}]
["Moore County","North Carolina",1748,2053,2163,2412,2451,{"$f":"ROW()","v":1956}]
["Nash County","North Carolina",1464,1720,1812,2020,2053,{"$f":"ROW()","v":1957}]
["New Hanover Count","North Carolina",1818,2135,2250,2509,2549,{"$f":"ROW()","v":1958}]
["Northampton Count","North Carolina",1395,1639,1727,1926,1957,{"$f":"ROW()","v":1959}]
["Onslow County","North Carolina",1528,1795,1891,2108,2143,{"$f":"ROW()","v":1960}]
["Orange County","North Carolina",2132,2503,2638,2941,2989,{"$f":"ROW()","v":1961}]
["Pamlico County","North Carolina",1558,1830,1928,2150,2184,{"$f":"ROW()","v":1962}]
["Pasquotank County","North Carolina",1669,1960,2065,2302,2340,{"$f":"ROW()","v":1963}]
["Pender County","North Carolina",1761,2069,2180,2431,2470,{"$f":"ROW()","v":1964}]
["Perquimans County","North Carolina",1572,1846,1945,2169,2204,{"$f":"ROW()","v":1965}]
["Person County","North Carolina",1431,1681,1771,1975,2007,{"$f":"ROW()","v":1966}]
["Pitt County","North Carolina",1544,1814,1911,2131,2165,{"$f":"ROW()","v":1967}]
["Polk County","North Carolina",1477,1735,1828,2038,2071,{"$f":"ROW()","v":1968}]
["Randolph County","North Carolina",1358,1595,1681,1874,1905,{"$f":"ROW()","v":1969}]
["Richmond County","North Carolina",1272,1494,1574,1755,1783,{"$f":"ROW()","v":1970}]
["Robeson County","North Carolina",1304,1532,1614,1800,1829,{"$f":"ROW()","v":1971}]
["Rockingham County","North Carolina",1315,1545,1628,1815,1845,{"$f":"ROW()","v":1972}]
["Rowan County","North Carolina",1437,1688,1779,1984,2016,{"$f":"ROW()","v":1973}]
["Rutherford County","North Carolina",1265,1485,1565,1745,1773,{"$f":"ROW()","v":1974}]
["Sampson County","North Carolina",1354,1591,1676,1869,1899,{"$f":"ROW()","v":1975}]
["Scotland County","North Carolina",1324,1555,1639,1827,1857,{"$f":"ROW()","v":1976}]
["Stanly County","North Carolina",1437,1688,1779,1984,2016,{"$f":"ROW()","v":1977}]
["Stokes County","North Carolina",1369,1608,1694,1889,1919,{"$f":"ROW()","v":1978}]
["Surry County","North Carolina",1309,1537,1620,1806,1835,{"$f":"ROW()","v":1979}]
["Swain County","North Carolina",1356,1592,1678,1871,1901,{"$f":"ROW()","v":1980}]
["Transylvania County","North Carolina",1589,1867,1967,2193,2229,{"$f":"ROW()","v":1981}]
["Tyrrell County","North Carolina",1443,1695,1786,1991,2024,{"$f":"ROW()","v":1982}]
["Union County","North Carolina",1872,2199,2317,2583,2625,{"$f":"ROW()","v":1983}]
["Vance County","North Carolina",1406,1651,1740,1940,1971,{"$f":"ROW()","v":1984}]
["Wake County","North Carolina",1975,2319,2444,2725,2769,{"$f":"ROW()","v":1985}]
["Warren County","North Carolina",1345,1580,1665,1856,1886,{"$f":"ROW()","v":1986}]
["Washington County","North Carolina",1357,1594,1680,1873,1903,{"$f":"ROW()","v":1987}]
["Watauga County","North Carolina",1615,1897,1999,2229,2265,{"$f":"ROW()","v":1988}]
["Wayne County","North Carolina",1416,1664,1753,1955,1986,{"$f":"ROW()","v":1989}]
["Wilkes County","North Carolina",1322,1553,1636,1824,1854,{"$f":"ROW()","v":1990}]
["Wilson County","North Carolina",1437,1687,1778,1982,2014,{"$f":"ROW()","v":1991}]
["Yadkin County","North Carolina",1280,1503,1584,1766,1795,{"$f":"ROW()","v":1992}]
["Yancey County","North Carolina",1276,1498,1579,1761,1789,{"$f":"ROW()","v":1993}]
["Adams County","North Dakota",1454,1707,1799,2006,2038,{"$f":"ROW()","v":1994}]
["Barnes County","North Dakota",1444,1696,1787,1993,2025,{"$f":"ROW()","v":1995}]
["Benson County","North Dakota",1454,1708,1800,2007,2039,{"$f":"ROW()","v":1996}]
["Billings County","North Dakota",1593,1871,1972,2199,2234,{"$f":"ROW()","v":1997}]
["Bottineau County","North Dakota",1541,1810,1907,2126,2161,{"$f":"ROW()","v":1998}]
["Bowman County","North Dakota",1309,1537,1620,1806,1835,{"$f":"ROW()","v":1999}]
["Burke County","North Dakota",1403,1647,1736,1936,1967,{"$f":"ROW()","v":2000}]
["Burleigh County","North Dakota",1907,2240,2360,2631,2674,{"$f":"ROW()","v":2001}]
["Cass County","North Dakota",1812,2128,2242,2500,2540,{"$f":"ROW()","v":2002}]
["Cavalier County","North Dakota",1362,1600,1686,1880,1910,{"$f":"ROW()","v":2003}]
["Dickey County","North Dakota",1378,1618,1705,1901,1932,{"$f":"ROW()","v":2004}]
["Divide County","North Dakota",1423,1671,1761,1964,1995,{"$f":"ROW()","v":2005}]
["Dunn County","North Dakota",1596,1874,1975,2202,2238,{"$f":"ROW()","v":2006}]
["Eddy County","North Dakota",1285,1509,1590,1773,1801,{"$f":"ROW()","v":2007}]
["Emmons County","North Dakota",1265,1486,1566,1746,1774,{"$f":"ROW()","v":2008}]
["Foster County","North Dakota",1562,1834,1933,2155,2190,{"$f":"ROW()","v":2009}]
["Golden Valley Count","North Dakota",1296,1522,1604,1788,1817,{"$f":"ROW()","v":2010}]
["Grand Forks County","North Dakota",1742,2046,2156,2404,2443,{"$f":"ROW()","v":2011}]
["Grant County","North Dakota",1301,1528,1610,1795,1824,{"$f":"ROW()","v":2012}]
["Griggs County","North Dakota",1420,1667,1757,1959,1991,{"$f":"ROW()","v":2013}]
["Hettinger County","North Dakota",1425,1674,1764,1967,1999,{"$f":"ROW()","v":2014}]
["Kidder County","North Dakota",1365,1603,1689,1883,1914,{"$f":"ROW()","v":2015}]
["LaMoure County","North Dakota",1408,1653,1742,1942,1974,{"$f":"ROW()","v":2016}]
["Logan County","North Dakota",1297,1523,1605,1790,1818,{"$f":"ROW()","v":2017}]
["McHenry County","North Dakota",1520,1785,1881,2097,2131,{"$f":"ROW()","v":2018}]
["McIntosh County","North Dakota",1235,1450,1528,1704,1731,{"$f":"ROW()","v":2019}]
["McKenzie County","North Dakota",2018,2371,2498,2785,2830,{"$f":"ROW()","v":2020}]
["McLean County","North Dakota",1560,1833,1931,2153,2188,{"$f":"ROW()","v":2021}]
["Mercer County","North Dakota",1676,1968,2074,2313,2350,{"$f":"ROW()","v":2022}]
["Morton County","North Dakota",1719,2019,2128,2373,2411,{"$f":"ROW()","v":2023}]
["Mountrail County","North Dakota",1603,1883,1984,2212,2248,{"$f":"ROW()","v":2024}]
["Nelson County","North Dakota",1363,1601,1687,1881,1911,{"$f":"ROW()","v":2025}]
["Oliver County","North Dakota",1748,2053,2163,2412,2451,{"$f":"ROW()","v":2026}]
["Pembina County","North Dakota",1285,1509,1590,1773,1801,{"$f":"ROW()","v":2027}]
["Pierce County","North Dakota",1463,1719,1811,2019,2052,{"$f":"ROW()","v":2028}]
["Ramsey County","North Dakota",1695,1991,2098,2339,2377,{"$f":"ROW()","v":2029}]
["Ransom County","North Dakota",1502,1764,1859,2073,2106,{"$f":"ROW()","v":2030}]
["Renville County","North Dakota",1513,1777,1872,2087,2121,{"$f":"ROW()","v":2031}]
["Richland County","North Dakota",1497,1758,1853,2066,2099,{"$f":"ROW()","v":2032}]
["Rolette County","North Dakota",1267,1488,1568,1748,1777,{"$f":"ROW()","v":2033}]
["Sargent County","North Dakota",1436,1686,1777,1981,2013,{"$f":"ROW()","v":2034}]
["Sheridan County","North Dakota",1721,2021,2130,2375,2413,{"$f":"ROW()","v":2035}]
["Sioux County","North Dakota",1530,1797,1894,2112,2146,{"$f":"ROW()","v":2036}]
["Slope County","North Dakota",1463,1719,1811,2019,2052,{"$f":"ROW()","v":2037}]
["Stark County","North Dakota",1782,2093,2206,2460,2499,{"$f":"ROW()","v":2038}]
["Steele County","North Dakota",1284,1508,1589,1772,1800,{"$f":"ROW()","v":2039}]
["Stutsman County","North Dakota",1579,1854,1954,2179,2214,{"$f":"ROW()","v":2040}]
["Towner County","North Dakota",1315,1544,1627,1814,1843,{"$f":"ROW()","v":2041}]
["Traill County","North Dakota",1519,1784,1880,2096,2130,{"$f":"ROW()","v":2042}]
["Walsh County","North Dakota",1370,1610,1696,1891,1922,{"$f":"ROW()","v":2043}]
["Ward County","North Dakota",1784,2095,2208,2462,2502,{"$f":"ROW()","v":2044}]
["Wells County","North Dakota",1580,1856,1956,2181,2216,{"$f":"ROW()","v":2045}]
["Williams County","North Dakota",1740,2044,2154,2402,2440,{"$f":"ROW()","v":2046}]
["Adams County","Ohio",1395,1639,1727,1926,1957,{"$f":"ROW()","v":2047}]
["Allen County","Ohio",1366,1604,1690,1884,1915,{"$f":"ROW()","v":2048}]
["Ashland County","Ohio",1364,1602,1688,1882,1913,{"$f":"ROW()","v":2049}]
["Ashtabula County","Ohio",1329,1561,1645,1834,1864,{"$f":"ROW()","v":2050}]
["Athens County","Ohio",1442,1694,1785,1990,2022,{"$f":"ROW()","v":2051}]
["Auglaize County","Ohio",1408,1653,1742,1942,1974,{"$f":"ROW()","v":2052}]
["Belmont County","Ohio",1262,1482,1562,1742,1770,{"$f":"ROW()","v":2053}]
["Brown County","Ohio",1384,1626,1713,1910,1941,{"$f":"ROW()","v":2054}]
["Butler County","Ohio",1690,1985,2092,2333,2370,{"$f":"ROW()","v":2055}]
["Carroll County","Ohio",1427,1676,1766,1969,2001,{"$f":"ROW()","v":2056}]
["Champaign County","Ohio",1418,1665,1755,1957,1988,{"$f":"ROW()","v":2057}]
["Clark County","Ohio",1352,1588,1673,1865,1896,{"$f":"ROW()","v":2058}]
["Clermont County","Ohio",1656,1945,2049,2285,2322,{"$f":"ROW()","v":2059}]
["Clinton County","Ohio",1427,1676,1766,1969,2001,{"$f":"ROW()","v":2060}]
["Columbiana County","Ohio",1281,1505,1586,1768,1797,{"$f":"ROW()","v":2061}]
["Coshocton County","Ohio",1250,1468,1547,1725,1753,{"$f":"ROW()","v":2062}]
["Crawford County","Ohio",1187,1394,1469,1638,1664,{"$f":"ROW()","v":2063}]
["Cuyahoga County","Ohio",1598,1877,1978,2205,2241,{"$f":"ROW()","v":2064}]
["Darke County","Ohio",1358,1595,1681,1874,1905,{"$f":"ROW()","v":2065}]
["Defiance County","Ohio",1326,1557,1641,1830,1859,{"$f":"ROW()","v":2066}]
["Delaware County","Ohio",2352,2763,2911,3246,3298,{"$f":"ROW()","v":2067}]
["Erie County","Ohio",1429,1678,1768,1971,2003,{"$f":"ROW()","v":2068}]
["Fairfield County","Ohio",1744,2048,2158,2406,2445,{"$f":"ROW()","v":2069}]
["Fayette County","Ohio",1332,1565,1649,1839,1868,{"$f":"ROW()","v":2070}]
["Franklin County","Ohio",1753,2058,2169,2418,2457,{"$f":"ROW()","v":2071}]
["Fulton County","Ohio",1432,1682,1772,1976,2008,{"$f":"ROW()","v":2072}]
["Gallia County","Ohio",1433,1684,1774,1978,2010,{"$f":"ROW()","v":2073}]
["Geauga County","Ohio",1942,2281,2404,2680,2724,{"$f":"ROW()","v":2074}]
["Greene County","Ohio",1717,2017,2125,2369,2408,{"$f":"ROW()","v":2075}]
["Guernsey County","Ohio",1316,1546,1629,1816,1846,{"$f":"ROW()","v":2076}]
["Hamilton County","Ohio",1671,1963,2068,2306,2343,{"$f":"ROW()","v":2077}]
["Hancock County","Ohio",1456,1710,1802,2009,2042,{"$f":"ROW()","v":2078}]
["Hardin County","Ohio",1347,1582,1667,1859,1889,{"$f":"ROW()","v":2079}]
["Harrison County","Ohio",1215,1427,1504,1677,1704,{"$f":"ROW()","v":2080}]
["Henry County","Ohio",1379,1620,1707,1903,1934,{"$f":"ROW()","v":2081}]
["Highland County","Ohio",1335,1568,1652,1842,1872,{"$f":"ROW()","v":2082}]
["Hocking County","Ohio",1415,1662,1751,1952,1984,{"$f":"ROW()","v":2083}]
["Holmes County","Ohio",1568,1842,1941,2164,2199,{"$f":"ROW()","v":2084}]
["Huron County","Ohio",1351,1587,1672,1864,1894,{"$f":"ROW()","v":2085}]
["Jackson County","Ohio",1347,1582,1667,1859,1889,{"$f":"ROW()","v":2086}]
["Jefferson County","Ohio",1301,1528,1610,1795,1824,{"$f":"ROW()","v":2087}]
["Knox County","Ohio",1495,1756,1850,2063,2096,{"$f":"ROW()","v":2088}]
["Lake County","Ohio",1569,1843,1942,2165,2200,{"$f":"ROW()","v":2089}]
["Lawrence County","Ohio",1332,1565,1649,1839,1868,{"$f":"ROW()","v":2090}]
["Licking County","Ohio",1682,1976,2082,2321,2359,{"$f":"ROW()","v":2091}]
["Logan County","Ohio",1403,1647,1736,1936,1967,{"$f":"ROW()","v":2092}]
["Lorain County","Ohio",1587,1864,1964,2190,2225,{"$f":"ROW()","v":2093}]
["Lucas County","Ohio",1489,1749,1843,2055,2088,{"$f":"ROW()","v":2094}]
["Madison County","Ohio",1590,1868,1968,2194,2230,{"$f":"ROW()","v":2095}]
["Mahoning County","Ohio",1360,1597,1683,1877,1907,{"$f":"ROW()","v":2096}]
["Marion County","Ohio",1318,1548,1631,1819,1848,{"$f":"ROW()","v":2097}]
["Medina County","Ohio",1744,2049,2159,2407,2446,{"$f":"ROW()","v":2098}]
["Meigs County","Ohio",1260,1479,1559,1738,1766,{"$f":"ROW()","v":2099}]
["Mercer County","Ohio",1430,1680,1770,1974,2005,{"$f":"ROW()","v":2100}]
["Miami County","Ohio",1468,1724,1817,2026,2059,{"$f":"ROW()","v":2101}]
["Monroe County","Ohio",1232,1447,1525,1700,1728,{"$f":"ROW()","v":2102}]
["Montgomery County","Ohio",1483,1742,1836,2047,2080,{"$f":"ROW()","v":2103}]
["Morgan County","Ohio",1244,1461,1540,1717,1745,{"$f":"ROW()","v":2104}]
["Morrow County","Ohio",1531,1798,1895,2113,2147,{"$f":"ROW()","v":2105}]
["Muskingum County","Ohio",1378,1619,1706,1902,1933,{"$f":"ROW()","v":2106}]
["Noble County","Ohio",1290,1516,1597,1781,1809,{"$f":"ROW()","v":2107}]
["Ottawa County","Ohio",1510,1774,1869,2084,2118,{"$f":"ROW()","v":2108}]
["Paulding County","Ohio",1277,1500,1581,1763,1791,{"$f":"ROW()","v":2109}]
["Perry County","Ohio",1386,1628,1715,1912,1943,{"$f":"ROW()","v":2110}]
["Pickaway County","Ohio",1650,1938,2042,2277,2314,{"$f":"ROW()","v":2111}]
["Pike County","Ohio",1365,1603,1689,1883,1914,{"$f":"ROW()","v":2112}]
["Portage County","Ohio",1600,1879,1980,2208,2243,{"$f":"ROW()","v":2113}]
["Preble County","Ohio",1387,1628,1716,1913,1944,{"$f":"ROW()","v":2114}]
["Putnam County","Ohio",1458,1712,1804,2011,2044,{"$f":"ROW()","v":2115}]
["Richland County","Ohio",1342,1576,1661,1852,1882,{"$f":"ROW()","v":2116}]
["Ross County","Ohio",1458,1712,1804,2011,2044,{"$f":"ROW()","v":2117}]
["Sandusky County","Ohio",1343,1577,1662,1853,1883,{"$f":"ROW()","v":2118}]
["Scioto County","Ohio",1370,1609,1695,1890,1920,{"$f":"ROW()","v":2119}]
["Seneca County","Ohio",1295,1521,1603,1787,1816,{"$f":"ROW()","v":2120}]
["Shelby County","Ohio",1458,1712,1804,2011,2044,{"$f":"ROW()","v":2121}]
["Stark County","Ohio",1413,1660,1749,1950,1982,{"$f":"ROW()","v":2122}]
["Summit County","Ohio",1524,1790,1886,2103,2137,{"$f":"ROW()","v":2123}]
["Trumbull County","Ohio",1293,1518,1600,1784,1813,{"$f":"ROW()","v":2124}]
["Tuscarawas County","Ohio",1403,1647,1736,1936,1967,{"$f":"ROW()","v":2125}]
["Union County","Ohio",1887,2216,2335,2604,2646,{"$f":"ROW()","v":2126}]
["Van Wert County","Ohio",1211,1423,1499,1671,1698,{"$f":"ROW()","v":2127}]
["Vinton County","Ohio",1276,1498,1579,1761,1789,{"$f":"ROW()","v":2128}]
["Warren County","Ohio",1912,2245,2366,2638,2681,{"$f":"ROW()","v":2129}]
["Washington County","Ohio",1367,1606,1692,1887,1917,{"$f":"ROW()","v":2130}]
["Wayne County","Ohio",1472,1729,1822,2032,2064,{"$f":"ROW()","v":2131}]
["Williams County","Ohio",1290,1516,1597,1781,1809,{"$f":"ROW()","v":2132}]
["Wood County","Ohio",1650,1938,2042,2277,2314,{"$f":"ROW()","v":2133}]
["Wyandot County","Ohio",1378,1618,1705,1901,1932,{"$f":"ROW()","v":2134}]
["Adair County","Oklahoma",1153,1354,1427,1591,1617,{"$f":"ROW()","v":2135}]
["Alfalfa County","Oklahoma",1259,1479,1558,1737,1765,{"$f":"ROW()","v":2136}]
["Atoka County","Oklahoma",1350,1586,1671,1863,1893,{"$f":"ROW()","v":2137}]
["Beaver County","Oklahoma",1506,1769,1864,2078,2112,{"$f":"ROW()","v":2138}]
["Beckham County","Oklahoma",1454,1708,1800,2007,2039,{"$f":"ROW()","v":2139}]
["Blaine County","Oklahoma",1395,1639,1727,1926,1957,{"$f":"ROW()","v":2140}]
["Bryan County","Oklahoma",1387,1629,1717,1914,1945,{"$f":"ROW()","v":2141}]
["Caddo County","Oklahoma",1231,1445,1523,1698,1726,{"$f":"ROW()","v":2142}]
["Canadian County","Oklahoma",1704,2001,2109,2352,2389,{"$f":"ROW()","v":2143}]
["Carter County","Oklahoma",1491,1751,1845,2057,2090,{"$f":"ROW()","v":2144}]
["Cherokee County","Oklahoma",1349,1585,1670,1862,1892,{"$f":"ROW()","v":2145}]
["Choctaw County","Oklahoma",1218,1431,1508,1681,1709,{"$f":"ROW()","v":2146}]
["Cimarron County","Oklahoma",1136,1334,1406,1568,1593,{"$f":"ROW()","v":2147}]
["Cleveland County","Oklahoma",1689,1983,2090,2330,2368,{"$f":"ROW()","v":2148}]
["Coal County","Oklahoma",1228,1442,1520,1695,1722,{"$f":"ROW()","v":2149}]
["Comanche County","Oklahoma",1470,1726,1819,2028,2061,{"$f":"ROW()","v":2150}]
["Cotton County","Oklahoma",1311,1539,1622,1809,1838,{"$f":"ROW()","v":2151}]
["Craig County","Oklahoma",1326,1557,1641,1830,1859,{"$f":"ROW()","v":2152}]
["Creek County","Oklahoma",1450,1703,1795,2001,2034,{"$f":"ROW()","v":2153}]
["Custer County","Oklahoma",1554,1825,1923,2144,2179,{"$f":"ROW()","v":2154}]
["Delaware County","Oklahoma",1437,1687,1778,1982,2014,{"$f":"ROW()","v":2155}]
["Dewey County","Oklahoma",1315,1544,1627,1814,1843,{"$f":"ROW()","v":2156}]
["Ellis County","Oklahoma",1282,1506,1587,1770,1798,{"$f":"ROW()","v":2157}]
["Garfield County","Oklahoma",1408,1653,1742,1942,1974,{"$f":"ROW()","v":2158}]
["Garvin County","Oklahoma",1369,1608,1694,1889,1919,{"$f":"ROW()","v":2159}]
["Grady County","Oklahoma",1536,1804,1901,2120,2154,{"$f":"ROW()","v":2160}]
["Grant County","Oklahoma",1229,1443,1521,1696,1723,{"$f":"ROW()","v":2161}]
["Greer County","Oklahoma",1280,1503,1584,1766,1795,{"$f":"ROW()","v":2162}]
["Harmon County","Oklahoma",1252,1471,1550,1728,1756,{"$f":"ROW()","v":2163}]
["Harper County","Oklahoma",1270,1492,1572,1753,1781,{"$f":"ROW()","v":2164}]
["Haskell County","Oklahoma",1239,1456,1534,1710,1738,{"$f":"ROW()","v":2165}]
["Hughes County","Oklahoma",1200,1409,1485,1656,1683,{"$f":"ROW()","v":2166}]
["Jackson County","Oklahoma",1371,1610,1697,1892,1923,{"$f":"ROW()","v":2167}]
["Jefferson County","Oklahoma",1150,1350,1423,1587,1612,{"$f":"ROW()","v":2168}]
["Johnston County","Oklahoma",1255,1474,1553,1732,1760,{"$f":"ROW()","v":2169}]
["Kay County","Oklahoma",1324,1555,1639,1827,1857,{"$f":"ROW()","v":2170}]
["Kingfisher County","Oklahoma",1463,1719,1811,2019,2052,{"$f":"ROW()","v":2171}]
["Kiowa County","Oklahoma",1245,1462,1541,1718,1746,{"$f":"ROW()","v":2172}]
["Latimer County","Oklahoma",1244,1461,1540,1717,1745,{"$f":"ROW()","v":2173}]
["Le Flore County","Oklahoma",1243,1460,1538,1715,1743,{"$f":"ROW()","v":2174}]
["Lincoln County","Oklahoma",1398,1642,1730,1929,1960,{"$f":"ROW()","v":2175}]
["Logan County","Oklahoma",1726,2027,2136,2382,2420,{"$f":"ROW()","v":2176}]
["Love County","Oklahoma",1399,1644,1732,1931,1962,{"$f":"ROW()","v":2177}]
["McClain County","Oklahoma",1753,2058,2169,2418,2457,{"$f":"ROW()","v":2178}]
["McCurtain County","Oklahoma",1269,1491,1571,1752,1780,{"$f":"ROW()","v":2179}]
["McIntosh County","Oklahoma",1263,1483,1563,1743,1771,{"$f":"ROW()","v":2180}]
["Major County","Oklahoma",1391,1633,1721,1919,1950,{"$f":"ROW()","v":2181}]
["Marshall County","Oklahoma",1319,1550,1633,1821,1850,{"$f":"ROW()","v":2182}]
["Mayes County","Oklahoma",1421,1669,1759,1961,1993,{"$f":"ROW()","v":2183}]
["Murray County","Oklahoma",1290,1516,1597,1781,1809,{"$f":"ROW()","v":2184}]
["Muskogee County","Oklahoma",1359,1596,1682,1875,1906,{"$f":"ROW()","v":2185}]
["Noble County","Oklahoma",1382,1623,1710,1907,1937,{"$f":"ROW()","v":2186}]
["Nowata County","Oklahoma",1356,1592,1678,1871,1901,{"$f":"ROW()","v":2187}]
["Okfuskee County","Oklahoma",1222,1435,1512,1686,1713,{"$f":"ROW()","v":2188}]
["Oklahoma County","Oklahoma",1644,1931,2035,2269,2306,{"$f":"ROW()","v":2189}]
["Okmulgee County","Oklahoma",1316,1546,1629,1816,1846,{"$f":"ROW()","v":2190}]
["Osage County","Oklahoma",1486,1745,1839,2050,2084,{"$f":"ROW()","v":2191}]
["Ottawa County","Oklahoma",1224,1438,1515,1689,1716,{"$f":"ROW()","v":2192}]
["Pawnee County","Oklahoma",1405,1650,1739,1939,1970,{"$f":"ROW()","v":2193}]
["Payne County","Oklahoma",1630,1914,2017,2249,2285,{"$f":"ROW()","v":2194}]
["Pittsburg County","Oklahoma",1322,1553,1636,1824,1854,{"$f":"ROW()","v":2195}]
["Pontotoc County","Oklahoma",1414,1661,1750,1951,1983,{"$f":"ROW()","v":2196}]
["Pottawatomie Count","Oklahoma",1391,1634,1722,1920,1951,{"$f":"ROW()","v":2197}]
["Pushmataha County","Oklahoma",1215,1427,1504,1677,1704,{"$f":"ROW()","v":2198}]
["Roger Mills County","Oklahoma",1332,1565,1649,1839,1868,{"$f":"ROW()","v":2199}]
["Rogers County","Oklahoma",1610,1891,1993,2222,2258,{"$f":"ROW()","v":2200}]
["Seminole County","Oklahoma",1299,1526,1608,1793,1822,{"$f":"ROW()","v":2201}]
["Sequoyah County","Oklahoma",1273,1495,1575,1756,1784,{"$f":"ROW()","v":2202}]
["Stephens County","Oklahoma",1370,1610,1696,1891,1922,{"$f":"ROW()","v":2203}]
["Texas County","Oklahoma",1403,1647,1736,1936,1967,{"$f":"ROW()","v":2204}]
["Tillman County","Oklahoma",1225,1439,1516,1690,1718,{"$f":"ROW()","v":2205}]
["Tulsa County","Oklahoma",1631,1916,2019,2251,2288,{"$f":"ROW()","v":2206}]
["Wagoner County","Oklahoma",1582,1858,1958,2183,2218,{"$f":"ROW()","v":2207}]
["Washington County","Oklahoma",1433,1683,1773,1977,2009,{"$f":"ROW()","v":2208}]
["Washita County","Oklahoma",1330,1562,1646,1835,1865,{"$f":"ROW()","v":2209}]
["Woods County","Oklahoma",1361,1599,1685,1879,1909,{"$f":"ROW()","v":2210}]
["Woodward County","Oklahoma",1518,1783,1879,2095,2129,{"$f":"ROW()","v":2211}]
["Baker County","Oregon",1406,1651,1740,1940,1971,{"$f":"ROW()","v":2212}]
["Benton County","Oregon",2052,2410,2540,2832,2878,{"$f":"ROW()","v":2213}]
["Clackamas County","Oregon",2339,2747,2895,3228,3280,{"$f":"ROW()","v":2214}]
["Clatsop County","Oregon",1886,2215,2334,2602,2644,{"$f":"ROW()","v":2215}]
["Columbia County","Oregon",1899,2230,2350,2620,2663,{"$f":"ROW()","v":2216}]
["Coos County","Oregon",1641,1927,2031,2265,2301,{"$f":"ROW()","v":2217}]
["Crook County","Oregon",1740,2043,2153,2401,2439,{"$f":"ROW()","v":2218}]
["Curry County","Oregon",1708,2006,2114,2357,2395,{"$f":"ROW()","v":2219}]
["Deschutes County","Oregon",2068,2428,2559,2853,2899,{"$f":"ROW()","v":2220}]
["Douglas County","Oregon",1586,1863,1963,2189,2224,{"$f":"ROW()","v":2221}]
["Gilliam County","Oregon",1384,1626,1713,1910,1941,{"$f":"ROW()","v":2222}]
["Grant County","Oregon",1325,1556,1640,1829,1858,{"$f":"ROW()","v":2223}]
["Harney County","Oregon",1243,1460,1538,1715,1743,{"$f":"ROW()","v":2224}]
["Hood River County","Oregon",2178,2559,2696,3006,3055,{"$f":"ROW()","v":2225}]
["Jackson County","Oregon",1867,2193,2311,2577,2618,{"$f":"ROW()","v":2226}]
["Jefferson County","Oregon",1683,1977,2083,2323,2360,{"$f":"ROW()","v":2227}]
["Josephine County","Oregon",1738,2041,2151,2398,2437,{"$f":"ROW()","v":2228}]
["Klamath County","Oregon",1537,1805,1902,2121,2155,{"$f":"ROW()","v":2229}]
["Lake County","Oregon",1357,1593,1679,1872,1902,{"$f":"ROW()","v":2230}]
["Lane County","Oregon",1864,2189,2307,2572,2614,{"$f":"ROW()","v":2231}]
["Lincoln County","Oregon",1723,2024,2133,2378,2417,{"$f":"ROW()","v":2232}]
["Linn County","Oregon",1739,2042,2152,2399,2438,{"$f":"ROW()","v":2233}]
["Malheur County","Oregon",1433,1684,1774,1978,2010,{"$f":"ROW()","v":2234}]
["Marion County","Oregon",1834,2154,2270,2531,2572,{"$f":"ROW()","v":2235}]
["Morrow County","Oregon",1451,1704,1796,2003,2035,{"$f":"ROW()","v":2236}]
["Multnomah County","Oregon",2274,2670,2814,3138,3188,{"$f":"ROW()","v":2237}]
["Polk County","Oregon",1912,2245,2366,2638,2681,{"$f":"ROW()","v":2238}]
["Sherman County","Oregon",1409,1655,1744,1945,1976,{"$f":"ROW()","v":2239}]
["Tillamook County","Oregon",1718,2018,2126,2370,2409,{"$f":"ROW()","v":2240}]
["Umatilla County","Oregon",1600,1879,1980,2208,2243,{"$f":"ROW()","v":2241}]
["Union County","Oregon",1547,1816,1914,2134,2169,{"$f":"ROW()","v":2242}]
["Wallowa County","Oregon",1676,1968,2074,2313,2350,{"$f":"ROW()","v":2243}]
["Wasco County","Oregon",1697,1993,2100,2342,2379,{"$f":"ROW()","v":2244}]
["Washington County","Oregon",2303,2705,2850,3178,3229,{"$f":"ROW()","v":2245}]
["Wheeler County","Oregon",1406,1651,1740,1940,1971,{"$f":"ROW()","v":2246}]
["Yamhill County","Oregon",1984,2330,2455,2737,2782,{"$f":"ROW()","v":2247}]
["Adams County","Pennsylvania",1797,2111,2224,2480,2520,{"$f":"ROW()","v":2248}]
["Allegheny County","Pennsylvania",1657,1946,2051,2287,2324,{"$f":"ROW()","v":2249}]
["Armstrong County","Pennsylvania",1375,1615,1702,1898,1928,{"$f":"ROW()","v":2250}]
["Beaver County","Pennsylvania",1505,1768,1863,2077,2111,{"$f":"ROW()","v":2251}]
["Bedford County","Pennsylvania",1394,1637,1725,1923,1954,{"$f":"ROW()","v":2252}]
["Berks County","Pennsylvania",1793,2106,2219,2474,2514,{"$f":"ROW()","v":2253}]
["Blair County","Pennsylvania",1368,1607,1693,1888,1918,{"$f":"ROW()","v":2254}]
["Bradford County","Pennsylvania",1424,1672,1762,1965,1996,{"$f":"ROW()","v":2255}]
["Bucks County","Pennsylvania",2376,2790,2940,3278,3331,{"$f":"ROW()","v":2256}]
["Butler County","Pennsylvania",1813,2130,2244,2502,2542,{"$f":"ROW()","v":2257}]
["Cambria County","Pennsylvania",1322,1553,1636,1824,1854,{"$f":"ROW()","v":2258}]
["Cameron County","Pennsylvania",1244,1461,1540,1717,1745,{"$f":"ROW()","v":2259}]
["Carbon County","Pennsylvania",1566,1839,1938,2161,2196,{"$f":"ROW()","v":2260}]
["Centre County","Pennsylvania",1884,2213,2332,2600,2642,{"$f":"ROW()","v":2261}]
["Chester County","Pennsylvania",2510,2949,3107,3464,3520,{"$f":"ROW()","v":2262}]
["Clarion County","Pennsylvania",1319,1549,1632,1820,1849,{"$f":"ROW()","v":2263}]
["Clearfield County","Pennsylvania",1298,1525,1607,1792,1821,{"$f":"ROW()","v":2264}]
["Clinton County","Pennsylvania",1397,1641,1729,1928,1959,{"$f":"ROW()","v":2265}]
["Columbia County","Pennsylvania",1485,1744,1838,2049,2082,{"$f":"ROW()","v":2266}]
["Crawford County","Pennsylvania",1349,1585,1670,1862,1892,{"$f":"ROW()","v":2267}]
["Cumberland County","Pennsylvania",1768,2076,2188,2440,2479,{"$f":"ROW()","v":2268}]
["Dauphin County","Pennsylvania",1669,1961,2066,2304,2341,{"$f":"ROW()","v":2269}]
["Delaware County","Pennsylvania",2144,2519,2654,2959,3007,{"$f":"ROW()","v":2270}]
["Elk County","Pennsylvania",1290,1515,1596,1780,1808,{"$f":"ROW()","v":2271}]
["Erie County","Pennsylvania",1475,1733,1826,2036,2069,{"$f":"ROW()","v":2272}]
["Fayette County","Pennsylvania",1373,1612,1699,1894,1925,{"$f":"ROW()","v":2273}]
["Forest County","Pennsylvania",1135,1333,1405,1567,1592,{"$f":"ROW()","v":2274}]
["Franklin County","Pennsylvania",1635,1921,2024,2257,2293,{"$f":"ROW()","v":2275}]
["Fulton County","Pennsylvania",1552,1823,1921,2142,2176,{"$f":"ROW()","v":2276}]
["Greene County","Pennsylvania",1322,1553,1636,1824,1854,{"$f":"ROW()","v":2277}]
["Huntingdon County","Pennsylvania",1417,1665,1754,1956,1987,{"$f":"ROW()","v":2278}]
["Indiana County","Pennsylvania",1384,1626,1713,1910,1941,{"$f":"ROW()","v":2279}]
["Jefferson County","Pennsylvania",1228,1442,1520,1695,1722,{"$f":"ROW()","v":2280}]
["Juniata County","Pennsylvania",1411,1657,1746,1947,1978,{"$f":"ROW()","v":2281}]
["Lackawanna County","Pennsylvania",1595,1873,1974,2201,2237,{"$f":"ROW()","v":2282}]
["Lancaster County","Pennsylvania",1799,2113,2227,2483,2523,{"$f":"ROW()","v":2283}]
["Lawrence County","Pennsylvania",1378,1618,1705,1901,1932,{"$f":"ROW()","v":2284}]
["Lebanon County","Pennsylvania",1635,1920,2023,2256,2292,{"$f":"ROW()","v":2285}]
["Lehigh County","Pennsylvania",1843,2165,2281,2543,2584,{"$f":"ROW()","v":2286}]
["Luzerne County","Pennsylvania",1493,1754,1848,2061,2094,{"$f":"ROW()","v":2287}]
["Lycoming County","Pennsylvania",1511,1775,1870,2085,2119,{"$f":"ROW()","v":2288}]
["McKean County","Pennsylvania",1200,1409,1485,1656,1683,{"$f":"ROW()","v":2289}]
["Mercer County","Pennsylvania",1349,1585,1670,1862,1892,{"$f":"ROW()","v":2290}]
["Mifflin County","Pennsylvania",1371,1610,1697,1892,1923,{"$f":"ROW()","v":2291}]
["Monroe County","Pennsylvania",1857,2181,2298,2562,2604,{"$f":"ROW()","v":2292}]
["Montgomery County","Pennsylvania",2340,2748,2896,3229,3281,{"$f":"ROW()","v":2293}]
["Montour County","Pennsylvania",1604,1884,1985,2213,2249,{"$f":"ROW()","v":2294}]
["Northampton Count","Pennsylvania",1932,2269,2391,2666,2709,{"$f":"ROW()","v":2295}]
["Northumberland Co","Pennsylvania",1371,1610,1697,1892,1923,{"$f":"ROW()","v":2296}]
["Perry County","Pennsylvania",1621,1904,2006,2237,2273,{"$f":"ROW()","v":2297}]
["Philadelphia County","Pennsylvania",1618,1900,2002,2232,2268,{"$f":"ROW()","v":2298}]
["Pike County","Pennsylvania",1761,2069,2180,2431,2470,{"$f":"ROW()","v":2299}]
["Potter County","Pennsylvania",1333,1566,1650,1840,1869,{"$f":"ROW()","v":2300}]
["Schuylkill County","Pennsylvania",1411,1657,1746,1947,1978,{"$f":"ROW()","v":2301}]
["Snyder County","Pennsylvania",1485,1744,1838,2049,2082,{"$f":"ROW()","v":2302}]
["Somerset County","Pennsylvania",1334,1567,1651,1841,1871,{"$f":"ROW()","v":2303}]
["Sullivan County","Pennsylvania",1422,1670,1760,1962,1994,{"$f":"ROW()","v":2304}]
["Susquehanna County","Pennsylvania",1528,1795,1891,2108,2143,{"$f":"ROW()","v":2305}]
["Tioga County","Pennsylvania",1467,1723,1816,2025,2058,{"$f":"ROW()","v":2306}]
["Union County","Pennsylvania",1626,1909,2012,2243,2280,{"$f":"ROW()","v":2307}]
["Venango County","Pennsylvania",1298,1524,1606,1791,1820,{"$f":"ROW()","v":2308}]
["Warren County","Pennsylvania",1295,1521,1603,1787,1816,{"$f":"ROW()","v":2309}]
["Washington County","Pennsylvania",1613,1894,1996,2226,2261,{"$f":"ROW()","v":2310}]
["Wayne County","Pennsylvania",1652,1940,2044,2279,2316,{"$f":"ROW()","v":2311}]
["Westmoreland Coun","Pennsylvania",1517,1781,1877,2093,2127,{"$f":"ROW()","v":2312}]
["Wyoming County","Pennsylvania",1568,1842,1941,2164,2199,{"$f":"ROW()","v":2313}]
["York County","Pennsylvania",1776,2086,2198,2451,2490,{"$f":"ROW()","v":2314}]
["Adjuntas Municipio","Puerto Rico",1035,1216,1281,1428,1451,{"$f":"ROW()","v":2315}]
["Aguada Municipio","Puerto Rico",1165,1368,1442,1608,1634,{"$f":"ROW()","v":2316}]
["Aguadilla Municipio","Puerto Rico",1097,1289,1358,1514,1539,{"$f":"ROW()","v":2317}]
["Aguas Buenas Munic","Puerto Rico",1134,1332,1404,1565,1591,{"$f":"ROW()","v":2318}]
["Aibonito Municipio","Puerto Rico",1033,1214,1279,1426,1449,{"$f":"ROW()","v":2319}]
["Añasco Municipio","Puerto Rico",1048,1231,1297,1446,1470,{"$f":"ROW()","v":2320}]
["Arecibo Municipio","Puerto Rico",987,1159,1221,1361,1383,{"$f":"ROW()","v":2321}]
["Arroyo Municipio","Puerto Rico",884,1038,1094,1220,1240,{"$f":"ROW()","v":2322}]
["Barceloneta Municip","Puerto Rico",1065,1251,1318,1470,1493,{"$f":"ROW()","v":2323}]
["Barranquitas Munici","Puerto Rico",1018,1196,1260,1405,1428,{"$f":"ROW()","v":2324}]
["Bayamón Municipio","Puerto Rico",1193,1402,1477,1647,1673,{"$f":"ROW()","v":2325}]
["Cabo Rojo Municipio","Puerto Rico",1033,1213,1278,1425,1448,{"$f":"ROW()","v":2326}]
["Caguas Municipio","Puerto Rico",1172,1377,1451,1618,1644,{"$f":"ROW()","v":2327}]
["Camuy Municipio","Puerto Rico",1031,1211,1276,1423,1446,{"$f":"ROW()","v":2328}]
["Canóvanas Municipi","Puerto Rico",1206,1417,1493,1665,1692,{"$f":"ROW()","v":2329}]
["Carolina Municipio","Puerto Rico",1268,1489,1569,1749,1778,{"$f":"ROW()","v":2330}]
["Cataño Municipio","Puerto Rico",1269,1491,1571,1752,1780,{"$f":"ROW()","v":2331}]
["Cayey Municipio","Puerto Rico",1161,1364,1437,1602,1628,{"$f":"ROW()","v":2332}]
["Ceiba Municipio","Puerto Rico",931,1093,1152,1284,1305,{"$f":"ROW()","v":2333}]
["Ciales Municipio","Puerto Rico",937,1101,1160,1293,1314,{"$f":"ROW()","v":2334}]
["Cidra Municipio","Puerto Rico",1122,1317,1388,1548,1573,{"$f":"ROW()","v":2335}]
["Coamo Municipio","Puerto Rico",1031,1211,1276,1423,1446,{"$f":"ROW()","v":2336}]
["Comerío Municipio","Puerto Rico",997,1171,1234,1376,1398,{"$f":"ROW()","v":2337}]
["Corozal Municipio","Puerto Rico",1040,1221,1287,1435,1458,{"$f":"ROW()","v":2338}]
["Culebra Municipio","Puerto Rico",1547,1816,1914,2134,2169,{"$f":"ROW()","v":2339}]
["Dorado Municipio","Puerto Rico",1475,1733,1826,2036,2069,{"$f":"ROW()","v":2340}]
["Fajardo Municipio","Puerto Rico",1003,1178,1241,1384,1406,{"$f":"ROW()","v":2341}]
["Florida Municipio","Puerto Rico",929,1091,1150,1282,1303,{"$f":"ROW()","v":2342}]
["Guánica Municipio","Puerto Rico",993,1166,1229,1370,1392,{"$f":"ROW()","v":2343}]
["Guayama Municipio","Puerto Rico",957,1125,1185,1321,1343,{"$f":"ROW()","v":2344}]
["Guayanilla Municipio","Puerto Rico",1032,1212,1277,1424,1447,{"$f":"ROW()","v":2345}]
["Guaynabo Municipio","Puerto Rico",1601,1881,1982,2210,2246,{"$f":"ROW()","v":2346}]
["Gurabo Municipio","Puerto Rico",1318,1548,1631,1819,1848,{"$f":"ROW()","v":2347}]
["Hatillo Municipio","Puerto Rico",1096,1288,1357,1513,1537,{"$f":"ROW()","v":2348}]
["Hormigueros Munici","Puerto Rico",985,1157,1219,1359,1381,{"$f":"ROW()","v":2349}]
["Humacao Municipio","Puerto Rico",1075,1262,1330,1483,1507,{"$f":"ROW()","v":2350}]
["Isabela Municipio","Puerto Rico",1027,1206,1271,1417,1440,{"$f":"ROW()","v":2351}]
["Jayuya Municipio","Puerto Rico",997,1171,1234,1376,1398,{"$f":"ROW()","v":2352}]
["Juana Díaz Municipio","Puerto Rico",1058,1242,1309,1460,1483,{"$f":"ROW()","v":2353}]
["Juncos Municipio","Puerto Rico",1062,1247,1314,1465,1489,{"$f":"ROW()","v":2354}]
["Lajas Municipio","Puerto Rico",878,1032,1087,1212,1232,{"$f":"ROW()","v":2355}]
["Lares Municipio","Puerto Rico",961,1128,1189,1326,1347,{"$f":"ROW()","v":2356}]
["Las Marías Municipio","Puerto Rico",938,1102,1161,1295,1315,{"$f":"ROW()","v":2357}]
["Las Piedras Municipi","Puerto Rico",1086,1275,1344,1499,1523,{"$f":"ROW()","v":2358}]
["Loíza Municipio","Puerto Rico",1012,1189,1253,1397,1420,{"$f":"ROW()","v":2359}]
["Luquillo Municipio","Puerto Rico",1058,1242,1309,1460,1483,{"$f":"ROW()","v":2360}]
["Manatí Municipio","Puerto Rico",1055,1239,1306,1456,1480,{"$f":"ROW()","v":2361}]
["Maricao Municipio","Puerto Rico",858,1008,1062,1184,1203,{"$f":"ROW()","v":2362}]
["Maunabo Municipio","Puerto Rico",967,1136,1197,1335,1356,{"$f":"ROW()","v":2363}]
["Mayagüez Municipio","Puerto Rico",1075,1262,1330,1483,1507,{"$f":"ROW()","v":2364}]
["Moca Municipio","Puerto Rico",1027,1206,1271,1417,1440,{"$f":"ROW()","v":2365}]
["Morovis Municipio","Puerto Rico",1011,1187,1251,1395,1417,{"$f":"ROW()","v":2366}]
["Naguabo Municipio","Puerto Rico",927,1089,1147,1279,1300,{"$f":"ROW()","v":2367}]
["Naranjito Municipio","Puerto Rico",1002,1177,1240,1383,1405,{"$f":"ROW()","v":2368}]
["Orocovis Municipio","Puerto Rico",969,1138,1199,1337,1358,{"$f":"ROW()","v":2369}]
["Patillas Municipio","Puerto Rico",943,1107,1167,1301,1322,{"$f":"ROW()","v":2370}]
["Peñuelas Municipio","Puerto Rico",975,1145,1207,1346,1368,{"$f":"ROW()","v":2371}]
["Ponce Municipio","Puerto Rico",1052,1236,1302,1452,1475,{"$f":"ROW()","v":2372}]
["Quebradillas Munici","Puerto Rico",963,1131,1192,1329,1351,{"$f":"ROW()","v":2373}]
["Rincón Municipio","Puerto Rico",1185,1391,1466,1635,1661,{"$f":"ROW()","v":2374}]
["Río Grande Municipi","Puerto Rico",1152,1353,1426,1590,1616,{"$f":"ROW()","v":2375}]
["Sabana Grande Mun","Puerto Rico",973,1143,1204,1342,1364,{"$f":"ROW()","v":2376}]
["Salinas Municipio","Puerto Rico",961,1128,1189,1326,1347,{"$f":"ROW()","v":2377}]
["San Germán Municip","Puerto Rico",1018,1196,1260,1405,1428,{"$f":"ROW()","v":2378}]
["San Juan Municipio","Puerto Rico",1352,1588,1673,1865,1896,{"$f":"ROW()","v":2379}]
["San Lorenzo Municip","Puerto Rico",1122,1318,1389,1549,1574,{"$f":"ROW()","v":2380}]
["San Sebastián Munic","Puerto Rico",998,1172,1235,1377,1399,{"$f":"ROW()","v":2381}]
["Santa Isabel Municip","Puerto Rico",1108,1301,1371,1529,1553,{"$f":"ROW()","v":2382}]
["Toa Alta Municipio","Puerto Rico",1318,1548,1631,1819,1848,{"$f":"ROW()","v":2383}]
["Toa Baja Municipio","Puerto Rico",1168,1372,1446,1612,1638,{"$f":"ROW()","v":2384}]
["Trujillo Alto Municip","Puerto Rico",1321,1552,1635,1823,1852,{"$f":"ROW()","v":2385}]
["Utuado Municipio","Puerto Rico",990,1163,1225,1366,1388,{"$f":"ROW()","v":2386}]
["Vega Alta Municipio","Puerto Rico",1172,1376,1450,1617,1643,{"$f":"ROW()","v":2387}]
["Vega Baja Municipio","Puerto Rico",1132,1330,1401,1562,1587,{"$f":"ROW()","v":2388}]
["Vieques Municipio","Puerto Rico",1515,1779,1875,2091,2124,{"$f":"ROW()","v":2389}]
["Villalba Municipio","Puerto Rico",1050,1234,1300,1450,1473,{"$f":"ROW()","v":2390}]
["Yabucoa Municipio","Puerto Rico",956,1123,1183,1319,1340,{"$f":"ROW()","v":2391}]
["Yauco Municipio","Puerto Rico",1008,1184,1248,1392,1414,{"$f":"ROW()","v":2392}]
["Bristol County","Rhode Island",2456,2884,3039,3388,3443,{"$f":"ROW()","v":2393}]
["Kent County","Rhode Island",2064,2424,2554,2848,2894,{"$f":"ROW()","v":2394}]
["Newport County","Rhode Island",2472,2904,3060,3412,3467,{"$f":"ROW()","v":2395}]
["Providence County","Rhode Island",2037,2392,2521,2811,2856,{"$f":"ROW()","v":2396}]
["Washington County","Rhode Island",2237,2628,2769,3087,3137,{"$f":"ROW()","v":2397}]
["Abbeville County","South Carolina",1248,1465,1544,1722,1749,{"$f":"ROW()","v":2398}]
["Aiken County","South Carolina",1421,1669,1759,1961,1993,{"$f":"ROW()","v":2399}]
["Allendale County","South Carolina",1133,1330,1402,1563,1588,{"$f":"ROW()","v":2400}]
["Anderson County","South Carolina",1405,1650,1739,1939,1970,{"$f":"ROW()","v":2401}]
["Bamberg County","South Carolina",1395,1639,1727,1926,1957,{"$f":"ROW()","v":2402}]
["Barnwell County","South Carolina",1417,1665,1754,1956,1987,{"$f":"ROW()","v":2403}]
["Beaufort County","South Carolina",1930,2267,2389,2664,2707,{"$f":"ROW()","v":2404}]
["Berkeley County","South Carolina",1669,1961,2066,2304,2341,{"$f":"ROW()","v":2405}]
["Calhoun County","South Carolina",1435,1685,1776,1980,2012,{"$f":"ROW()","v":2406}]
["Charleston County","South Carolina",2051,2409,2538,2830,2876,{"$f":"ROW()","v":2407}]
["Cherokee County","South Carolina",1208,1419,1495,1667,1694,{"$f":"ROW()","v":2408}]
["Chester County","South Carolina",1277,1500,1581,1763,1791,{"$f":"ROW()","v":2409}]
["Chesterfield County","South Carolina",1224,1438,1515,1689,1716,{"$f":"ROW()","v":2410}]
["Clarendon County","South Carolina",1331,1563,1647,1836,1866,{"$f":"ROW()","v":2411}]
["Colleton County","South Carolina",1422,1670,1760,1962,1994,{"$f":"ROW()","v":2412}]
["Darlington County","South Carolina",1307,1535,1617,1803,1832,{"$f":"ROW()","v":2413}]
["Dillon County","South Carolina",1245,1462,1541,1718,1746,{"$f":"ROW()","v":2414}]
["Dorchester County","South Carolina",1770,2078,2190,2442,2481,{"$f":"ROW()","v":2415}]
["Edgefield County","South Carolina",1412,1658,1747,1948,1979,{"$f":"ROW()","v":2416}]
["Fairfield County","South Carolina",1462,1717,1809,2017,2050,{"$f":"ROW()","v":2417}]
["Florence County","South Carolina",1443,1695,1786,1991,2024,{"$f":"ROW()","v":2418}]
["Georgetown County","South Carolina",1594,1872,1973,2200,2235,{"$f":"ROW()","v":2419}]
["Greenville County","South Carolina",1597,1876,1977,2204,2240,{"$f":"ROW()","v":2420}]
["Greenwood County","South Carolina",1328,1560,1644,1833,1863,{"$f":"ROW()","v":2421}]
["Hampton County","South Carolina",1329,1561,1645,1834,1864,{"$f":"ROW()","v":2422}]
["Horry County","South Carolina",1505,1768,1863,2077,2111,{"$f":"ROW()","v":2423}]
["Jasper County","South Carolina",1517,1781,1877,2093,2127,{"$f":"ROW()","v":2424}]
["Kershaw County","South Carolina",1462,1718,1810,2018,2051,{"$f":"ROW()","v":2425}]
["Lancaster County","South Carolina",1644,1931,2035,2269,2306,{"$f":"ROW()","v":2426}]
["Laurens County","South Carolina",1329,1561,1645,1834,1864,{"$f":"ROW()","v":2427}]
["Lee County","South Carolina",1303,1531,1613,1798,1828,{"$f":"ROW()","v":2428}]
["Lexington County","South Carolina",1495,1756,1850,2063,2096,{"$f":"ROW()","v":2429}]
["McCormick County","South Carolina",1306,1534,1616,1802,1831,{"$f":"ROW()","v":2430}]
["Marion County","South Carolina",1218,1431,1508,1681,1709,{"$f":"ROW()","v":2431}]
["Marlboro County","South Carolina",1176,1381,1455,1622,1649,{"$f":"ROW()","v":2432}]
["Newberry County","South Carolina",1363,1601,1687,1881,1911,{"$f":"ROW()","v":2433}]
["Oconee County","South Carolina",1425,1673,1763,1966,1997,{"$f":"ROW()","v":2434}]
["Orangeburg County","South Carolina",1396,1640,1728,1927,1958,{"$f":"ROW()","v":2435}]
["Pickens County","South Carolina",1443,1695,1786,1991,2024,{"$f":"ROW()","v":2436}]
["Richland County","South Carolina",1597,1876,1977,2204,2240,{"$f":"ROW()","v":2437}]
["Saluda County","South Carolina",1437,1688,1779,1984,2016,{"$f":"ROW()","v":2438}]
["Spartanburg County","South Carolina",1446,1699,1790,1996,2028,{"$f":"ROW()","v":2439}]
["Sumter County","South Carolina",1378,1618,1705,1901,1932,{"$f":"ROW()","v":2440}]
["Union County","South Carolina",1218,1430,1507,1680,1707,{"$f":"ROW()","v":2441}]
["Williamsburg County","South Carolina",1246,1463,1542,1719,1747,{"$f":"ROW()","v":2442}]
["York County","South Carolina",1692,1987,2094,2335,2373,{"$f":"ROW()","v":2443}]
["Aurora County","South Dakota",1471,1728,1821,2030,2063,{"$f":"ROW()","v":2444}]
["Beadle County","South Dakota",1429,1678,1768,1971,2003,{"$f":"ROW()","v":2445}]
["Bennett County","South Dakota",1248,1465,1544,1722,1749,{"$f":"ROW()","v":2446}]
["Bon Homme County","South Dakota",1372,1611,1698,1893,1924,{"$f":"ROW()","v":2447}]
["Brookings County","South Dakota",1614,1896,1998,2228,2264,{"$f":"ROW()","v":2448}]
["Brown County","South Dakota",1576,1851,1950,2174,2209,{"$f":"ROW()","v":2449}]
["Brule County","South Dakota",1414,1661,1750,1951,1983,{"$f":"ROW()","v":2450}]
["Buffalo County","South Dakota",1447,1700,1791,1997,2029,{"$f":"ROW()","v":2451}]
["Butte County","South Dakota",1618,1900,2002,2232,2268,{"$f":"ROW()","v":2452}]
["Campbell County","South Dakota",1449,1702,1793,1999,2031,{"$f":"ROW()","v":2453}]
["Charles Mix County","South Dakota",1621,1904,2006,2237,2273,{"$f":"ROW()","v":2454}]
["Clark County","South Dakota",1481,1740,1833,2044,2077,{"$f":"ROW()","v":2455}]
["Clay County","South Dakota",1609,1889,1991,2220,2256,{"$f":"ROW()","v":2456}]
["Codington County","South Dakota",1568,1841,1940,2163,2198,{"$f":"ROW()","v":2457}]
["Corson County","South Dakota",1142,1341,1413,1575,1601,{"$f":"ROW()","v":2458}]
["Custer County","South Dakota",1791,2104,2217,2472,2512,{"$f":"ROW()","v":2459}]
["Davison County","South Dakota",1408,1653,1742,1942,1974,{"$f":"ROW()","v":2460}]
["Day County","South Dakota",1462,1718,1810,2018,2051,{"$f":"ROW()","v":2461}]
["Deuel County","South Dakota",1441,1693,1784,1989,2021,{"$f":"ROW()","v":2462}]
["Dewey County","South Dakota",1283,1507,1588,1771,1799,{"$f":"ROW()","v":2463}]
["Douglas County","South Dakota",1359,1596,1682,1875,1906,{"$f":"ROW()","v":2464}]
["Edmunds County","South Dakota",1455,1709,1801,2008,2041,{"$f":"ROW()","v":2465}]
["Fall River County","South Dakota",1416,1663,1752,1953,1985,{"$f":"ROW()","v":2466}]
["Faulk County","South Dakota",1398,1642,1730,1929,1960,{"$f":"ROW()","v":2467}]
["Grant County","South Dakota",1413,1660,1749,1950,1982,{"$f":"ROW()","v":2468}]
["Gregory County","South Dakota",1300,1527,1609,1794,1823,{"$f":"ROW()","v":2469}]
["Haakon County","South Dakota",1344,1578,1663,1854,1884,{"$f":"ROW()","v":2470}]
["Hamlin County","South Dakota",1509,1773,1868,2083,2116,{"$f":"ROW()","v":2471}]
["Hand County","South Dakota",1435,1685,1776,1980,2012,{"$f":"ROW()","v":2472}]
["Hanson County","South Dakota",1510,1774,1869,2084,2118,{"$f":"ROW()","v":2473}]
["Harding County","South Dakota",1143,1343,1415,1578,1603,{"$f":"ROW()","v":2474}]
["Hughes County","South Dakota",1633,1918,2021,2253,2290,{"$f":"ROW()","v":2475}]
["Hutchinson County","South Dakota",1406,1651,1740,1940,1971,{"$f":"ROW()","v":2476}]
["Hyde County","South Dakota",1395,1638,1726,1924,1956,{"$f":"ROW()","v":2477}]
["Jackson County","South Dakota",1231,1446,1524,1699,1727,{"$f":"ROW()","v":2478}]
["Jerauld County","South Dakota",1479,1737,1830,2040,2073,{"$f":"ROW()","v":2479}]
["Jones County","South Dakota",1248,1465,1544,1722,1749,{"$f":"ROW()","v":2480}]
["Kingsbury County","South Dakota",1470,1726,1819,2028,2061,{"$f":"ROW()","v":2481}]
["Lake County","South Dakota",1625,1908,2011,2242,2278,{"$f":"ROW()","v":2482}]
["Lawrence County","South Dakota",1727,2028,2137,2383,2421,{"$f":"ROW()","v":2483}]
["Lincoln County","South Dakota",1876,2204,2322,2589,2631,{"$f":"ROW()","v":2484}]
["Lyman County","South Dakota",1702,2000,2107,2349,2387,{"$f":"ROW()","v":2485}]
["McCook County","South Dakota",1631,1916,2019,2251,2288,{"$f":"ROW()","v":2486}]
["McPherson County","South Dakota",1318,1548,1631,1819,1848,{"$f":"ROW()","v":2487}]
["Marshall County","South Dakota",1448,1701,1792,1998,2030,{"$f":"ROW()","v":2488}]
["Meade County","South Dakota",1722,2022,2131,2376,2414,{"$f":"ROW()","v":2489}]
["Mellette County","South Dakota",1422,1670,1760,1962,1994,{"$f":"ROW()","v":2490}]
["Miner County","South Dakota",1399,1643,1731,1930,1961,{"$f":"ROW()","v":2491}]
["Minnehaha County","South Dakota",1670,1962,2067,2305,2342,{"$f":"ROW()","v":2492}]
["Moody County","South Dakota",1572,1847,1946,2170,2205,{"$f":"ROW()","v":2493}]
["Oglala Lakota Count","South Dakota",1281,1504,1585,1767,1796,{"$f":"ROW()","v":2494}]
["Pennington County","South Dakota",1710,2008,2116,2359,2397,{"$f":"ROW()","v":2495}]
["Perkins County","South Dakota",1323,1554,1637,1825,1855,{"$f":"ROW()","v":2496}]
["Potter County","South Dakota",1414,1661,1750,1951,1983,{"$f":"ROW()","v":2497}]
["Roberts County","South Dakota",1520,1785,1881,2097,2131,{"$f":"ROW()","v":2498}]
["Sanborn County","South Dakota",1404,1649,1738,1938,1969,{"$f":"ROW()","v":2499}]
["Spink County","South Dakota",1387,1629,1717,1914,1945,{"$f":"ROW()","v":2500}]
["Stanley County","South Dakota",1685,1980,2086,2326,2363,{"$f":"ROW()","v":2501}]
["Sully County","South Dakota",1523,1789,1885,2102,2136,{"$f":"ROW()","v":2502}]
["Todd County","South Dakota",1155,1357,1430,1594,1620,{"$f":"ROW()","v":2503}]
["Tripp County","South Dakota",1393,1636,1724,1922,1953,{"$f":"ROW()","v":2504}]
["Turner County","South Dakota",1507,1770,1865,2079,2113,{"$f":"ROW()","v":2505}]
["Union County","South Dakota",1798,2112,2225,2481,2521,{"$f":"ROW()","v":2506}]
["Walworth County","South Dakota",1361,1598,1684,1878,1908,{"$f":"ROW()","v":2507}]
["Yankton County","South Dakota",1572,1846,1945,2169,2204,{"$f":"ROW()","v":2508}]
["Ziebach County","South Dakota",1274,1497,1577,1758,1787,{"$f":"ROW()","v":2509}]
["Anderson County","Tennessee",1471,1728,1821,2030,2063,{"$f":"ROW()","v":2510}]
["Bedford County","Tennessee",1399,1644,1732,1931,1962,{"$f":"ROW()","v":2511}]
["Benton County","Tennessee",1219,1432,1509,1683,1710,{"$f":"ROW()","v":2512}]
["Bledsoe County","Tennessee",1282,1506,1587,1770,1798,{"$f":"ROW()","v":2513}]
["Blount County","Tennessee",1555,1827,1925,2146,2181,{"$f":"ROW()","v":2514}]
["Bradley County","Tennessee",1478,1736,1829,2039,2072,{"$f":"ROW()","v":2515}]
["Campbell County","Tennessee",1276,1498,1579,1761,1789,{"$f":"ROW()","v":2516}]
["Cannon County","Tennessee",1438,1689,1780,1985,2017,{"$f":"ROW()","v":2517}]
["Carroll County","Tennessee",1242,1459,1537,1714,1741,{"$f":"ROW()","v":2518}]
["Carter County","Tennessee",1284,1508,1589,1772,1800,{"$f":"ROW()","v":2519}]
["Cheatham County","Tennessee",1631,1916,2019,2251,2288,{"$f":"ROW()","v":2520}]
["Chester County","Tennessee",1339,1572,1657,1848,1877,{"$f":"ROW()","v":2521}]
["Claiborne County","Tennessee",1214,1426,1503,1676,1703,{"$f":"ROW()","v":2522}]
["Clay County","Tennessee",1196,1405,1480,1650,1677,{"$f":"ROW()","v":2523}]
["Cocke County","Tennessee",1259,1479,1558,1737,1765,{"$f":"ROW()","v":2524}]
["Coffee County","Tennessee",1443,1695,1786,1991,2024,{"$f":"ROW()","v":2525}]
["Crockett County","Tennessee",1256,1475,1554,1733,1761,{"$f":"ROW()","v":2526}]
["Cumberland County","Tennessee",1264,1484,1564,1744,1772,{"$f":"ROW()","v":2527}]
["Davidson County","Tennessee",1799,2112,2226,2482,2522,{"$f":"ROW()","v":2528}]
["Decatur County","Tennessee",1315,1545,1628,1815,1845,{"$f":"ROW()","v":2529}]
["DeKalb County","Tennessee",1315,1545,1628,1815,1845,{"$f":"ROW()","v":2530}]
["Dickson County","Tennessee",1533,1800,1897,2115,2149,{"$f":"ROW()","v":2531}]
["Dyer County","Tennessee",1321,1552,1635,1823,1852,{"$f":"ROW()","v":2532}]
["Fayette County","Tennessee",1654,1943,2047,2282,2319,{"$f":"ROW()","v":2533}]
["Fentress County","Tennessee",1144,1344,1416,1579,1604,{"$f":"ROW()","v":2534}]
["Franklin County","Tennessee",1430,1680,1770,1974,2005,{"$f":"ROW()","v":2535}]
["Gibson County","Tennessee",1399,1644,1732,1931,1962,{"$f":"ROW()","v":2536}]
["Giles County","Tennessee",1420,1667,1757,1959,1991,{"$f":"ROW()","v":2537}]
["Grainger County","Tennessee",1357,1593,1679,1872,1902,{"$f":"ROW()","v":2538}]
["Greene County","Tennessee",1291,1517,1598,1782,1811,{"$f":"ROW()","v":2539}]
["Grundy County","Tennessee",1214,1426,1503,1676,1703,{"$f":"ROW()","v":2540}]
["Hamblen County","Tennessee",1298,1524,1606,1791,1820,{"$f":"ROW()","v":2541}]
["Hamilton County","Tennessee",1569,1843,1942,2165,2200,{"$f":"ROW()","v":2542}]
["Hancock County","Tennessee",1244,1461,1539,1716,1744,{"$f":"ROW()","v":2543}]
["Hardeman County","Tennessee",1225,1439,1516,1690,1718,{"$f":"ROW()","v":2544}]
["Hardin County","Tennessee",1172,1376,1450,1617,1643,{"$f":"ROW()","v":2545}]
["Hawkins County","Tennessee",1295,1521,1603,1787,1816,{"$f":"ROW()","v":2546}]
["Haywood County","Tennessee",1278,1501,1582,1764,1792,{"$f":"ROW()","v":2547}]
["Henderson County","Tennessee",1218,1431,1508,1681,1709,{"$f":"ROW()","v":2548}]
["Henry County","Tennessee",1255,1474,1553,1732,1760,{"$f":"ROW()","v":2549}]
["Hickman County","Tennessee",1352,1588,1673,1865,1896,{"$f":"ROW()","v":2550}]
["Houston County","Tennessee",1351,1587,1672,1864,1894,{"$f":"ROW()","v":2551}]
["Humphreys County","Tennessee",1353,1589,1674,1867,1897,{"$f":"ROW()","v":2552}]
["Jackson County","Tennessee",1268,1489,1569,1749,1778,{"$f":"ROW()","v":2553}]
["Jefferson County","Tennessee",1345,1579,1664,1855,1885,{"$f":"ROW()","v":2554}]
["Johnson County","Tennessee",1165,1368,1442,1608,1634,{"$f":"ROW()","v":2555}]
["Knox County","Tennessee",1583,1859,1959,2184,2220,{"$f":"ROW()","v":2556}]
["Lake County","Tennessee",1213,1424,1501,1674,1701,{"$f":"ROW()","v":2557}]
["Lauderdale County","Tennessee",1251,1469,1548,1726,1754,{"$f":"ROW()","v":2558}]
["Lawrence County","Tennessee",1315,1545,1628,1815,1845,{"$f":"ROW()","v":2559}]
["Lewis County","Tennessee",1290,1515,1596,1780,1808,{"$f":"ROW()","v":2560}]
["Lincoln County","Tennessee",1424,1672,1762,1965,1996,{"$f":"ROW()","v":2561}]
["Loudon County","Tennessee",1522,1788,1884,2101,2135,{"$f":"ROW()","v":2562}]
["McMinn County","Tennessee",1339,1572,1657,1848,1877,{"$f":"ROW()","v":2563}]
["McNairy County","Tennessee",1264,1484,1564,1744,1772,{"$f":"ROW()","v":2564}]
["Macon County","Tennessee",1371,1610,1697,1892,1923,{"$f":"ROW()","v":2565}]
["Madison County","Tennessee",1478,1736,1829,2039,2072,{"$f":"ROW()","v":2566}]
["Marion County","Tennessee",1412,1658,1747,1948,1979,{"$f":"ROW()","v":2567}]
["Marshall County","Tennessee",1431,1681,1771,1975,2007,{"$f":"ROW()","v":2568}]
["Maury County","Tennessee",1599,1878,1979,2207,2242,{"$f":"ROW()","v":2569}]
["Meigs County","Tennessee",1361,1598,1684,1878,1908,{"$f":"ROW()","v":2570}]
["Monroe County","Tennessee",1344,1578,1663,1854,1884,{"$f":"ROW()","v":2571}]
["Montgomery County","Tennessee",1582,1858,1958,2183,2218,{"$f":"ROW()","v":2572}]
["Moore County","Tennessee",1615,1897,1999,2229,2265,{"$f":"ROW()","v":2573}]
["Morgan County","Tennessee",1241,1458,1536,1713,1740,{"$f":"ROW()","v":2574}]
["Obion County","Tennessee",1213,1424,1501,1674,1701,{"$f":"ROW()","v":2575}]
["Overton County","Tennessee",1235,1450,1528,1704,1731,{"$f":"ROW()","v":2576}]
["Perry County","Tennessee",1150,1350,1423,1587,1612,{"$f":"ROW()","v":2577}]
["Pickett County","Tennessee",1289,1514,1595,1778,1807,{"$f":"ROW()","v":2578}]
["Polk County","Tennessee",1307,1535,1617,1803,1832,{"$f":"ROW()","v":2579}]
["Putnam County","Tennessee",1422,1670,1760,1962,1994,{"$f":"ROW()","v":2580}]
["Rhea County","Tennessee",1356,1592,1678,1871,1901,{"$f":"ROW()","v":2581}]
["Roane County","Tennessee",1488,1747,1841,2053,2086,{"$f":"ROW()","v":2582}]
["Robertson County","Tennessee",1648,1936,2040,2275,2311,{"$f":"ROW()","v":2583}]
["Rutherford County","Tennessee",1705,2002,2110,2353,2391,{"$f":"ROW()","v":2584}]
["Scott County","Tennessee",1209,1420,1496,1668,1695,{"$f":"ROW()","v":2585}]
["Sequatchie County","Tennessee",1403,1647,1736,1936,1967,{"$f":"ROW()","v":2586}]
["Sevier County","Tennessee",1470,1726,1819,2028,2061,{"$f":"ROW()","v":2587}]
["Shelby County","Tennessee",1673,1964,2070,2308,2345,{"$f":"ROW()","v":2588}]
["Smith County","Tennessee",1428,1677,1767,1970,2002,{"$f":"ROW()","v":2589}]
["Stewart County","Tennessee",1515,1779,1875,2091,2124,{"$f":"ROW()","v":2590}]
["Sullivan County","Tennessee",1374,1614,1701,1897,1927,{"$f":"ROW()","v":2591}]
["Sumner County","Tennessee",1765,2073,2184,2435,2474,{"$f":"ROW()","v":2592}]
["Tipton County","Tennessee",1524,1790,1886,2103,2137,{"$f":"ROW()","v":2593}]
["Trousdale County","Tennessee",1490,1750,1844,2056,2089,{"$f":"ROW()","v":2594}]
["Unicoi County","Tennessee",1227,1441,1518,1693,1720,{"$f":"ROW()","v":2595}]
["Union County","Tennessee",1319,1549,1632,1820,1849,{"$f":"ROW()","v":2596}]
["Van Buren County","Tennessee",1058,1242,1309,1460,1483,{"$f":"ROW()","v":2597}]
["Warren County","Tennessee",1223,1437,1514,1688,1715,{"$f":"ROW()","v":2598}]
["Washington County","Tennessee",1446,1698,1789,1995,2027,{"$f":"ROW()","v":2599}]
["Wayne County","Tennessee",1257,1477,1556,1735,1763,{"$f":"ROW()","v":2600}]
["Weakley County","Tennessee",1196,1405,1480,1650,1677,{"$f":"ROW()","v":2601}]
["White County","Tennessee",1291,1517,1598,1782,1811,{"$f":"ROW()","v":2602}]
["Williamson County","Tennessee",2458,2887,3042,3392,3447,{"$f":"ROW()","v":2603}]
["Wilson County","Tennessee",1910,2243,2364,2636,2678,{"$f":"ROW()","v":2604}]
["Anderson County","Texas",1392,1635,1723,1921,1952,{"$f":"ROW()","v":2605}]
["Andrews County","Texas",1701,1998,2105,2347,2385,{"$f":"ROW()","v":2606}]
["Angelina County","Texas",1522,1788,1884,2101,2135,{"$f":"ROW()","v":2607}]
["Aransas County","Texas",1850,2173,2290,2553,2595,{"$f":"ROW()","v":2608}]
["Archer County","Texas",1563,1836,1935,2158,2192,{"$f":"ROW()","v":2609}]
["Armstrong County","Texas",1458,1713,1805,2013,2045,{"$f":"ROW()","v":2610}]
["Atascosa County","Texas",1471,1728,1821,2030,2063,{"$f":"ROW()","v":2611}]
["Austin County","Texas",1770,2079,2191,2443,2482,{"$f":"ROW()","v":2612}]
["Bailey County","Texas",1115,1310,1380,1539,1564,{"$f":"ROW()","v":2613}]
["Bandera County","Texas",1756,2062,2173,2423,2462,{"$f":"ROW()","v":2614}]
["Bastrop County","Texas",1803,2118,2232,2489,2529,{"$f":"ROW()","v":2615}]
["Baylor County","Texas",1475,1733,1826,2036,2069,{"$f":"ROW()","v":2616}]
["Bee County","Texas",1456,1710,1802,2009,2042,{"$f":"ROW()","v":2617}]
["Bell County","Texas",1667,1958,2063,2300,2337,{"$f":"ROW()","v":2618}]
["Bexar County","Texas",1831,2150,2266,2527,2567,{"$f":"ROW()","v":2619}]
["Blanco County","Texas",1824,2143,2258,2518,2558,{"$f":"ROW()","v":2620}]
["Borden County","Texas",1576,1851,1951,2175,2210,{"$f":"ROW()","v":2621}]
["Bosque County","Texas",1429,1679,1769,1972,2004,{"$f":"ROW()","v":2622}]
["Bowie County","Texas",1585,1862,1962,2188,2223,{"$f":"ROW()","v":2623}]
["Brazoria County","Texas",2196,2579,2718,3031,3079,{"$f":"ROW()","v":2624}]
["Brazos County","Texas",1927,2263,2385,2659,2702,{"$f":"ROW()","v":2625}]
["Brewster County","Texas",1742,2046,2156,2404,2443,{"$f":"ROW()","v":2626}]
["Briscoe County","Texas",1475,1732,1825,2035,2068,{"$f":"ROW()","v":2627}]
["Brooks County","Texas",1329,1561,1645,1834,1864,{"$f":"ROW()","v":2628}]
["Brown County","Texas",1564,1837,1936,2159,2193,{"$f":"ROW()","v":2629}]
["Burleson County","Texas",1629,1913,2016,2248,2284,{"$f":"ROW()","v":2630}]
["Burnet County","Texas",1865,2190,2308,2573,2615,{"$f":"ROW()","v":2631}]
["Caldwell County","Texas",1631,1915,2018,2250,2286,{"$f":"ROW()","v":2632}]
["Calhoun County","Texas",1593,1870,1971,2198,2233,{"$f":"ROW()","v":2633}]
["Callahan County","Texas",1467,1723,1816,2025,2058,{"$f":"ROW()","v":2634}]
["Cameron County","Texas",1437,1687,1778,1982,2014,{"$f":"ROW()","v":2635}]
["Camp County","Texas",1450,1703,1794,2000,2033,{"$f":"ROW()","v":2636}]
["Carson County","Texas",1437,1688,1779,1984,2016,{"$f":"ROW()","v":2637}]
["Cass County","Texas",1431,1681,1771,1975,2007,{"$f":"ROW()","v":2638}]
["Castro County","Texas",1282,1506,1587,1770,1798,{"$f":"ROW()","v":2639}]
["Chambers County","Texas",2085,2449,2581,2878,2924,{"$f":"ROW()","v":2640}]
["Cherokee County","Texas",1456,1710,1802,2009,2042,{"$f":"ROW()","v":2641}]
["Childress County","Texas",1708,2006,2114,2357,2395,{"$f":"ROW()","v":2642}]
["Clay County","Texas",1541,1810,1907,2126,2161,{"$f":"ROW()","v":2643}]
["Cochran County","Texas",1235,1450,1528,1704,1731,{"$f":"ROW()","v":2644}]
["Coke County","Texas",1256,1476,1555,1734,1762,{"$f":"ROW()","v":2645}]
["Coleman County","Texas",1323,1554,1637,1825,1855,{"$f":"ROW()","v":2646}]
["Collin County","Texas",2548,2993,3154,3517,3573,{"$f":"ROW()","v":2647}]
["Collingsworth Count","Texas",1059,1244,1311,1462,1485,{"$f":"ROW()","v":2648}]
["Colorado County","Texas",1740,2044,2154,2402,2440,{"$f":"ROW()","v":2649}]
["Comal County","Texas",2166,2544,2681,2989,3038,{"$f":"ROW()","v":2650}]
["Comanche County","Texas",1346,1581,1666,1858,1888,{"$f":"ROW()","v":2651}]
["Concho County","Texas",1263,1483,1563,1743,1771,{"$f":"ROW()","v":2652}]
["Cooke County","Texas",1702,2000,2107,2349,2387,{"$f":"ROW()","v":2653}]
["Coryell County","Texas",1545,1814,1912,2132,2166,{"$f":"ROW()","v":2654}]
["Cottle County","Texas",1211,1423,1499,1671,1698,{"$f":"ROW()","v":2655}]
["Crane County","Texas",1378,1619,1706,1902,1933,{"$f":"ROW()","v":2656}]
["Crockett County","Texas",1352,1588,1673,1865,1896,{"$f":"ROW()","v":2657}]
["Crosby County","Texas",1315,1544,1627,1814,1843,{"$f":"ROW()","v":2658}]
["Culberson County","Texas",1376,1616,1703,1899,1929,{"$f":"ROW()","v":2659}]
["Dallam County","Texas",1366,1604,1690,1884,1915,{"$f":"ROW()","v":2660}]
["Dallas County","Texas",1947,2287,2410,2687,2731,{"$f":"ROW()","v":2661}]
["Dawson County","Texas",1592,1870,1970,2197,2232,{"$f":"ROW()","v":2662}]
["Deaf Smith County","Texas",1523,1789,1885,2102,2136,{"$f":"ROW()","v":2663}]
["Delta County","Texas",1556,1828,1926,2147,2182,{"$f":"ROW()","v":2664}]
["Denton County","Texas",2404,2823,2975,3317,3371,{"$f":"ROW()","v":2665}]
["DeWitt County","Texas",1613,1894,1996,2226,2261,{"$f":"ROW()","v":2666}]
["Dickens County","Texas",1206,1417,1493,1665,1692,{"$f":"ROW()","v":2667}]
["Dimmit County","Texas",1475,1733,1826,2036,2069,{"$f":"ROW()","v":2668}]
["Donley County","Texas",1458,1712,1804,2011,2044,{"$f":"ROW()","v":2669}]
["Duval County","Texas",1357,1594,1680,1873,1903,{"$f":"ROW()","v":2670}]
["Eastland County","Texas",1357,1593,1679,1872,1902,{"$f":"ROW()","v":2671}]
["Ector County","Texas",1824,2142,2257,2517,2557,{"$f":"ROW()","v":2672}]
["Edwards County","Texas",1475,1733,1826,2036,2069,{"$f":"ROW()","v":2673}]
["Ellis County","Texas",2062,2422,2552,2845,2891,{"$f":"ROW()","v":2674}]
["El Paso County","Texas",1589,1866,1966,2192,2227,{"$f":"ROW()","v":2675}]
["Erath County","Texas",1697,1993,2100,2342,2379,{"$f":"ROW()","v":2676}]
["Falls County","Texas",1408,1653,1742,1942,1974,{"$f":"ROW()","v":2677}]
["Fannin County","Texas",1635,1920,2023,2256,2292,{"$f":"ROW()","v":2678}]
["Fayette County","Texas",1632,1917,2020,2252,2289,{"$f":"ROW()","v":2679}]
["Fisher County","Texas",1324,1555,1639,1827,1857,{"$f":"ROW()","v":2680}]
["Floyd County","Texas",1228,1442,1520,1695,1722,{"$f":"ROW()","v":2681}]
["Foard County","Texas",1475,1733,1826,2036,2069,{"$f":"ROW()","v":2682}]
["Fort Bend County","Texas",2421,2843,2996,3341,3394,{"$f":"ROW()","v":2683}]
["Franklin County","Texas",1710,2008,2116,2359,2397,{"$f":"ROW()","v":2684}]
["Freestone County","Texas",1568,1841,1940,2163,2198,{"$f":"ROW()","v":2685}]
["Frio County","Texas",1532,1799,1896,2114,2148,{"$f":"ROW()","v":2686}]
["Gaines County","Texas",1589,1866,1966,2192,2227,{"$f":"ROW()","v":2687}]
["Galveston County","Texas",2060,2420,2550,2843,2889,{"$f":"ROW()","v":2688}]
["Garza County","Texas",1366,1605,1691,1885,1916,{"$f":"ROW()","v":2689}]
["Gillespie County","Texas",1972,2316,2440,2721,2765,{"$f":"ROW()","v":2690}]
["Glasscock County","Texas",1286,1511,1592,1775,1804,{"$f":"ROW()","v":2691}]
["Goliad County","Texas",1630,1914,2017,2249,2285,{"$f":"ROW()","v":2692}]
["Gonzales County","Texas",1446,1699,1790,1996,2028,{"$f":"ROW()","v":2693}]
["Gray County","Texas",1463,1719,1811,2019,2052,{"$f":"ROW()","v":2694}]
["Grayson County","Texas",1734,2037,2146,2393,2431,{"$f":"ROW()","v":2695}]
["Gregg County","Texas",1523,1789,1885,2102,2136,{"$f":"ROW()","v":2696}]
["Grimes County","Texas",1871,2197,2315,2581,2623,{"$f":"ROW()","v":2697}]
["Guadalupe County","Texas",1889,2219,2338,2607,2649,{"$f":"ROW()","v":2698}]
["Hale County","Texas",1463,1719,1811,2019,2052,{"$f":"ROW()","v":2699}]
["Hall County","Texas",1246,1463,1542,1719,1747,{"$f":"ROW()","v":2700}]
["Hamilton County","Texas",1385,1627,1714,1911,1942,{"$f":"ROW()","v":2701}]
["Hansford County","Texas",1590,1868,1968,2194,2230,{"$f":"ROW()","v":2702}]
["Hardeman County","Texas",1239,1455,1533,1709,1737,{"$f":"ROW()","v":2703}]
["Hardin County","Texas",1635,1921,2024,2257,2293,{"$f":"ROW()","v":2704}]
["Harris County","Texas",1963,2305,2429,2708,2752,{"$f":"ROW()","v":2705}]
["Harrison County","Texas",1597,1875,1976,2203,2239,{"$f":"ROW()","v":2706}]
["Hartley County","Texas",1734,2037,2146,2393,2431,{"$f":"ROW()","v":2707}]
["Haskell County","Texas",1277,1500,1581,1763,1791,{"$f":"ROW()","v":2708}]
["Hays County","Texas",2110,2478,2611,2911,2958,{"$f":"ROW()","v":2709}]
["Hemphill County","Texas",1522,1788,1884,2101,2135,{"$f":"ROW()","v":2710}]
["Henderson County","Texas",1525,1791,1887,2104,2138,{"$f":"ROW()","v":2711}]
["Hidalgo County","Texas",1476,1734,1827,2037,2070,{"$f":"ROW()","v":2712}]
["Hill County","Texas",1545,1814,1912,2132,2166,{"$f":"ROW()","v":2713}]
["Hockley County","Texas",1524,1790,1886,2103,2137,{"$f":"ROW()","v":2714}]
["Hood County","Texas",1719,2019,2127,2372,2410,{"$f":"ROW()","v":2715}]
["Hopkins County","Texas",1477,1735,1828,2038,2071,{"$f":"ROW()","v":2716}]
["Houston County","Texas",1452,1705,1797,2004,2036,{"$f":"ROW()","v":2717}]
["Howard County","Texas",1554,1825,1923,2144,2179,{"$f":"ROW()","v":2718}]
["Hudspeth County","Texas",1046,1229,1295,1444,1467,{"$f":"ROW()","v":2719}]
["Hunt County","Texas",1702,1999,2106,2348,2386,{"$f":"ROW()","v":2720}]
["Hutchinson County","Texas",1365,1603,1689,1883,1914,{"$f":"ROW()","v":2721}]
["Irion County","Texas",1789,2101,2214,2469,2508,{"$f":"ROW()","v":2722}]
["Jack County","Texas",1610,1891,1993,2222,2258,{"$f":"ROW()","v":2723}]
["Jackson County","Texas",1437,1687,1778,1982,2014,{"$f":"ROW()","v":2724}]
["Jasper County","Texas",1532,1799,1896,2114,2148,{"$f":"ROW()","v":2725}]
["Jeff Davis County","Texas",1572,1846,1945,2169,2204,{"$f":"ROW()","v":2726}]
["Jefferson County","Texas",1696,1992,2099,2340,2378,{"$f":"ROW()","v":2727}]
["Jim Hogg County","Texas",1508,1771,1866,2081,2114,{"$f":"ROW()","v":2728}]
["Jim Wells County","Texas",1694,1989,2096,2337,2375,{"$f":"ROW()","v":2729}]
["Johnson County","Texas",1765,2074,2185,2436,2476,{"$f":"ROW()","v":2730}]
["Jones County","Texas",1389,1631,1719,1917,1948,{"$f":"ROW()","v":2731}]
["Karnes County","Texas",1446,1698,1789,1995,2027,{"$f":"ROW()","v":2732}]
["Kaufman County","Texas",2027,2381,2509,2798,2843,{"$f":"ROW()","v":2733}]
["Kendall County","Texas",2337,2745,2892,3225,3277,{"$f":"ROW()","v":2734}]
["Kenedy County","Texas",1475,1733,1826,2036,2069,{"$f":"ROW()","v":2735}]
["Kent County","Texas",1685,1980,2086,2326,2363,{"$f":"ROW()","v":2736}]
["Kerr County","Texas",1627,1911,2014,2246,2282,{"$f":"ROW()","v":2737}]
["Kimble County","Texas",1566,1839,1938,2161,2196,{"$f":"ROW()","v":2738}]
["King County","Texas",1475,1733,1826,2036,2069,{"$f":"ROW()","v":2739}]
["Kinney County","Texas",1353,1589,1674,1867,1897,{"$f":"ROW()","v":2740}]
["Kleberg County","Texas",1662,1952,2057,2294,2331,{"$f":"ROW()","v":2741}]
["Knox County","Texas",1126,1323,1394,1554,1579,{"$f":"ROW()","v":2742}]
["Lamar County","Texas",1538,1807,1904,2123,2157,{"$f":"ROW()","v":2743}]
["Lamb County","Texas",1225,1439,1516,1690,1718,{"$f":"ROW()","v":2744}]
["Lampasas County","Texas",1660,1950,2055,2291,2328,{"$f":"ROW()","v":2745}]
["La Salle County","Texas",1778,2088,2200,2453,2493,{"$f":"ROW()","v":2746}]
["Lavaca County","Texas",1580,1856,1956,2181,2216,{"$f":"ROW()","v":2747}]
["Lee County","Texas",1709,2007,2115,2358,2396,{"$f":"ROW()","v":2748}]
["Leon County","Texas",1397,1641,1729,1928,1959,{"$f":"ROW()","v":2749}]
["Liberty County","Texas",1626,1909,2012,2243,2280,{"$f":"ROW()","v":2750}]
["Limestone County","Texas",1408,1654,1743,1943,1975,{"$f":"ROW()","v":2751}]
["Lipscomb County","Texas",1485,1744,1838,2049,2082,{"$f":"ROW()","v":2752}]
["Live Oak County","Texas",1576,1851,1950,2174,2209,{"$f":"ROW()","v":2753}]
["Llano County","Texas",1631,1916,2019,2251,2288,{"$f":"ROW()","v":2754}]
["Loving County","Texas",1475,1733,1826,2036,2069,{"$f":"ROW()","v":2755}]
["Lubbock County","Texas",1765,2073,2184,2435,2474,{"$f":"ROW()","v":2756}]
["Lynn County","Texas",1615,1897,1999,2229,2265,{"$f":"ROW()","v":2757}]
["McCulloch County","Texas",1265,1485,1565,1745,1773,{"$f":"ROW()","v":2758}]
["McLennan County","Texas",1698,1995,2102,2344,2382,{"$f":"ROW()","v":2759}]
["McMullen County","Texas",1468,1724,1817,2026,2059,{"$f":"ROW()","v":2760}]
["Madison County","Texas",1610,1890,1992,2221,2257,{"$f":"ROW()","v":2761}]
["Marion County","Texas",1385,1627,1714,1911,1942,{"$f":"ROW()","v":2762}]
["Martin County","Texas",1802,2116,2230,2486,2527,{"$f":"ROW()","v":2763}]
["Mason County","Texas",1661,1951,2056,2292,2329,{"$f":"ROW()","v":2764}]
["Matagorda County","Texas",1646,1933,2037,2271,2308,{"$f":"ROW()","v":2765}]
["Maverick County","Texas",1538,1807,1904,2123,2157,{"$f":"ROW()","v":2766}]
["Medina County","Texas",1763,2071,2182,2433,2472,{"$f":"ROW()","v":2767}]
["Menard County","Texas",1055,1239,1306,1456,1480,{"$f":"ROW()","v":2768}]
["Midland County","Texas",2125,2496,2630,2932,2980,{"$f":"ROW()","v":2769}]
["Milam County","Texas",1461,1716,1808,2016,2048,{"$f":"ROW()","v":2770}]
["Mills County","Texas",1315,1545,1628,1815,1845,{"$f":"ROW()","v":2771}]
["Mitchell County","Texas",1396,1640,1728,1927,1958,{"$f":"ROW()","v":2772}]
["Montague County","Texas",1572,1847,1946,2170,2205,{"$f":"ROW()","v":2773}]
["Montgomery County","Texas",2158,2535,2671,2978,3026,{"$f":"ROW()","v":2774}]
["Moore County","Texas",1462,1717,1809,2017,2050,{"$f":"ROW()","v":2775}]
["Morris County","Texas",1230,1444,1522,1697,1724,{"$f":"ROW()","v":2776}]
["Motley County","Texas",1133,1330,1402,1563,1588,{"$f":"ROW()","v":2777}]
["Nacogdoches County","Texas",1509,1772,1867,2082,2115,{"$f":"ROW()","v":2778}]
["Navarro County","Texas",1462,1718,1810,2018,2051,{"$f":"ROW()","v":2779}]
["Newton County","Texas",1443,1695,1786,1991,2024,{"$f":"ROW()","v":2780}]
["Nolan County","Texas",1464,1720,1812,2020,2053,{"$f":"ROW()","v":2781}]
["Nueces County","Texas",1828,2147,2262,2522,2563,{"$f":"ROW()","v":2782}]
["Ochiltree County","Texas",1632,1917,2020,2252,2289,{"$f":"ROW()","v":2783}]
["Oldham County","Texas",1655,1944,2048,2284,2320,{"$f":"ROW()","v":2784}]
["Orange County","Texas",1614,1896,1998,2228,2264,{"$f":"ROW()","v":2785}]
["Palo Pinto County","Texas",1664,1954,2059,2296,2333,{"$f":"ROW()","v":2786}]
["Panola County","Texas",1456,1710,1802,2009,2042,{"$f":"ROW()","v":2787}]
["Parker County","Texas",2182,2562,2700,3011,3059,{"$f":"ROW()","v":2788}]
["Parmer County","Texas",1641,1927,2031,2265,2301,{"$f":"ROW()","v":2789}]
["Pecos County","Texas",1563,1836,1935,2158,2192,{"$f":"ROW()","v":2790}]
["Polk County","Texas",1436,1686,1777,1981,2013,{"$f":"ROW()","v":2791}]
["Potter County","Texas",1441,1693,1784,1989,2021,{"$f":"ROW()","v":2792}]
["Presidio County","Texas",1517,1781,1877,2093,2127,{"$f":"ROW()","v":2793}]
["Rains County","Texas",1609,1889,1991,2220,2256,{"$f":"ROW()","v":2794}]
["Randall County","Texas",1772,2081,2193,2445,2485,{"$f":"ROW()","v":2795}]
["Reagan County","Texas",1778,2088,2200,2453,2493,{"$f":"ROW()","v":2796}]
["Real County","Texas",1998,2347,2473,2757,2802,{"$f":"ROW()","v":2797}]
["Red River County","Texas",1328,1560,1644,1833,1863,{"$f":"ROW()","v":2798}]
["Reeves County","Texas",1532,1799,1896,2114,2148,{"$f":"ROW()","v":2799}]
["Refugio County","Texas",1339,1572,1657,1848,1877,{"$f":"ROW()","v":2800}]
["Roberts County","Texas",1468,1724,1817,2026,2059,{"$f":"ROW()","v":2801}]
["Robertson County","Texas",1521,1786,1882,2098,2132,{"$f":"ROW()","v":2802}]
["Rockwall County","Texas",2382,2798,2948,3287,3340,{"$f":"ROW()","v":2803}]
["Runnels County","Texas",1301,1528,1610,1795,1824,{"$f":"ROW()","v":2804}]
["Rusk County","Texas",1521,1787,1883,2100,2133,{"$f":"ROW()","v":2805}]
["Sabine County","Texas",1488,1748,1842,2054,2087,{"$f":"ROW()","v":2806}]
["San Augustine Count","Texas",1477,1735,1828,2038,2071,{"$f":"ROW()","v":2807}]
["San Jacinto County","Texas",1643,1929,2033,2267,2303,{"$f":"ROW()","v":2808}]
["San Patricio County","Texas",1790,2102,2215,2470,2510,{"$f":"ROW()","v":2809}]
["San Saba County","Texas",1359,1596,1682,1875,1906,{"$f":"ROW()","v":2810}]
["Schleicher County","Texas",1345,1580,1665,1856,1886,{"$f":"ROW()","v":2811}]
["Scurry County","Texas",1517,1781,1877,2093,2127,{"$f":"ROW()","v":2812}]
["Shackelford County","Texas",1807,2123,2237,2494,2535,{"$f":"ROW()","v":2813}]
["Shelby County","Texas",1345,1580,1665,1856,1886,{"$f":"ROW()","v":2814}]
["Sherman County","Texas",1468,1724,1817,2026,2059,{"$f":"ROW()","v":2815}]
["Smith County","Texas",1649,1937,2041,2276,2312,{"$f":"ROW()","v":2816}]
["Somervell County","Texas",1728,2030,2139,2385,2423,{"$f":"ROW()","v":2817}]
["Starr County","Texas",1449,1702,1793,1999,2031,{"$f":"ROW()","v":2818}]
["Stephens County","Texas",1253,1472,1551,1729,1757,{"$f":"ROW()","v":2819}]
["Sterling County","Texas",1302,1530,1612,1797,1826,{"$f":"ROW()","v":2820}]
["Stonewall County","Texas",1189,1396,1471,1640,1667,{"$f":"ROW()","v":2821}]
["Sutton County","Texas",1728,2030,2139,2385,2423,{"$f":"ROW()","v":2822}]
["Swisher County","Texas",1370,1610,1696,1891,1922,{"$f":"ROW()","v":2823}]
["Tarrant County","Texas",2033,2388,2516,2805,2851,{"$f":"ROW()","v":2824}]
["Taylor County","Texas",1663,1953,2058,2295,2332,{"$f":"ROW()","v":2825}]
["Terrell County","Texas",1405,1650,1739,1939,1970,{"$f":"ROW()","v":2826}]
["Terry County","Texas",1475,1732,1825,2035,2068,{"$f":"ROW()","v":2827}]
["Throckmorton Coun","Texas",1424,1672,1762,1965,1996,{"$f":"ROW()","v":2828}]
["Titus County","Texas",1409,1655,1744,1945,1976,{"$f":"ROW()","v":2829}]
["Tom Green County","Texas",1645,1932,2036,2270,2307,{"$f":"ROW()","v":2830}]
["Travis County","Texas",2388,2805,2956,3296,3349,{"$f":"ROW()","v":2831}]
["Trinity County","Texas",1461,1716,1808,2016,2048,{"$f":"ROW()","v":2832}]
["Tyler County","Texas",1403,1648,1737,1937,1968,{"$f":"ROW()","v":2833}]
["Upshur County","Texas",1575,1850,1949,2173,2208,{"$f":"ROW()","v":2834}]
["Upton County","Texas",1378,1619,1706,1902,1933,{"$f":"ROW()","v":2835}]
["Uvalde County","Texas",1408,1654,1743,1943,1975,{"$f":"ROW()","v":2836}]
["Val Verde County","Texas",1627,1911,2014,2246,2282,{"$f":"ROW()","v":2837}]
["Van Zandt County","Texas",1546,1815,1913,2133,2167,{"$f":"ROW()","v":2838}]
["Victoria County","Texas",1736,2038,2148,2395,2434,{"$f":"ROW()","v":2839}]
["Walker County","Texas",1635,1921,2024,2257,2293,{"$f":"ROW()","v":2840}]
["Waller County","Texas",2056,2415,2545,2838,2883,{"$f":"ROW()","v":2841}]
["Ward County","Texas",1382,1624,1711,1908,1939,{"$f":"ROW()","v":2842}]
["Washington County","Texas",1789,2101,2214,2469,2508,{"$f":"ROW()","v":2843}]
["Webb County","Texas",1706,2003,2111,2354,2392,{"$f":"ROW()","v":2844}]
["Wharton County","Texas",1658,1947,2052,2288,2325,{"$f":"ROW()","v":2845}]
["Wheeler County","Texas",1526,1792,1888,2105,2139,{"$f":"ROW()","v":2846}]
["Wichita County","Texas",1496,1757,1851,2064,2097,{"$f":"ROW()","v":2847}]
["Wilbarger County","Texas",1315,1545,1628,1815,1845,{"$f":"ROW()","v":2848}]
["Willacy County","Texas",1318,1548,1631,1819,1848,{"$f":"ROW()","v":2849}]
["Williamson County","Texas",2246,2638,2780,3100,3150,{"$f":"ROW()","v":2850}]
["Wilson County","Texas",2049,2407,2536,2828,2873,{"$f":"ROW()","v":2851}]
["Winkler County","Texas",1392,1635,1723,1921,1952,{"$f":"ROW()","v":2852}]
["Wise County","Texas",1932,2269,2391,2666,2709,{"$f":"ROW()","v":2853}]
["Wood County","Texas",1525,1791,1887,2104,2138,{"$f":"ROW()","v":2854}]
["Yoakum County","Texas",1631,1915,2018,2250,2286,{"$f":"ROW()","v":2855}]
["Young County","Texas",1613,1894,1996,2226,2261,{"$f":"ROW()","v":2856}]
["Zapata County","Texas",1324,1555,1639,1827,1857,{"$f":"ROW()","v":2857}]
["Zavala County","Texas",1161,1364,1437,1602,1628,{"$f":"ROW()","v":2858}]
["Beaver County","Utah",1412,1659,1748,1949,1980,{"$f":"ROW()","v":2859}]
["Box Elder County","Utah",1592,1870,1970,2197,2232,{"$f":"ROW()","v":2860}]
["Cache County","Utah",1662,1952,2057,2294,2331,{"$f":"ROW()","v":2861}]
["Carbon County","Utah",1345,1579,1664,1855,1885,{"$f":"ROW()","v":2862}]
["Daggett County","Utah",1205,1415,1491,1662,1689,{"$f":"ROW()","v":2863}]
["Davis County","Utah",1899,2230,2350,2620,2663,{"$f":"ROW()","v":2864}]
["Duchesne County","Utah",1602,1882,1983,2211,2247,{"$f":"ROW()","v":2865}]
["Emery County","Utah",1273,1495,1575,1756,1784,{"$f":"ROW()","v":2866}]
["Garfield County","Utah",1555,1827,1925,2146,2181,{"$f":"ROW()","v":2867}]
["Grand County","Utah",1586,1863,1963,2189,2224,{"$f":"ROW()","v":2868}]
["Iron County","Utah",1547,1817,1915,2135,2170,{"$f":"ROW()","v":2869}]
["Juab County","Utah",1599,1878,1979,2207,2242,{"$f":"ROW()","v":2870}]
["Kane County","Utah",1568,1842,1941,2164,2199,{"$f":"ROW()","v":2871}]
["Millard County","Utah",1439,1690,1781,1986,2018,{"$f":"ROW()","v":2872}]
["Morgan County","Utah",2341,2749,2897,3230,3282,{"$f":"ROW()","v":2873}]
["Piute County","Utah",1367,1606,1692,1887,1917,{"$f":"ROW()","v":2874}]
["Rich County","Utah",1497,1758,1853,2066,2099,{"$f":"ROW()","v":2875}]
["Salt Lake County","Utah",1967,2310,2434,2714,2758,{"$f":"ROW()","v":2876}]
["San Juan County","Utah",1589,1867,1967,2193,2229,{"$f":"ROW()","v":2877}]
["Sanpete County","Utah",1498,1759,1854,2067,2101,{"$f":"ROW()","v":2878}]
["Sevier County","Utah",1450,1703,1794,2000,2033,{"$f":"ROW()","v":2879}]
["Summit County","Utah",2566,3014,3176,3541,3598,{"$f":"ROW()","v":2880}]
["Tooele County","Utah",1748,2053,2163,2412,2451,{"$f":"ROW()","v":2881}]
["Uintah County","Utah",1604,1884,1985,2213,2249,{"$f":"ROW()","v":2882}]
["Utah County","Utah",1940,2279,2401,2677,2720,{"$f":"ROW()","v":2883}]
["Wasatch County","Utah",2279,2676,2820,3144,3195,{"$f":"ROW()","v":2884}]
["Washington County","Utah",1812,2128,2242,2500,2540,{"$f":"ROW()","v":2885}]
["Wayne County","Utah",1693,1988,2095,2336,2374,{"$f":"ROW()","v":2886}]
["Weber County","Utah",1732,2035,2144,2391,2429,{"$f":"ROW()","v":2887}]
["Addison County","Vermont",1956,2298,2421,2699,2743,{"$f":"ROW()","v":2888}]
["Bennington County","Vermont",1732,2035,2144,2391,2429,{"$f":"ROW()","v":2889}]
["Caledonia County","Vermont",1610,1890,1992,2221,2257,{"$f":"ROW()","v":2890}]
["Chittenden County","Vermont",2181,2561,2699,3009,3058,{"$f":"ROW()","v":2891}]
["Essex County","Vermont",1467,1722,1815,2024,2056,{"$f":"ROW()","v":2892}]
["Franklin County","Vermont",1841,2162,2278,2540,2581,{"$f":"ROW()","v":2893}]
["Grand Isle County","Vermont",2060,2419,2549,2842,2888,{"$f":"ROW()","v":2894}]
["Lamoille County","Vermont",1872,2199,2317,2583,2625,{"$f":"ROW()","v":2895}]
["Orange County","Vermont",1718,2018,2126,2370,2409,{"$f":"ROW()","v":2896}]
["Orleans County","Vermont",1608,1889,1990,2219,2255,{"$f":"ROW()","v":2897}]
["Rutland County","Vermont",1664,1954,2059,2296,2333,{"$f":"ROW()","v":2898}]
["Washington County","Vermont",1874,2201,2319,2586,2627,{"$f":"ROW()","v":2899}]
["Windham County","Vermont",1784,2095,2208,2462,2502,{"$f":"ROW()","v":2900}]
["Windsor County","Vermont",1835,2155,2271,2532,2573,{"$f":"ROW()","v":2901}]
["Accomack County","Virginia",1513,1777,1872,2087,2121,{"$f":"ROW()","v":2902}]
["Albemarle County","Virginia",2121,2491,2625,2927,2974,{"$f":"ROW()","v":2903}]
["Alleghany County","Virginia",1349,1584,1669,1861,1891,{"$f":"ROW()","v":2904}]
["Amelia County","Virginia",1595,1873,1974,2201,2237,{"$f":"ROW()","v":2905}]
["Amherst County","Virginia",1428,1677,1767,1970,2002,{"$f":"ROW()","v":2906}]
["Appomattox County","Virginia",1435,1685,1776,1980,2012,{"$f":"ROW()","v":2907}]
["Arlington County","Virginia",3255,3824,4029,4492,4565,{"$f":"ROW()","v":2908}]
["Augusta County","Virginia",1642,1928,2032,2266,2302,{"$f":"ROW()","v":2909}]
["Bath County","Virginia",1383,1625,1712,1909,1940,{"$f":"ROW()","v":2910}]
["Bedford County","Virginia",1576,1851,1951,2175,2210,{"$f":"ROW()","v":2911}]
["Bland County","Virginia",1305,1533,1615,1801,1830,{"$f":"ROW()","v":2912}]
["Botetourt County","Virginia",1723,2024,2133,2378,2417,{"$f":"ROW()","v":2913}]
["Brunswick County","Virginia",1308,1536,1619,1805,1834,{"$f":"ROW()","v":2914}]
["Buchanan County","Virginia",1260,1479,1559,1738,1766,{"$f":"ROW()","v":2915}]
["Buckingham County","Virginia",1358,1595,1681,1874,1905,{"$f":"ROW()","v":2916}]
["Campbell County","Virginia",1421,1669,1759,1961,1993,{"$f":"ROW()","v":2917}]
["Caroline County","Virginia",1774,2083,2195,2447,2487,{"$f":"ROW()","v":2918}]
["Carroll County","Virginia",1261,1481,1561,1741,1769,{"$f":"ROW()","v":2919}]
["Charles City County","Virginia",1532,1799,1896,2114,2148,{"$f":"ROW()","v":2920}]
["Charlotte County","Virginia",1378,1619,1706,1902,1933,{"$f":"ROW()","v":2921}]
["Chesterfield County","Virginia",1894,2224,2344,2614,2656,{"$f":"ROW()","v":2922}]
["Clarke County","Virginia",2054,2412,2542,2834,2880,{"$f":"ROW()","v":2923}]
["Craig County","Virginia",1341,1575,1660,1851,1881,{"$f":"ROW()","v":2924}]
["Culpeper County","Virginia",1993,2340,2466,2750,2794,{"$f":"ROW()","v":2925}]
["Cumberland County","Virginia",1446,1699,1790,1996,2028,{"$f":"ROW()","v":2926}]
["Dickenson County","Virginia",1201,1411,1487,1658,1685,{"$f":"ROW()","v":2927}]
["Dinwiddie County","Virginia",1610,1890,1992,2221,2257,{"$f":"ROW()","v":2928}]
["Essex County","Virginia",1508,1771,1866,2081,2114,{"$f":"ROW()","v":2929}]
["Fairfax County","Virginia",2918,3428,3612,4027,4092,{"$f":"ROW()","v":2930}]
["Fauquier County","Virginia",2484,2917,3074,3428,3483,{"$f":"ROW()","v":2931}]
["Floyd County","Virginia",1409,1655,1744,1945,1976,{"$f":"ROW()","v":2932}]
["Fluvanna County","Virginia",1791,2103,2216,2471,2511,{"$f":"ROW()","v":2933}]
["Franklin County","Virginia",1506,1769,1864,2078,2112,{"$f":"ROW()","v":2934}]
["Frederick County","Virginia",1877,2205,2323,2590,2632,{"$f":"ROW()","v":2935}]
["Giles County","Virginia",1337,1571,1655,1845,1875,{"$f":"ROW()","v":2936}]
["Gloucester County","Virginia",1711,2010,2118,2362,2400,{"$f":"ROW()","v":2937}]
["Goochland County","Virginia",2081,2444,2575,2871,2917,{"$f":"ROW()","v":2938}]
["Grayson County","Virginia",1168,1372,1446,1612,1638,{"$f":"ROW()","v":2939}]
["Greene County","Virginia",1822,2140,2255,2514,2555,{"$f":"ROW()","v":2940}]
["Greensville County","Virginia",1274,1497,1577,1758,1787,{"$f":"ROW()","v":2941}]
["Halifax County","Virginia",1301,1528,1610,1795,1824,{"$f":"ROW()","v":2942}]
["Hanover County","Virginia",1991,2338,2464,2747,2792,{"$f":"ROW()","v":2943}]
["Henrico County","Virginia",1856,2180,2297,2561,2603,{"$f":"ROW()","v":2944}]
["Henry County","Virginia",1191,1399,1474,1644,1670,{"$f":"ROW()","v":2945}]
["Highland County","Virginia",1392,1635,1723,1921,1952,{"$f":"ROW()","v":2946}]
["Isle of Wight County","Virginia",2091,2456,2588,2886,2932,{"$f":"ROW()","v":2947}]
["James City County","Virginia",2102,2468,2601,2900,2947,{"$f":"ROW()","v":2948}]
["King and Queen Cou","Virginia",1541,1810,1907,2126,2161,{"$f":"ROW()","v":2949}]
["King George County","Virginia",2123,2494,2628,2930,2978,{"$f":"ROW()","v":2950}]
["King William County","Virginia",1670,1962,2067,2305,2342,{"$f":"ROW()","v":2951}]
["Lancaster County","Virginia",1625,1908,2011,2242,2278,{"$f":"ROW()","v":2952}]
["Lee County","Virginia",1218,1430,1507,1680,1707,{"$f":"ROW()","v":2953}]
["Loudoun County","Virginia",2990,3511,3700,4126,4192,{"$f":"ROW()","v":2954}]
["Louisa County","Virginia",1643,1929,2033,2267,2303,{"$f":"ROW()","v":2955}]
["Lunenburg County","Virginia",1399,1643,1731,1930,1961,{"$f":"ROW()","v":2956}]
["Madison County","Virginia",1759,2066,2177,2427,2467,{"$f":"ROW()","v":2957}]
["Mathews County","Virginia",1740,2044,2154,2402,2440,{"$f":"ROW()","v":2958}]
["Mecklenburg County","Virginia",1443,1695,1786,1991,2024,{"$f":"ROW()","v":2959}]
["Middlesex County","Virginia",1605,1886,1987,2216,2251,{"$f":"ROW()","v":2960}]
["Montgomery County","Virginia",1687,1982,2088,2328,2366,{"$f":"ROW()","v":2961}]
["Nelson County","Virginia",1623,1907,2009,2240,2276,{"$f":"ROW()","v":2962}]
["New Kent County","Virginia",2056,2414,2544,2837,2882,{"$f":"ROW()","v":2963}]
["Northampton Count","Virginia",1617,1899,2001,2231,2267,{"$f":"ROW()","v":2964}]
["Northumberland Co","Virginia",1696,1992,2099,2340,2378,{"$f":"ROW()","v":2965}]
["Nottoway County","Virginia",1506,1769,1864,2078,2112,{"$f":"ROW()","v":2966}]
["Orange County","Virginia",1837,2158,2274,2536,2576,{"$f":"ROW()","v":2967}]
["Page County","Virginia",1415,1662,1751,1952,1984,{"$f":"ROW()","v":2968}]
["Patrick County","Virginia",1235,1451,1529,1705,1732,{"$f":"ROW()","v":2969}]
["Pittsylvania County","Virginia",1308,1536,1619,1805,1834,{"$f":"ROW()","v":2970}]
["Powhatan County","Virginia",1969,2313,2437,2717,2761,{"$f":"ROW()","v":2971}]
["Prince Edward Coun","Virginia",1370,1610,1696,1891,1922,{"$f":"ROW()","v":2972}]
["Prince George Count","Virginia",1779,2090,2202,2455,2495,{"$f":"ROW()","v":2973}]
["Prince William Coun","Virginia",2497,2932,3090,3445,3501,{"$f":"ROW()","v":2974}]
["Pulaski County","Virginia",1390,1632,1720,1918,1949,{"$f":"ROW()","v":2975}]
["Rappahannock Coun","Virginia",2011,2362,2489,2775,2820,{"$f":"ROW()","v":2976}]
["Richmond County","Virginia",1590,1868,1968,2194,2230,{"$f":"ROW()","v":2977}]
["Roanoke County","Virginia",1654,1943,2047,2282,2319,{"$f":"ROW()","v":2978}]
["Rockbridge County","Virginia",1552,1823,1921,2142,2176,{"$f":"ROW()","v":2979}]
["Rockingham County","Virginia",1627,1911,2014,2246,2282,{"$f":"ROW()","v":2980}]
["Russell County","Virginia",1178,1384,1458,1626,1652,{"$f":"ROW()","v":2981}]
["Scott County","Virginia",1245,1462,1541,1718,1746,{"$f":"ROW()","v":2982}]
["Shenandoah County","Virginia",1582,1858,1958,2183,2218,{"$f":"ROW()","v":2983}]
["Smyth County","Virginia",1273,1495,1575,1756,1784,{"$f":"ROW()","v":2984}]
["Southampton Count","Virginia",1594,1872,1973,2200,2235,{"$f":"ROW()","v":2985}]
["Spotsylvania County","Virginia",2015,2367,2494,2781,2826,{"$f":"ROW()","v":2986}]
["Stafford County","Virginia",2412,2833,2985,3328,3382,{"$f":"ROW()","v":2987}]
["Surry County","Virginia",1634,1919,2022,2255,2291,{"$f":"ROW()","v":2988}]
["Sussex County","Virginia",1437,1687,1778,1982,2014,{"$f":"ROW()","v":2989}]
["Tazewell County","Virginia",1252,1471,1550,1728,1756,{"$f":"ROW()","v":2990}]
["Warren County","Virginia",1755,2061,2172,2422,2461,{"$f":"ROW()","v":2991}]
["Washington County","Virginia",1435,1685,1776,1980,2012,{"$f":"ROW()","v":2992}]
["Westmoreland Coun","Virginia",1561,1833,1932,2154,2189,{"$f":"ROW()","v":2993}]
["Wise County","Virginia",1337,1571,1655,1845,1875,{"$f":"ROW()","v":2994}]
["Wythe County","Virginia",1343,1577,1662,1853,1883,{"$f":"ROW()","v":2995}]
["York County","Virginia",2203,2587,2726,3039,3089,{"$f":"ROW()","v":2996}]
["Alexandria city","Virginia",2926,3436,3621,4037,4103,{"$f":"ROW()","v":2997}]
["Bedford city","Virginia",1576,1851,1951,2175,2210,{"$f":"ROW()","v":2998}]
["Bristol city","Virginia",1336,1570,1654,1844,1874,{"$f":"ROW()","v":2999}]
["Buena Vista city","Virginia",1214,1426,1503,1676,1703,{"$f":"ROW()","v":3000}]
["Charlottesville city","Virginia",1997,2345,2471,2755,2800,{"$f":"ROW()","v":3001}]
["Chesapeake city","Virginia",2121,2491,2625,2927,2974,{"$f":"ROW()","v":3002}]
["Colonial Heights city","Virginia",1602,1882,1983,2211,2247,{"$f":"ROW()","v":3003}]
["Covington city","Virginia",1143,1342,1414,1577,1602,{"$f":"ROW()","v":3004}]
["Danville city","Virginia",1349,1585,1670,1862,1892,{"$f":"ROW()","v":3005}]
["Emporia city","Virginia",1454,1708,1800,2007,2039,{"$f":"ROW()","v":3006}]
["Fairfax city","Virginia",2929,3440,3625,4042,4107,{"$f":"ROW()","v":3007}]
["Falls Church city","Virginia",3807,4472,4712,5254,5339,{"$f":"ROW()","v":3008}]
["Franklin city","Virginia",1707,2005,2113,2356,2394,{"$f":"ROW()","v":3009}]
["Fredericksburg city","Virginia",2301,2703,2848,3176,3227,{"$f":"ROW()","v":3010}]
["Galax city","Virginia",1301,1528,1610,1795,1824,{"$f":"ROW()","v":3011}]
["Hampton city","Virginia",1762,2070,2181,2432,2471,{"$f":"ROW()","v":3012}]
["Harrisonburg city","Virginia",1538,1806,1903,2122,2156,{"$f":"ROW()","v":3013}]
["Hopewell city","Virginia",1318,1548,1631,1819,1848,{"$f":"ROW()","v":3014}]
["Lexington city","Virginia",1744,2049,2159,2407,2446,{"$f":"ROW()","v":3015}]
["Lynchburg city","Virginia",1449,1702,1793,1999,2031,{"$f":"ROW()","v":3016}]
["Manassas city","Virginia",2322,2727,2874,3205,3256,{"$f":"ROW()","v":3017}]
["Manassas Park city","Virginia",2223,2611,2751,3067,3117,{"$f":"ROW()","v":3018}]
["Martinsville city","Virginia",1206,1417,1493,1665,1692,{"$f":"ROW()","v":3019}]
["Newport News city","Virginia",1782,2093,2206,2460,2499,{"$f":"ROW()","v":3020}]
["Norfolk city","Virginia",1854,2177,2294,2558,2599,{"$f":"ROW()","v":3021}]
["Norton city","Virginia",1355,1591,1677,1870,1900,{"$f":"ROW()","v":3022}]
["Petersburg city","Virginia",1475,1733,1826,2036,2069,{"$f":"ROW()","v":3023}]
["Poquoson city","Virginia",2371,2785,2935,3273,3325,{"$f":"ROW()","v":3024}]
["Portsmouth city","Virginia",1739,2042,2152,2399,2438,{"$f":"ROW()","v":3025}]
["Radford city","Virginia",1549,1819,1917,2137,2172,{"$f":"ROW()","v":3026}]
["Richmond city","Virginia",1816,2133,2248,2507,2547,{"$f":"ROW()","v":3027}]
["Roanoke city","Virginia",1382,1623,1710,1907,1937,{"$f":"ROW()","v":3028}]
["Salem city","Virginia",1657,1946,2051,2287,2324,{"$f":"ROW()","v":3029}]
["Staunton city","Virginia",1461,1716,1808,2016,2048,{"$f":"ROW()","v":3030}]
["Suffolk city","Virginia",2104,2471,2604,2903,2950,{"$f":"ROW()","v":3031}]
["Virginia Beach city","Virginia",2074,2436,2567,2862,2908,{"$f":"ROW()","v":3032}]
["Waynesboro city","Virginia",1523,1789,1885,2102,2136,{"$f":"ROW()","v":3033}]
["Williamsburg city","Virginia",1832,2151,2267,2528,2569,{"$f":"ROW()","v":3034}]
["Winchester city","Virginia",1794,2107,2220,2475,2515,{"$f":"ROW()","v":3035}]
["Adams County","Washington",1601,1881,1982,2210,2246,{"$f":"ROW()","v":3036}]
["Asotin County","Washington",1599,1878,1979,2207,2242,{"$f":"ROW()","v":3037}]
["Benton County","Washington",1851,2174,2291,2554,2596,{"$f":"ROW()","v":3038}]
["Chelan County","Washington",1871,2198,2316,2582,2624,{"$f":"ROW()","v":3039}]
["Clallam County","Washington",1775,2085,2197,2450,2489,{"$f":"ROW()","v":3040}]
["Clark County","Washington",2084,2447,2579,2876,2922,{"$f":"ROW()","v":3041}]
["Columbia County","Washington",1558,1830,1928,2150,2184,{"$f":"ROW()","v":3042}]
["Cowlitz County","Washington",1803,2117,2231,2488,2528,{"$f":"ROW()","v":3043}]
["Douglas County","Washington",1833,2152,2268,2529,2570,{"$f":"ROW()","v":3044}]
["Ferry County","Washington",1478,1736,1829,2039,2072,{"$f":"ROW()","v":3045}]
["Franklin County","Washington",1738,2041,2151,2398,2437,{"$f":"ROW()","v":3046}]
["Garfield County","Washington",1370,1609,1695,1890,1920,{"$f":"ROW()","v":3047}]
["Grant County","Washington",1627,1911,2014,2246,2282,{"$f":"ROW()","v":3048}]
["Grays Harbor County","Washington",1662,1952,2057,2294,2331,{"$f":"ROW()","v":3049}]
["Island County","Washington",2154,2530,2666,2973,3021,{"$f":"ROW()","v":3050}]
["Jefferson County","Washington",1865,2190,2308,2573,2615,{"$f":"ROW()","v":3051}]
["King County","Washington",2880,3382,3564,3974,4038,{"$f":"ROW()","v":3052}]
["Kitsap County","Washington",2113,2482,2615,2916,2963,{"$f":"ROW()","v":3053}]
["Kittitas County","Washington",2008,2358,2485,2771,2816,{"$f":"ROW()","v":3054}]
["Klickitat County","Washington",1819,2136,2251,2510,2550,{"$f":"ROW()","v":3055}]
["Lewis County","Washington",1756,2062,2173,2423,2462,{"$f":"ROW()","v":3056}]
["Lincoln County","Washington",1546,1815,1913,2133,2167,{"$f":"ROW()","v":3057}]
["Mason County","Washington",1829,2149,2264,2524,2565,{"$f":"ROW()","v":3058}]
["Okanogan County","Washington",1612,1893,1995,2224,2260,{"$f":"ROW()","v":3059}]
["Pacific County","Washington",1580,1856,1956,2181,2216,{"$f":"ROW()","v":3060}]
["Pend Oreille County","Washington",1672,1963,2069,2307,2344,{"$f":"ROW()","v":3061}]
["Pierce County","Washington",2223,2611,2751,3067,3117,{"$f":"ROW()","v":3062}]
["San Juan County","Washington",2283,2681,2825,3150,3201,{"$f":"ROW()","v":3063}]
["Skagit County","Washington",2089,2454,2586,2883,2930,{"$f":"ROW()","v":3064}]
["Skamania County","Washington",2060,2420,2550,2843,2889,{"$f":"ROW()","v":3065}]
["Snohomish County","Washington",2477,2909,3065,3417,3473,{"$f":"ROW()","v":3066}]
["Spokane County","Washington",1760,2067,2178,2428,2468,{"$f":"ROW()","v":3067}]
["Stevens County","Washington",1694,1989,2096,2337,2375,{"$f":"ROW()","v":3068}]
["Thurston County","Washington",2078,2441,2572,2868,2914,{"$f":"ROW()","v":3069}]
["Wahkiakum County","Washington",1739,2042,2152,2399,2438,{"$f":"ROW()","v":3070}]
["Walla Walla County","Washington",1775,2085,2197,2450,2489,{"$f":"ROW()","v":3071}]
["Whatcom County","Washington",2054,2412,2542,2834,2880,{"$f":"ROW()","v":3072}]
["Whitman County","Washington",1798,2112,2225,2481,2521,{"$f":"ROW()","v":3073}]
["Yakima County","Washington",1676,1968,2074,2313,2350,{"$f":"ROW()","v":3074}]
["Barbour County","West Virginia",1270,1492,1572,1753,1781,{"$f":"ROW()","v":3075}]
["Berkeley County","West Virginia",1584,1861,1961,2187,2222,{"$f":"ROW()","v":3076}]
["Boone County","West Virginia",1244,1461,1540,1717,1745,{"$f":"ROW()","v":3077}]
["Braxton County","West Virginia",1244,1461,1540,1717,1745,{"$f":"ROW()","v":3078}]
["Brooke County","West Virginia",1252,1471,1550,1728,1756,{"$f":"ROW()","v":3079}]
["Cabell County","West Virginia",1340,1573,1658,1849,1879,{"$f":"ROW()","v":3080}]
["Calhoun County","West Virginia",1025,1204,1269,1415,1438,{"$f":"ROW()","v":3081}]
["Clay County","West Virginia",1143,1343,1415,1578,1603,{"$f":"ROW()","v":3082}]
["Doddridge County","West Virginia",1244,1461,1539,1716,1744,{"$f":"ROW()","v":3083}]
["Fayette County","West Virginia",1241,1458,1536,1713,1740,{"$f":"ROW()","v":3084}]
["Gilmer County","West Virginia",956,1123,1183,1319,1340,{"$f":"ROW()","v":3085}]
["Grant County","West Virginia",1161,1364,1437,1602,1628,{"$f":"ROW()","v":3086}]
["Greenbrier County","West Virginia",1321,1552,1635,1823,1852,{"$f":"ROW()","v":3087}]
["Hampshire County","West Virginia",1269,1491,1571,1752,1780,{"$f":"ROW()","v":3088}]
["Hancock County","West Virginia",1189,1397,1472,1641,1668,{"$f":"ROW()","v":3089}]
["Hardy County","West Virginia",1284,1508,1589,1772,1800,{"$f":"ROW()","v":3090}]
["Harrison County","West Virginia",1290,1516,1597,1781,1809,{"$f":"ROW()","v":3091}]
["Jackson County","West Virginia",1223,1437,1514,1688,1715,{"$f":"ROW()","v":3092}]
["Jefferson County","West Virginia",1874,2201,2319,2586,2627,{"$f":"ROW()","v":3093}]
["Kanawha County","West Virginia",1349,1585,1670,1862,1892,{"$f":"ROW()","v":3094}]
["Lewis County","West Virginia",1231,1446,1524,1699,1727,{"$f":"ROW()","v":3095}]
["Lincoln County","West Virginia",1147,1347,1419,1582,1608,{"$f":"ROW()","v":3096}]
["Logan County","West Virginia",1195,1404,1479,1649,1676,{"$f":"ROW()","v":3097}]
["McDowell County","West Virginia",1083,1272,1340,1494,1518,{"$f":"ROW()","v":3098}]
["Marion County","West Virginia",1288,1513,1594,1777,1806,{"$f":"ROW()","v":3099}]
["Marshall County","West Virginia",1221,1434,1511,1685,1712,{"$f":"ROW()","v":3100}]
["Mason County","West Virginia",1249,1467,1546,1724,1752,{"$f":"ROW()","v":3101}]
["Mercer County","West Virginia",1264,1484,1564,1744,1772,{"$f":"ROW()","v":3102}]
["Mineral County","West Virginia",1244,1461,1539,1716,1744,{"$f":"ROW()","v":3103}]
["Mingo County","West Virginia",1263,1483,1563,1743,1771,{"$f":"ROW()","v":3104}]
["Monongalia County","West Virginia",1619,1902,2004,2234,2271,{"$f":"ROW()","v":3105}]
["Monroe County","West Virginia",1205,1415,1491,1662,1689,{"$f":"ROW()","v":3106}]
["Morgan County","West Virginia",1454,1708,1800,2007,2039,{"$f":"ROW()","v":3107}]
["Nicholas County","West Virginia",1176,1382,1456,1623,1650,{"$f":"ROW()","v":3108}]
["Ohio County","West Virginia",1298,1524,1606,1791,1820,{"$f":"ROW()","v":3109}]
["Pendleton County","West Virginia",1158,1360,1433,1598,1624,{"$f":"ROW()","v":3110}]
["Pleasants County","West Virginia",1271,1493,1573,1754,1782,{"$f":"ROW()","v":3111}]
["Pocahontas County","West Virginia",1278,1501,1582,1764,1792,{"$f":"ROW()","v":3112}]
["Preston County","West Virginia",1381,1622,1709,1906,1936,{"$f":"ROW()","v":3113}]
["Putnam County","West Virginia",1579,1854,1954,2179,2214,{"$f":"ROW()","v":3114}]
["Raleigh County","West Virginia",1273,1495,1575,1756,1784,{"$f":"ROW()","v":3115}]
["Randolph County","West Virginia",1210,1421,1497,1669,1696,{"$f":"ROW()","v":3116}]
["Ritchie County","West Virginia",1103,1295,1365,1522,1547,{"$f":"ROW()","v":3117}]
["Roane County","West Virginia",1224,1438,1515,1689,1716,{"$f":"ROW()","v":3118}]
["Summers County","West Virginia",1066,1252,1319,1471,1494,{"$f":"ROW()","v":3119}]
["Taylor County","West Virginia",1250,1468,1547,1725,1753,{"$f":"ROW()","v":3120}]
["Tucker County","West Virginia",1183,1389,1464,1632,1659,{"$f":"ROW()","v":3121}]
["Tyler County","West Virginia",1203,1413,1489,1660,1687,{"$f":"ROW()","v":3122}]
["Upshur County","West Virginia",1275,1498,1578,1759,1788,{"$f":"ROW()","v":3123}]
["Wayne County","West Virginia",1321,1552,1635,1823,1852,{"$f":"ROW()","v":3124}]
["Webster County","West Virginia",1150,1350,1423,1587,1612,{"$f":"ROW()","v":3125}]
["Wetzel County","West Virginia",1197,1406,1482,1652,1679,{"$f":"ROW()","v":3126}]
["Wirt County","West Virginia",1073,1260,1328,1481,1505,{"$f":"ROW()","v":3127}]
["Wood County","West Virginia",1257,1477,1556,1735,1763,{"$f":"ROW()","v":3128}]
["Wyoming County","West Virginia",1140,1339,1411,1573,1599,{"$f":"ROW()","v":3129}]
["Adams County","Wisconsin",1449,1702,1793,1999,2031,{"$f":"ROW()","v":3130}]
["Ashland County","Wisconsin",1460,1715,1807,2015,2047,{"$f":"ROW()","v":3131}]
["Barron County","Wisconsin",1518,1783,1879,2095,2129,{"$f":"ROW()","v":3132}]
["Bayfield County","Wisconsin",1559,1832,1930,2152,2187,{"$f":"ROW()","v":3133}]
["Brown County","Wisconsin",1629,1913,2016,2248,2284,{"$f":"ROW()","v":3134}]
["Buffalo County","Wisconsin",1548,1818,1916,2136,2171,{"$f":"ROW()","v":3135}]
["Burnett County","Wisconsin",1429,1678,1768,1971,2003,{"$f":"ROW()","v":3136}]
["Calumet County","Wisconsin",1656,1945,2050,2286,2323,{"$f":"ROW()","v":3137}]
["Chippewa County","Wisconsin",1573,1848,1947,2171,2206,{"$f":"ROW()","v":3138}]
["Clark County","Wisconsin",1441,1693,1784,1989,2021,{"$f":"ROW()","v":3139}]
["Columbia County","Wisconsin",1754,2060,2171,2421,2460,{"$f":"ROW()","v":3140}]
["Crawford County","Wisconsin",1435,1685,1776,1980,2012,{"$f":"ROW()","v":3141}]
["Dane County","Wisconsin",2060,2420,2550,2843,2889,{"$f":"ROW()","v":3142}]
["Dodge County","Wisconsin",1597,1875,1976,2203,2239,{"$f":"ROW()","v":3143}]
["Door County","Wisconsin",1648,1935,2039,2273,2310,{"$f":"ROW()","v":3144}]
["Douglas County","Wisconsin",1515,1779,1875,2091,2124,{"$f":"ROW()","v":3145}]
["Dunn County","Wisconsin",1598,1877,1978,2205,2241,{"$f":"ROW()","v":3146}]
["Eau Claire County","Wisconsin",1633,1918,2021,2253,2290,{"$f":"ROW()","v":3147}]
["Florence County","Wisconsin",1287,1512,1593,1776,1805,{"$f":"ROW()","v":3148}]
["Fond du Lac County","Wisconsin",1573,1848,1947,2171,2206,{"$f":"ROW()","v":3149}]
["Forest County","Wisconsin",1326,1557,1641,1830,1859,{"$f":"ROW()","v":3150}]
["Grant County","Wisconsin",1496,1757,1851,2064,2097,{"$f":"ROW()","v":3151}]
["Green County","Wisconsin",1704,2001,2109,2352,2389,{"$f":"ROW()","v":3152}]
["Green Lake County","Wisconsin",1471,1728,1821,2030,2063,{"$f":"ROW()","v":3153}]
["Iowa County","Wisconsin",1684,1978,2084,2324,2361,{"$f":"ROW()","v":3154}]
["Iron County","Wisconsin",1386,1628,1715,1912,1943,{"$f":"ROW()","v":3155}]
["Jackson County","Wisconsin",1435,1685,1776,1980,2012,{"$f":"ROW()","v":3156}]
["Jefferson County","Wisconsin",1731,2033,2142,2388,2427,{"$f":"ROW()","v":3157}]
["Juneau County","Wisconsin",1483,1741,1835,2046,2079,{"$f":"ROW()","v":3158}]
["Kenosha County","Wisconsin",1740,2043,2153,2401,2439,{"$f":"ROW()","v":3159}]
["Kewaunee County","Wisconsin",1511,1775,1870,2085,2119,{"$f":"ROW()","v":3160}]
["La Crosse County","Wisconsin",1686,1981,2087,2327,2365,{"$f":"ROW()","v":3161}]
["Lafayette County","Wisconsin",1568,1842,1941,2164,2199,{"$f":"ROW()","v":3162}]
["Langlade County","Wisconsin",1297,1523,1605,1790,1818,{"$f":"ROW()","v":3163}]
["Lincoln County","Wisconsin",1437,1687,1778,1982,2014,{"$f":"ROW()","v":3164}]
["Manitowoc County","Wisconsin",1389,1631,1719,1917,1948,{"$f":"ROW()","v":3165}]
["Marathon County","Wisconsin",1547,1817,1915,2135,2170,{"$f":"ROW()","v":3166}]
["Marinette County","Wisconsin",1347,1582,1667,1859,1889,{"$f":"ROW()","v":3167}]
["Marquette County","Wisconsin",1503,1765,1860,2074,2107,{"$f":"ROW()","v":3168}]
["Menominee County","Wisconsin",1504,1766,1861,2075,2109,{"$f":"ROW()","v":3169}]
["Milwaukee County","Wisconsin",1713,2012,2120,2364,2402,{"$f":"ROW()","v":3170}]
["Monroe County","Wisconsin",1569,1843,1942,2165,2200,{"$f":"ROW()","v":3171}]
["Oconto County","Wisconsin",1532,1799,1896,2114,2148,{"$f":"ROW()","v":3172}]
["Oneida County","Wisconsin",1483,1742,1836,2047,2080,{"$f":"ROW()","v":3173}]
["Outagamie County","Wisconsin",1630,1914,2017,2249,2285,{"$f":"ROW()","v":3174}]
["Ozaukee County","Wisconsin",2014,2366,2493,2780,2825,{"$f":"ROW()","v":3175}]
["Pepin County","Wisconsin",1509,1772,1867,2082,2115,{"$f":"ROW()","v":3176}]
["Pierce County","Wisconsin",1905,2238,2358,2629,2672,{"$f":"ROW()","v":3177}]
["Polk County","Wisconsin",1622,1905,2007,2238,2274,{"$f":"ROW()","v":3178}]
["Portage County","Wisconsin",1551,1822,1920,2141,2175,{"$f":"ROW()","v":3179}]
["Price County","Wisconsin",1389,1631,1719,1917,1948,{"$f":"ROW()","v":3180}]
["Racine County","Wisconsin",1717,2017,2125,2369,2408,{"$f":"ROW()","v":3181}]
["Richland County","Wisconsin",1449,1702,1793,1999,2031,{"$f":"ROW()","v":3182}]
["Rock County","Wisconsin",1547,1816,1914,2134,2169,{"$f":"ROW()","v":3183}]
["Rusk County","Wisconsin",1335,1568,1652,1842,1872,{"$f":"ROW()","v":3184}]
["St. Croix County","Wisconsin",1929,2265,2387,2662,2704,{"$f":"ROW()","v":3185}]
["Sauk County","Wisconsin",1665,1956,2061,2298,2335,{"$f":"ROW()","v":3186}]
["Sawyer County","Wisconsin",1430,1680,1770,1974,2005,{"$f":"ROW()","v":3187}]
["Shawano County","Wisconsin",1401,1646,1734,1933,1965,{"$f":"ROW()","v":3188}]
["Sheboygan County","Wisconsin",1517,1782,1878,2094,2128,{"$f":"ROW()","v":3189}]
["Taylor County","Wisconsin",1470,1726,1819,2028,2061,{"$f":"ROW()","v":3190}]
["Trempealeau County","Wisconsin",1602,1882,1983,2211,2247,{"$f":"ROW()","v":3191}]
["Vernon County","Wisconsin",1538,1807,1904,2123,2157,{"$f":"ROW()","v":3192}]
["Vilas County","Wisconsin",1494,1755,1849,2062,2095,{"$f":"ROW()","v":3193}]
["Walworth County","Wisconsin",1761,2068,2179,2430,2469,{"$f":"ROW()","v":3194}]
["Washburn County","Wisconsin",1460,1715,1807,2015,2047,{"$f":"ROW()","v":3195}]
["Washington County","Wisconsin",1901,2233,2353,2624,2666,{"$f":"ROW()","v":3196}]
["Waukesha County","Wisconsin",2084,2447,2579,2876,2922,{"$f":"ROW()","v":3197}]
["Waupaca County","Wisconsin",1496,1758,1852,2065,2098,{"$f":"ROW()","v":3198}]
["Waushara County","Wisconsin",1434,1684,1775,1979,2011,{"$f":"ROW()","v":3199}]
["Winnebago County","Wisconsin",1562,1834,1933,2155,2190,{"$f":"ROW()","v":3200}]
["Wood County","Wisconsin",1387,1628,1716,1913,1944,{"$f":"ROW()","v":3201}]
["Albany County","Wyoming",1840,2161,2277,2539,2580,{"$f":"ROW()","v":3202}]
["Big Horn County","Wyoming",1429,1679,1769,1972,2004,{"$f":"ROW()","v":3203}]
["Campbell County","Wyoming",1843,2165,2281,2543,2584,{"$f":"ROW()","v":3204}]
["Carbon County","Wyoming",1506,1769,1864,2078,2112,{"$f":"ROW()","v":3205}]
["Converse County","Wyoming",1749,2055,2165,2414,2453,{"$f":"ROW()","v":3206}]
["Crook County","Wyoming",1883,2211,2330,2598,2640,{"$f":"ROW()","v":3207}]
["Fremont County","Wyoming",1621,1904,2006,2237,2273,{"$f":"ROW()","v":3208}]
["Goshen County","Wyoming",1474,1731,1824,2034,2067,{"$f":"ROW()","v":3209}]
["Hot Springs County","Wyoming",1460,1715,1807,2015,2047,{"$f":"ROW()","v":3210}]
["Johnson County","Wyoming",1776,2086,2198,2451,2490,{"$f":"ROW()","v":3211}]
["Laramie County","Wyoming",1795,2109,2222,2478,2518,{"$f":"ROW()","v":3212}]
["Lincoln County","Wyoming",1753,2058,2169,2418,2457,{"$f":"ROW()","v":3213}]
["Natrona County","Wyoming",1685,1979,2085,2325,2362,{"$f":"ROW()","v":3214}]
["Niobrara County","Wyoming",1457,1711,1803,2010,2043,{"$f":"ROW()","v":3215}]
["Park County","Wyoming",1732,2035,2144,2391,2429,{"$f":"ROW()","v":3216}]
["Platte County","Wyoming",1577,1852,1952,2176,2212,{"$f":"ROW()","v":3217}]
["Sheridan County","Wyoming",1817,2134,2249,2508,2548,{"$f":"ROW()","v":3218}]
["Sublette County","Wyoming",1885,2214,2333,2601,2643,{"$f":"ROW()","v":3219}]
["Sweetwater County","Wyoming",1669,1960,2065,2302,2340,{"$f":"ROW()","v":3220}]
["Teton County","Wyoming",2495,2931,3088,3443,3499,{"$f":"ROW()","v":3221}]
["Uinta County","Wyoming",1492,1752,1846,2058,2092,{"$f":"ROW()","v":3222}]
["Washakie County","Wyoming",1504,1766,1861,2075,2109,{"$f":"ROW()","v":3223}]
["Weston County","Wyoming",1600,1879,1980,2208,2243,{"$f":"ROW()","v":3224}]

{"sheet":"Transportation","index":4,"n_rows":270,"n_cols":11,"rows_kept":270,"cut":false,"hidden":false,"merged":[[0,9,1,9],[0,10,1,10]]}
[null,null,null,null,null,"County & State","Region","1 veh","2+ veh","# Vehicles Claimed:","Max Allowed"]
[null,null,null,null,null,{"$f":"IF(OR(Calculator!C5=\"\",Calculator!C4=\"\"),\"\",Calculator!D5&\", \"&Calculator!C4)","v":"Hamilton County, Tennessee"},{"$f":"IF(F2=\"\",\"\",_xlfn.IFNA(_xlfn.XLOOKUP(F2,F3:F270,G3:G270),_xlfn.XLOOKUP(Calculator!C4,F3:F270,G3:G270)))","v":"South Region"},{"$f":"_xlfn.IFNA(_xlfn.IFNA(_xlfn.XLOOKUP(G2,G3:G270,H3:H270),_xlfn.XLOOKUP(Calculator!E4,G3:G270,H3:H270)),0)","v":242},{"$f":"IFERROR(_xlfn.IFNA(_xlfn.XLOOKUP(H2,H3:H270,I3:I270),_xlfn.XLOOKUP(Calculator!#REF!,H3:H270,I3:I270)),0)","v":484}]
["Public Transportation",null,null,null,null,"Adams County, Colorado","Denver",{"$f":"_xlfn.XLOOKUP(G3,A:A,B:B)","v":279},{"$f":"_xlfn.XLOOKUP(G3,A:A,C:C)","v":558},{"$f":"Calculator!C6","v":2},{"$f":"IF(Calculator!C6>1,Transportation!I2,Transportation!H2)","v":484}]
["Location","Allowed Amount",null,null,null,"Alabama","South Region",{"$f":"_xlfn.XLOOKUP(G4,A:A,B:B)","v":242},{"$f":"_xlfn.XLOOKUP(G4,A:A,C:C)","v":484}]
["National ",218,null,null,null,"Alameda County, California","San Francisco",{"$f":"_xlfn.XLOOKUP(G5,A:A,B:B)","v":301},{"$f":"_xlfn.XLOOKUP(G5,A:A,C:C)","v":602}]
["Ownership Costs",null,null,null,null,"Alaska","West Region",{"$f":"_xlfn.XLOOKUP(G6,A:A,B:B)","v":264},{"$f":"_xlfn.XLOOKUP(G6,A:A,C:C)","v":528}]
["Location","One Car","Two Cars",null,null,"Alexandria city County, Virginia","Washington, D.C.",{"$f":"_xlfn.XLOOKUP(G7,A:A,B:B)","v":294},{"$f":"_xlfn.XLOOKUP(G7,A:A,C:C)","v":588}]
["National",629,1258,null,null,"Anchorage County, Alaska","Anchorage",{"$f":"_xlfn.XLOOKUP(G8,A:A,B:B)","v":208},{"$f":"_xlfn.XLOOKUP(G8,A:A,C:C)","v":416}]
["Northeast Region Operating Costs",null,null,null,null,"Anne Arundel County, Maryland","Baltimore",{"$f":"_xlfn.XLOOKUP(G9,A:A,B:B)","v":277},{"$f":"_xlfn.XLOOKUP(G9,A:A,C:C)","v":554}]
["Location","One Car","Two Cars",null,null,"Anoka County, Minnosota","Minneapolis-St. Paul",{"$f":"_xlfn.XLOOKUP(G10,A:A,B:B)","v":214},{"$f":"_xlfn.XLOOKUP(G10,A:A,C:C)","v":428}]
["Northeast Region",298,596,null,null,"Arapahoe County, Colorado","Denver",{"$f":"_xlfn.XLOOKUP(G11,A:A,B:B)","v":279},{"$f":"_xlfn.XLOOKUP(G11,A:A,C:C)","v":558}]
["Boston",294,588,null,null,"Arizona","West Region",{"$f":"_xlfn.XLOOKUP(G12,A:A,B:B)","v":264},{"$f":"_xlfn.XLOOKUP(G12,A:A,C:C)","v":528}]
["New York",379,758,null,null,"Arkansas","South Region",{"$f":"_xlfn.XLOOKUP(G13,A:A,B:B)","v":242},{"$f":"_xlfn.XLOOKUP(G13,A:A,C:C)","v":484}]
["Philadelphia",318,636,null,null,"Arlington County, Virginia","Washington, D.C.",{"$f":"_xlfn.XLOOKUP(G14,A:A,B:B)","v":294},{"$f":"_xlfn.XLOOKUP(G14,A:A,C:C)","v":588}]
["Midwest Region Operating Costs",null,null,null,null,"Ashtabula County, Ohio","Cleveland",{"$f":"_xlfn.XLOOKUP(G15,A:A,B:B)","v":225},{"$f":"_xlfn.XLOOKUP(G15,A:A,C:C)","v":450}]
["Location","One Car","Two Cars",null,null,"Austin County, Texas","Houston",{"$f":"_xlfn.XLOOKUP(G16,A:A,B:B)","v":312},{"$f":"_xlfn.XLOOKUP(G16,A:A,C:C)","v":624}]
["Midwest Region",225,450,null,null,"Baltimore city County, Maryland","Baltimore",{"$f":"_xlfn.XLOOKUP(G17,A:A,B:B)","v":277},{"$f":"_xlfn.XLOOKUP(G17,A:A,C:C)","v":554}]
["Chicago",265,530,null,null,"Baltimore county County, Maryland","Baltimore",{"$f":"_xlfn.XLOOKUP(G18,A:A,B:B)","v":277},{"$f":"_xlfn.XLOOKUP(G18,A:A,C:C)","v":554}]
["Cleveland",225,450,null,null,"Barrow County, Georgia","Atlanta",{"$f":"_xlfn.XLOOKUP(G19,A:A,B:B)","v":300},{"$f":"_xlfn.XLOOKUP(G19,A:A,C:C)","v":600}]
["Detroit",315,630,null,null,"Bartow County, Georgia","Atlanta",{"$f":"_xlfn.XLOOKUP(G20,A:A,B:B)","v":300},{"$f":"_xlfn.XLOOKUP(G20,A:A,C:C)","v":600}]
["Minneapolis-St. Paul",214,428,null,null,"Bergen County, New Jersey","New York",{"$f":"_xlfn.XLOOKUP(G21,A:A,B:B)","v":379},{"$f":"_xlfn.XLOOKUP(G21,A:A,C:C)","v":758}]
["St. Louis",244,488,null,null,"Bond County, Illinois","St. Louis",{"$f":"_xlfn.XLOOKUP(G22,A:A,B:B)","v":244},{"$f":"_xlfn.XLOOKUP(G22,A:A,C:C)","v":488}]
["South Region Operating Costs",null,null,null,null,"Brazoria County, Texas","Houston",{"$f":"_xlfn.XLOOKUP(G23,A:A,B:B)","v":312},{"$f":"_xlfn.XLOOKUP(G23,A:A,C:C)","v":624}]
["Location","One Car","Two Cars",null,null,"Bronx County, New York","New York",{"$f":"_xlfn.XLOOKUP(G24,A:A,B:B)","v":379},{"$f":"_xlfn.XLOOKUP(G24,A:A,C:C)","v":758}]
["South Region",242,484,null,null,"Broomfield County, Colorado","Denver",{"$f":"_xlfn.XLOOKUP(G25,A:A,B:B)","v":279},{"$f":"_xlfn.XLOOKUP(G25,A:A,C:C)","v":558}]
["Atlanta",300,600,null,null,"Broward County, Florida","Miami",{"$f":"_xlfn.XLOOKUP(G26,A:A,B:B)","v":364},{"$f":"_xlfn.XLOOKUP(G26,A:A,C:C)","v":728}]
["Baltimore",277,554,null,null,"Bucks County, Pennsylvania","Philadelphia",{"$f":"_xlfn.XLOOKUP(G27,A:A,B:B)","v":318},{"$f":"_xlfn.XLOOKUP(G27,A:A,C:C)","v":636}]
["Dallas-Ft. Worth",288,576,null,null,"Burlington County, New Jersey","Philadelphia",{"$f":"_xlfn.XLOOKUP(G28,A:A,B:B)","v":318},{"$f":"_xlfn.XLOOKUP(G28,A:A,C:C)","v":636}]
["Houston",312,624,null,null,"Butts County, Georgia","Atlanta",{"$f":"_xlfn.XLOOKUP(G29,A:A,B:B)","v":300},{"$f":"_xlfn.XLOOKUP(G29,A:A,C:C)","v":600}]
["Miami",364,728,null,null,"Calhoun County, Illinois","St. Louis",{"$f":"_xlfn.XLOOKUP(G30,A:A,B:B)","v":244},{"$f":"_xlfn.XLOOKUP(G30,A:A,C:C)","v":488}]
["Tampa",297,594,null,null,"California","West Region",{"$f":"_xlfn.XLOOKUP(G31,A:A,B:B)","v":264},{"$f":"_xlfn.XLOOKUP(G31,A:A,C:C)","v":528}]
["Washington, D.C.",294,588,null,null,"Calvert County, Maryland","Washington, D.C.",{"$f":"_xlfn.XLOOKUP(G32,A:A,B:B)","v":294},{"$f":"_xlfn.XLOOKUP(G32,A:A,C:C)","v":588}]
["West Region Operating Costs",null,null,null,null,"Camden County, New Jersey","Philadelphia",{"$f":"_xlfn.XLOOKUP(G33,A:A,B:B)","v":318},{"$f":"_xlfn.XLOOKUP(G33,A:A,C:C)","v":636}]
["Location","One Car","Two Cars",null,null,"Carroll County, Georgia","Atlanta",{"$f":"_xlfn.XLOOKUP(G34,A:A,B:B)","v":300},{"$f":"_xlfn.XLOOKUP(G34,A:A,C:C)","v":600}]
["West Region",264,528,null,null,"Carroll County, Maryland","Baltimore",{"$f":"_xlfn.XLOOKUP(G35,A:A,B:B)","v":277},{"$f":"_xlfn.XLOOKUP(G35,A:A,C:C)","v":554}]
["Anchorage",208,416,null,null,"Carver County, Minnosota","Minneapolis-St. Paul",{"$f":"_xlfn.XLOOKUP(G36,A:A,B:B)","v":214},{"$f":"_xlfn.XLOOKUP(G36,A:A,C:C)","v":428}]
["Denver",279,558,null,null,"Cecil County, Maryland","Philadelphia",{"$f":"_xlfn.XLOOKUP(G37,A:A,B:B)","v":318},{"$f":"_xlfn.XLOOKUP(G37,A:A,C:C)","v":636}]
["Honolulu",243,486,null,null,"Chambers County, Texas","Houston",{"$f":"_xlfn.XLOOKUP(G38,A:A,B:B)","v":312},{"$f":"_xlfn.XLOOKUP(G38,A:A,C:C)","v":624}]
["Los Angeles",339,678,null,null,"Charles County, Maryland","Washington, D.C.",{"$f":"_xlfn.XLOOKUP(G39,A:A,B:B)","v":294},{"$f":"_xlfn.XLOOKUP(G39,A:A,C:C)","v":588}]
["Phoenix",271,542,null,null,"Cherokee County, Georgia","Atlanta",{"$f":"_xlfn.XLOOKUP(G40,A:A,B:B)","v":300},{"$f":"_xlfn.XLOOKUP(G40,A:A,C:C)","v":600}]
["San Diego",322,644,null,null,"Chester County, Pennsylvania","Philadelphia",{"$f":"_xlfn.XLOOKUP(G41,A:A,B:B)","v":318},{"$f":"_xlfn.XLOOKUP(G41,A:A,C:C)","v":636}]
["San Francisco",301,602,null,null,"Chisago County, Minnosota","Minneapolis-St. Paul",{"$f":"_xlfn.XLOOKUP(G42,A:A,B:B)","v":214},{"$f":"_xlfn.XLOOKUP(G42,A:A,C:C)","v":428}]
["Seattle",281,562,null,null,"Clarke County, Virginia","Washington, D.C.",{"$f":"_xlfn.XLOOKUP(G43,A:A,B:B)","v":294},{"$f":"_xlfn.XLOOKUP(G43,A:A,C:C)","v":588}]
[null,null,null,null,null,"Clayton County, Georgia","Atlanta",{"$f":"_xlfn.XLOOKUP(G44,A:A,B:B)","v":300},{"$f":"_xlfn.XLOOKUP(G44,A:A,C:C)","v":600}]
[null,null,null,null,null,"Clear Creek County, Colorado","Denver",{"$f":"_xlfn.XLOOKUP(G45,A:A,B:B)","v":279},{"$f":"_xlfn.XLOOKUP(G45,A:A,C:C)","v":558}]
[null,null,null,null,null,"Clinton County, Illinois","St. Louis",{"$f":"_xlfn.XLOOKUP(G46,A:A,B:B)","v":244},{"$f":"_xlfn.XLOOKUP(G46,A:A,C:C)","v":488}]
[null,null,null,null,null,"Cobb County, Georgia","Atlanta",{"$f":"_xlfn.XLOOKUP(G47,A:A,B:B)","v":300},{"$f":"_xlfn.XLOOKUP(G47,A:A,C:C)","v":600}]
[null,null,null,null,null,"Collin County, Texas","Dallas-Ft. Worth",{"$f":"_xlfn.XLOOKUP(G48,A:A,B:B)","v":288},{"$f":"_xlfn.XLOOKUP(G48,A:A,C:C)","v":576}]
[null,null,null,null,null,"Colorado","West Region",{"$f":"_xlfn.XLOOKUP(G49,A:A,B:B)","v":264},{"$f":"_xlfn.XLOOKUP(G49,A:A,C:C)","v":528}]
[null,null,null,null,null,"Connecticut","Northeast Region",{"$f":"_xlfn.XLOOKUP(G50,A:A,B:B)","v":298},{"$f":"_xlfn.XLOOKUP(G50,A:A,C:C)","v":596}]
[null,null,null,null,null,"Contra Costa County, California","San Francisco",{"$f":"_xlfn.XLOOKUP(G51,A:A,B:B)","v":301},{"$f":"_xlfn.XLOOKUP(G51,A:A,C:C)","v":602}]
[null,null,null,null,null,"Cook County, Illinois","Chicago",{"$f":"_xlfn.XLOOKUP(G52,A:A,B:B)","v":265},{"$f":"_xlfn.XLOOKUP(G52,A:A,C:C)","v":530}]
[null,null,null,null,null,"Coweta County, Georgia","Atlanta",{"$f":"_xlfn.XLOOKUP(G53,A:A,B:B)","v":300},{"$f":"_xlfn.XLOOKUP(G53,A:A,C:C)","v":600}]
[null,null,null,null,null,"Culpeper County, Virginia","Washington, D.C.",{"$f":"_xlfn.XLOOKUP(G54,A:A,B:B)","v":294},{"$f":"_xlfn.XLOOKUP(G54,A:A,C:C)","v":588}]
[null,null,null,null,null,"Cuyahoga County, Ohio","Cleveland",{"$f":"_xlfn.XLOOKUP(G55,A:A,B:B)","v":225},{"$f":"_xlfn.XLOOKUP(G55,A:A,C:C)","v":450}]
[null,null,null,null,null,"Dakota County, Minnosota","Minneapolis-St. Paul",{"$f":"_xlfn.XLOOKUP(G56,A:A,B:B)","v":214},{"$f":"_xlfn.XLOOKUP(G56,A:A,C:C)","v":428}]
[null,null,null,null,null,"Dallas County, Texas","Dallas-Ft. Worth",{"$f":"_xlfn.XLOOKUP(G57,A:A,B:B)","v":288},{"$f":"_xlfn.XLOOKUP(G57,A:A,C:C)","v":576}]
[null,null,null,null,null,"Dawson County, Georgia","Atlanta",{"$f":"_xlfn.XLOOKUP(G58,A:A,B:B)","v":300},{"$f":"_xlfn.XLOOKUP(G58,A:A,C:C)","v":600}]
[null,null,null,null,null,"DeKalb County, Georgia","Atlanta",{"$f":"_xlfn.XLOOKUP(G59,A:A,B:B)","v":300},{"$f":"_xlfn.XLOOKUP(G59,A:A,C:C)","v":600}]
[null,null,null,null,null,"DeKalb County, Illinois","Chicago",{"$f":"_xlfn.XLOOKUP(G60,A:A,B:B)","v":265},{"$f":"_xlfn.XLOOKUP(G60,A:A,C:C)","v":530}]
[null,null,null,null,null,"Delaware","South Region",{"$f":"_xlfn.XLOOKUP(G61,A:A,B:B)","v":242},{"$f":"_xlfn.XLOOKUP(G61,A:A,C:C)","v":484}]
[null,null,null,null,null,"Delaware County, Pennsylvania","Philadelphia",{"$f":"_xlfn.XLOOKUP(G62,A:A,B:B)","v":318},{"$f":"_xlfn.XLOOKUP(G62,A:A,C:C)","v":636}]
[null,null,null,null,null,"Denton County, Texas","Dallas-Ft. Worth",{"$f":"_xlfn.XLOOKUP(G63,A:A,B:B)","v":288},{"$f":"_xlfn.XLOOKUP(G63,A:A,C:C)","v":576}]
[null,null,null,null,null,"Denver County, Colorado","Denver",{"$f":"_xlfn.XLOOKUP(G64,A:A,B:B)","v":279},{"$f":"_xlfn.XLOOKUP(G64,A:A,C:C)","v":558}]
[null,null,null,null,null,"District of Columbia","South Region",{"$f":"_xlfn.XLOOKUP(G65,A:A,B:B)","v":242},{"$f":"_xlfn.XLOOKUP(G65,A:A,C:C)","v":484}]
[null,null,null,null,null,"District of Columbia County, DC","Washington, D.C.",{"$f":"_xlfn.XLOOKUP(G66,A:A,B:B)","v":294},{"$f":"_xlfn.XLOOKUP(G66,A:A,C:C)","v":588}]
[null,null,null,null,null,"Douglas County, Colorado","Denver",{"$f":"_xlfn.XLOOKUP(G67,A:A,B:B)","v":279},{"$f":"_xlfn.XLOOKUP(G67,A:A,C:C)","v":558}]
[null,null,null,null,null,"Douglas County, Georgia","Atlanta",{"$f":"_xlfn.XLOOKUP(G68,A:A,B:B)","v":300},{"$f":"_xlfn.XLOOKUP(G68,A:A,C:C)","v":600}]
[null,null,null,null,null,"DuPage County, Illinois","Chicago",{"$f":"_xlfn.XLOOKUP(G69,A:A,B:B)","v":265},{"$f":"_xlfn.XLOOKUP(G69,A:A,C:C)","v":530}]
[null,null,null,null,null,"Dutchess County, New York","New York",{"$f":"_xlfn.XLOOKUP(G70,A:A,B:B)","v":379},{"$f":"_xlfn.XLOOKUP(G70,A:A,C:C)","v":758}]
[null,null,null,null,null,"Elbert County, Colorado","Denver",{"$f":"_xlfn.XLOOKUP(G71,A:A,B:B)","v":279},{"$f":"_xlfn.XLOOKUP(G71,A:A,C:C)","v":558}]
[null,null,null,null,null,"Ellis County, Texas","Dallas-Ft. Worth",{"$f":"_xlfn.XLOOKUP(G72,A:A,B:B)","v":288},{"$f":"_xlfn.XLOOKUP(G72,A:A,C:C)","v":576}]
[null,null,null,null,null,"Essex County, Massachusetts","Boston",{"$f":"_xlfn.XLOOKUP(G73,A:A,B:B)","v":294},{"$f":"_xlfn.XLOOKUP(G73,A:A,C:C)","v":588}]
[null,null,null,null,null,"Essex County, New Jersey","New York",{"$f":"_xlfn.XLOOKUP(G74,A:A,B:B)","v":379},{"$f":"_xlfn.XLOOKUP(G74,A:A,C:C)","v":758}]
[null,null,null,null,null,"Fairfax city County, Virginia","Washington, D.C.",{"$f":"_xlfn.XLOOKUP(G75,A:A,B:B)","v":294},{"$f":"_xlfn.XLOOKUP(G75,A:A,C:C)","v":588}]
[null,null,null,null,null,"Fairfax county County, Virginia","Washington, D.C.",{"$f":"_xlfn.XLOOKUP(G76,A:A,B:B)","v":294},{"$f":"_xlfn.XLOOKUP(G76,A:A,C:C)","v":588}]
[null,null,null,null,null,"Falls Church city County, Virginia","Washington, D.C.",{"$f":"_xlfn.XLOOKUP(G77,A:A,B:B)","v":294},{"$f":"_xlfn.XLOOKUP(G77,A:A,C:C)","v":588}]
[null,null,null,null,null,"Fauquier County, Virginia","Washington, D.C.",{"$f":"_xlfn.XLOOKUP(G78,A:A,B:B)","v":294},{"$f":"_xlfn.XLOOKUP(G78,A:A,C:C)","v":588}]
[null,null,null,null,null,"Fayette County, Georgia","Atlanta",{"$f":"_xlfn.XLOOKUP(G79,A:A,B:B)","v":300},{"$f":"_xlfn.XLOOKUP(G79,A:A,C:C)","v":600}]
[null,null,null,null,null,"Florida","South Region",{"$f":"_xlfn.XLOOKUP(G80,A:A,B:B)","v":242},{"$f":"_xlfn.XLOOKUP(G80,A:A,C:C)","v":484}]
[null,null,null,null,null,"Forsyth County, Georgia","Atlanta",{"$f":"_xlfn.XLOOKUP(G81,A:A,B:B)","v":300},{"$f":"_xlfn.XLOOKUP(G81,A:A,C:C)","v":600}]
[null,null,null,null,null,"Fort Bend County, Texas","Houston",{"$f":"_xlfn.XLOOKUP(G82,A:A,B:B)","v":312},{"$f":"_xlfn.XLOOKUP(G82,A:A,C:C)","v":624}]
[null,null,null,null,null,"Franklin County, Missouri","St. Louis",{"$f":"_xlfn.XLOOKUP(G83,A:A,B:B)","v":244},{"$f":"_xlfn.XLOOKUP(G83,A:A,C:C)","v":488}]
[null,null,null,null,null,"Frederick County, Maryland","Washington, D.C.",{"$f":"_xlfn.XLOOKUP(G84,A:A,B:B)","v":294},{"$f":"_xlfn.XLOOKUP(G84,A:A,C:C)","v":588}]
[null,null,null,null,null,"Fredericksburg city County, Virginia","Washington, D.C.",{"$f":"_xlfn.XLOOKUP(G85,A:A,B:B)","v":294},{"$f":"_xlfn.XLOOKUP(G85,A:A,C:C)","v":588}]
[null,null,null,null,null,"Fulton County, Georgia","Atlanta",{"$f":"_xlfn.XLOOKUP(G86,A:A,B:B)","v":300},{"$f":"_xlfn.XLOOKUP(G86,A:A,C:C)","v":600}]
[null,null,null,null,null,"Galveston County, Texas","Houston",{"$f":"_xlfn.XLOOKUP(G87,A:A,B:B)","v":312},{"$f":"_xlfn.XLOOKUP(G87,A:A,C:C)","v":624}]
[null,null,null,null,null,"Geauga County, Ohio","Cleveland",{"$f":"_xlfn.XLOOKUP(G88,A:A,B:B)","v":225},{"$f":"_xlfn.XLOOKUP(G88,A:A,C:C)","v":450}]
[null,null,null,null,null,"Georgia","South Region",{"$f":"_xlfn.XLOOKUP(G89,A:A,B:B)","v":242},{"$f":"_xlfn.XLOOKUP(G89,A:A,C:C)","v":484}]
[null,null,null,null,null,"Gilpin County, Colorado","Denver",{"$f":"_xlfn.XLOOKUP(G90,A:A,B:B)","v":279},{"$f":"_xlfn.XLOOKUP(G90,A:A,C:C)","v":558}]
[null,null,null,null,null,"Gloucester County, New Jersey","Philadelphia",{"$f":"_xlfn.XLOOKUP(G91,A:A,B:B)","v":318},{"$f":"_xlfn.XLOOKUP(G91,A:A,C:C)","v":636}]
[null,null,null,null,null,"Grundy County, Illinois","Chicago",{"$f":"_xlfn.XLOOKUP(G92,A:A,B:B)","v":265},{"$f":"_xlfn.XLOOKUP(G92,A:A,C:C)","v":530}]
[null,null,null,null,null,"Gwinnett County, Georgia","Atlanta",{"$f":"_xlfn.XLOOKUP(G93,A:A,B:B)","v":300},{"$f":"_xlfn.XLOOKUP(G93,A:A,C:C)","v":600}]
[null,null,null,null,null,"Haralson County, Georgia","Atlanta",{"$f":"_xlfn.XLOOKUP(G94,A:A,B:B)","v":300},{"$f":"_xlfn.XLOOKUP(G94,A:A,C:C)","v":600}]
[null,null,null,null,null,"Harford County, Maryland","Baltimore",{"$f":"_xlfn.XLOOKUP(G95,A:A,B:B)","v":277},{"$f":"_xlfn.XLOOKUP(G95,A:A,C:C)","v":554}]
[null,null,null,null,null,"Harris County, Texas","Houston",{"$f":"_xlfn.XLOOKUP(G96,A:A,B:B)","v":312},{"$f":"_xlfn.XLOOKUP(G96,A:A,C:C)","v":624}]
[null,null,null,null,null,"Hawaii","West Region",{"$f":"_xlfn.XLOOKUP(G97,A:A,B:B)","v":264},{"$f":"_xlfn.XLOOKUP(G97,A:A,C:C)","v":528}]
[null,null,null,null,null,"Heard, Henry County, Georgia","Atlanta",{"$f":"_xlfn.XLOOKUP(G98,A:A,B:B)","v":300},{"$f":"_xlfn.XLOOKUP(G98,A:A,C:C)","v":600}]
[null,null,null,null,null,"Hennepin County, Minnosota","Minneapolis-St. Paul",{"$f":"_xlfn.XLOOKUP(G99,A:A,B:B)","v":214},{"$f":"_xlfn.XLOOKUP(G99,A:A,C:C)","v":428}]
[null,null,null,null,null,"Hernando County, Florida","Tampa",{"$f":"_xlfn.XLOOKUP(G100,A:A,B:B)","v":297},{"$f":"_xlfn.XLOOKUP(G100,A:A,C:C)","v":594}]
[null,null,null,null,null,"Hillsborough County, Florida","Tampa",{"$f":"_xlfn.XLOOKUP(G101,A:A,B:B)","v":297},{"$f":"_xlfn.XLOOKUP(G101,A:A,C:C)","v":594}]
[null,null,null,null,null,"Honolulu County, Hawaii","Honolulu",{"$f":"_xlfn.XLOOKUP(G102,A:A,B:B)","v":243},{"$f":"_xlfn.XLOOKUP(G102,A:A,C:C)","v":486}]
[null,null,null,null,null,"Hood County, Texas","Dallas-Ft. Worth",{"$f":"_xlfn.XLOOKUP(G103,A:A,B:B)","v":288},{"$f":"_xlfn.XLOOKUP(G103,A:A,C:C)","v":576}]
[null,null,null,null,null,"Howard County, Maryland","Baltimore",{"$f":"_xlfn.XLOOKUP(G104,A:A,B:B)","v":277},{"$f":"_xlfn.XLOOKUP(G104,A:A,C:C)","v":554}]
[null,null,null,null,null,"Hudson County, New Jersey","New York",{"$f":"_xlfn.XLOOKUP(G105,A:A,B:B)","v":379},{"$f":"_xlfn.XLOOKUP(G105,A:A,C:C)","v":758}]
[null,null,null,null,null,"Hunt County, Texas","Dallas-Ft. Worth",{"$f":"_xlfn.XLOOKUP(G106,A:A,B:B)","v":288},{"$f":"_xlfn.XLOOKUP(G106,A:A,C:C)","v":576}]
[null,null,null,null,null,"Hunterdon County, New Jersey","New York",{"$f":"_xlfn.XLOOKUP(G107,A:A,B:B)","v":379},{"$f":"_xlfn.XLOOKUP(G107,A:A,C:C)","v":758}]
[null,null,null,null,null,"Idaho","West Region",{"$f":"_xlfn.XLOOKUP(G108,A:A,B:B)","v":264},{"$f":"_xlfn.XLOOKUP(G108,A:A,C:C)","v":528}]
[null,null,null,null,null,"Illinois","Midwest Region",{"$f":"_xlfn.XLOOKUP(G109,A:A,B:B)","v":225},{"$f":"_xlfn.XLOOKUP(G109,A:A,C:C)","v":450}]
[null,null,null,null,null,"Indiana","Midwest Region",{"$f":"_xlfn.XLOOKUP(G110,A:A,B:B)","v":225},{"$f":"_xlfn.XLOOKUP(G110,A:A,C:C)","v":450}]
[null,null,null,null,null,"Iowa","Midwest Region",{"$f":"_xlfn.XLOOKUP(G111,A:A,B:B)","v":225},{"$f":"_xlfn.XLOOKUP(G111,A:A,C:C)","v":450}]
[null,null,null,null,null,"Isanti County, Minnosota","Minneapolis-St. Paul",{"$f":"_xlfn.XLOOKUP(G112,A:A,B:B)","v":214},{"$f":"_xlfn.XLOOKUP(G112,A:A,C:C)","v":428}]
[null,null,null,null,null,"Jasper County, Georgia","Atlanta",{"$f":"_xlfn.XLOOKUP(G113,A:A,B:B)","v":300},{"$f":"_xlfn.XLOOKUP(G113,A:A,C:C)","v":600}]
[null,null,null,null,null,"Jasper County, Indiana","Chicago",{"$f":"_xlfn.XLOOKUP(G114,A:A,B:B)","v":265},{"$f":"_xlfn.XLOOKUP(G114,A:A,C:C)","v":530}]
[null,null,null,null,null,"Jefferson County, Colorado","Denver",{"$f":"_xlfn.XLOOKUP(G115,A:A,B:B)","v":279},{"$f":"_xlfn.XLOOKUP(G115,A:A,C:C)","v":558}]
[null,null,null,null,null,"Jefferson County, Missouri","St. Louis",{"$f":"_xlfn.XLOOKUP(G116,A:A,B:B)","v":244},{"$f":"_xlfn.XLOOKUP(G116,A:A,C:C)","v":488}]
[null,null,null,null,null,"Jersey County, Illinois","St. Louis",{"$f":"_xlfn.XLOOKUP(G117,A:A,B:B)","v":244},{"$f":"_xlfn.XLOOKUP(G117,A:A,C:C)","v":488}]
[null,null,null,null,null,"Johnson County, Texas","Dallas-Ft. Worth",{"$f":"_xlfn.XLOOKUP(G118,A:A,B:B)","v":288},{"$f":"_xlfn.XLOOKUP(G118,A:A,C:C)","v":576}]
[null,null,null,null,null,"Kane County, Illinois","Chicago",{"$f":"_xlfn.XLOOKUP(G119,A:A,B:B)","v":265},{"$f":"_xlfn.XLOOKUP(G119,A:A,C:C)","v":530}]
[null,null,null,null,null,"Kansas","Midwest Region",{"$f":"_xlfn.XLOOKUP(G120,A:A,B:B)","v":225},{"$f":"_xlfn.XLOOKUP(G120,A:A,C:C)","v":450}]
[null,null,null,null,null,"Kaufman County, Texas","Dallas-Ft. Worth",{"$f":"_xlfn.XLOOKUP(G121,A:A,B:B)","v":288},{"$f":"_xlfn.XLOOKUP(G121,A:A,C:C)","v":576}]
[null,null,null,null,null,"Kendall County, Illinois","Chicago",{"$f":"_xlfn.XLOOKUP(G122,A:A,B:B)","v":265},{"$f":"_xlfn.XLOOKUP(G122,A:A,C:C)","v":530}]
[null,null,null,null,null,"Kenosha County, Wisconsin","Chicago",{"$f":"_xlfn.XLOOKUP(G123,A:A,B:B)","v":265},{"$f":"_xlfn.XLOOKUP(G123,A:A,C:C)","v":530}]
[null,null,null,null,null,"Kentucky","South Region",{"$f":"_xlfn.XLOOKUP(G124,A:A,B:B)","v":242},{"$f":"_xlfn.XLOOKUP(G124,A:A,C:C)","v":484}]
[null,null,null,null,null,"King County, Washington","Seattle",{"$f":"_xlfn.XLOOKUP(G125,A:A,B:B)","v":281},{"$f":"_xlfn.XLOOKUP(G125,A:A,C:C)","v":562}]
[null,null,null,null,null,"Kings County, New York","New York",{"$f":"_xlfn.XLOOKUP(G126,A:A,B:B)","v":379},{"$f":"_xlfn.XLOOKUP(G126,A:A,C:C)","v":758}]
[null,null,null,null,null,"Lake County, Illinois","Chicago",{"$f":"_xlfn.XLOOKUP(G127,A:A,B:B)","v":265},{"$f":"_xlfn.XLOOKUP(G127,A:A,C:C)","v":530}]
[null,null,null,null,null,"Lake County, Indiana","Chicago",{"$f":"_xlfn.XLOOKUP(G128,A:A,B:B)","v":265},{"$f":"_xlfn.XLOOKUP(G128,A:A,C:C)","v":530}]
[null,null,null,null,null,"Lake County, Ohio","Cleveland",{"$f":"_xlfn.XLOOKUP(G129,A:A,B:B)","v":225},{"$f":"_xlfn.XLOOKUP(G129,A:A,C:C)","v":450}]
[null,null,null,null,null,"Lamar County, Georgia","Atlanta",{"$f":"_xlfn.XLOOKUP(G130,A:A,B:B)","v":300},{"$f":"_xlfn.XLOOKUP(G130,A:A,C:C)","v":600}]
[null,null,null,null,null,"Lapeer County, Michigan","Detroit",{"$f":"_xlfn.XLOOKUP(G131,A:A,B:B)","v":315},{"$f":"_xlfn.XLOOKUP(G131,A:A,C:C)","v":630}]
[null,null,null,null,null,"Le Sueur County, Minnosota","Minneapolis-St. Paul",{"$f":"_xlfn.XLOOKUP(G132,A:A,B:B)","v":214},{"$f":"_xlfn.XLOOKUP(G132,A:A,C:C)","v":428}]
[null,null,null,null,null,"Liberty County, Texas","Houston",{"$f":"_xlfn.XLOOKUP(G133,A:A,B:B)","v":312},{"$f":"_xlfn.XLOOKUP(G133,A:A,C:C)","v":624}]
[null,null,null,null,null,"Lincoln County, Missouri","St. Louis",{"$f":"_xlfn.XLOOKUP(G134,A:A,B:B)","v":244},{"$f":"_xlfn.XLOOKUP(G134,A:A,C:C)","v":488}]
[null,null,null,null,null,"Livingston County, Michigan","Detroit",{"$f":"_xlfn.XLOOKUP(G135,A:A,B:B)","v":315},{"$f":"_xlfn.XLOOKUP(G135,A:A,C:C)","v":630}]
[null,null,null,null,null,"Lorain County, Ohio","Cleveland",{"$f":"_xlfn.XLOOKUP(G136,A:A,B:B)","v":225},{"$f":"_xlfn.XLOOKUP(G136,A:A,C:C)","v":450}]
[null,null,null,null,null,"Los Angeles County, California","Los Angeles",{"$f":"_xlfn.XLOOKUP(G137,A:A,B:B)","v":339},{"$f":"_xlfn.XLOOKUP(G137,A:A,C:C)","v":678}]
[null,null,null,null,null,"Loudoun County, Virginia","Washington, D.C.",{"$f":"_xlfn.XLOOKUP(G138,A:A,B:B)","v":294},{"$f":"_xlfn.XLOOKUP(G138,A:A,C:C)","v":588}]
[null,null,null,null,null,"Louisiana","South Region",{"$f":"_xlfn.XLOOKUP(G139,A:A,B:B)","v":242},{"$f":"_xlfn.XLOOKUP(G139,A:A,C:C)","v":484}]
[null,null,null,null,null,"Macomb County, Michigan","Detroit",{"$f":"_xlfn.XLOOKUP(G140,A:A,B:B)","v":315},{"$f":"_xlfn.XLOOKUP(G140,A:A,C:C)","v":630}]
[null,null,null,null,null,"Macoupin County, Illinois","St. Louis",{"$f":"_xlfn.XLOOKUP(G141,A:A,B:B)","v":244},{"$f":"_xlfn.XLOOKUP(G141,A:A,C:C)","v":488}]
[null,null,null,null,null,"Madison County, Illinois","St. Louis",{"$f":"_xlfn.XLOOKUP(G142,A:A,B:B)","v":244},{"$f":"_xlfn.XLOOKUP(G142,A:A,C:C)","v":488}]
[null,null,null,null,null,"Maine","Northeast Region",{"$f":"_xlfn.XLOOKUP(G143,A:A,B:B)","v":298},{"$f":"_xlfn.XLOOKUP(G143,A:A,C:C)","v":596}]
[null,null,null,null,null,"Manassas city County, Virginia","Washington, D.C.",{"$f":"_xlfn.XLOOKUP(G144,A:A,B:B)","v":294},{"$f":"_xlfn.XLOOKUP(G144,A:A,C:C)","v":588}]
[null,null,null,null,null,"Manassas Park city County, Virginia","Washington, D.C.",{"$f":"_xlfn.XLOOKUP(G145,A:A,B:B)","v":294},{"$f":"_xlfn.XLOOKUP(G145,A:A,C:C)","v":588}]
[null,null,null,null,null,"Maricopa County, Arizona","Phoenix",{"$f":"_xlfn.XLOOKUP(G146,A:A,B:B)","v":271},{"$f":"_xlfn.XLOOKUP(G146,A:A,C:C)","v":542}]
[null,null,null,null,null,"Marin County, California","San Francisco",{"$f":"_xlfn.XLOOKUP(G147,A:A,B:B)","v":301},{"$f":"_xlfn.XLOOKUP(G147,A:A,C:C)","v":602}]
[null,null,null,null,null,"Maryland","South Region",{"$f":"_xlfn.XLOOKUP(G148,A:A,B:B)","v":242},{"$f":"_xlfn.XLOOKUP(G148,A:A,C:C)","v":484}]
[null,null,null,null,null,"Massachusetts","Northeast Region",{"$f":"_xlfn.XLOOKUP(G149,A:A,B:B)","v":298},{"$f":"_xlfn.XLOOKUP(G149,A:A,C:C)","v":596}]
[null,null,null,null,null,"Matanuska-Susitna County, Alaska","Anchorage",{"$f":"_xlfn.XLOOKUP(G150,A:A,B:B)","v":208},{"$f":"_xlfn.XLOOKUP(G150,A:A,C:C)","v":416}]
[null,null,null,null,null,"McHenry County, Illinois","Chicago",{"$f":"_xlfn.XLOOKUP(G151,A:A,B:B)","v":265},{"$f":"_xlfn.XLOOKUP(G151,A:A,C:C)","v":530}]
[null,null,null,null,null,"Medina County, Ohio","Cleveland",{"$f":"_xlfn.XLOOKUP(G152,A:A,B:B)","v":225},{"$f":"_xlfn.XLOOKUP(G152,A:A,C:C)","v":450}]
[null,null,null,null,null,"Meriwether County, Georgia","Atlanta",{"$f":"_xlfn.XLOOKUP(G153,A:A,B:B)","v":300},{"$f":"_xlfn.XLOOKUP(G153,A:A,C:C)","v":600}]
[null,null,null,null,null,"Miami-Dade County, Florida","Miami",{"$f":"_xlfn.XLOOKUP(G154,A:A,B:B)","v":364},{"$f":"_xlfn.XLOOKUP(G154,A:A,C:C)","v":728}]
[null,null,null,null,null,"Michigan","Midwest Region",{"$f":"_xlfn.XLOOKUP(G155,A:A,B:B)","v":225},{"$f":"_xlfn.XLOOKUP(G155,A:A,C:C)","v":450}]
[null,null,null,null,null,"Middlesex County, Massachusetts","Boston",{"$f":"_xlfn.XLOOKUP(G156,A:A,B:B)","v":294},{"$f":"_xlfn.XLOOKUP(G156,A:A,C:C)","v":588}]
[null,null,null,null,null,"Middlesex County, New Jersey","New York",{"$f":"_xlfn.XLOOKUP(G157,A:A,B:B)","v":379},{"$f":"_xlfn.XLOOKUP(G157,A:A,C:C)","v":758}]
[null,null,null,null,null,"Mille Lacs County, Minnosota","Minneapolis-St. Paul",{"$f":"_xlfn.XLOOKUP(G158,A:A,B:B)","v":214},{"$f":"_xlfn.XLOOKUP(G158,A:A,C:C)","v":428}]
[null,null,null,null,null,"Minnesota","Midwest Region",{"$f":"_xlfn.XLOOKUP(G159,A:A,B:B)","v":225},{"$f":"_xlfn.XLOOKUP(G159,A:A,C:C)","v":450}]
[null,null,null,null,null,"Mississippi","South Region",{"$f":"_xlfn.XLOOKUP(G160,A:A,B:B)","v":242},{"$f":"_xlfn.XLOOKUP(G160,A:A,C:C)","v":484}]
[null,null,null,null,null,"Missouri","Midwest Region",{"$f":"_xlfn.XLOOKUP(G161,A:A,B:B)","v":225},{"$f":"_xlfn.XLOOKUP(G161,A:A,C:C)","v":450}]
[null,null,null,null,null,"Monmouth County, New Jersey","New York",{"$f":"_xlfn.XLOOKUP(G162,A:A,B:B)","v":379},{"$f":"_xlfn.XLOOKUP(G162,A:A,C:C)","v":758}]
[null,null,null,null,null,"Monroe County, Illinois","St. Louis",{"$f":"_xlfn.XLOOKUP(G163,A:A,B:B)","v":244},{"$f":"_xlfn.XLOOKUP(G163,A:A,C:C)","v":488}]
[null,null,null,null,null,"Montana","West Region",{"$f":"_xlfn.XLOOKUP(G164,A:A,B:B)","v":264},{"$f":"_xlfn.XLOOKUP(G164,A:A,C:C)","v":528}]
[null,null,null,null,null,"Montgomery County, Maryland","Washington, D.C.",{"$f":"_xlfn.XLOOKUP(G165,A:A,B:B)","v":294},{"$f":"_xlfn.XLOOKUP(G165,A:A,C:C)","v":588}]
[null,null,null,null,null,"Montgomery County, Pennsylvania","Philadelphia",{"$f":"_xlfn.XLOOKUP(G166,A:A,B:B)","v":318},{"$f":"_xlfn.XLOOKUP(G166,A:A,C:C)","v":636}]
[null,null,null,null,null,"Montgomery County, Texas","Houston",{"$f":"_xlfn.XLOOKUP(G167,A:A,B:B)","v":312},{"$f":"_xlfn.XLOOKUP(G167,A:A,C:C)","v":624}]
[null,null,null,null,null,"Morgan County, Georgia","Atlanta",{"$f":"_xlfn.XLOOKUP(G168,A:A,B:B)","v":300},{"$f":"_xlfn.XLOOKUP(G168,A:A,C:C)","v":600}]
[null,null,null,null,null,"Morris County, New Jersey","New York",{"$f":"_xlfn.XLOOKUP(G169,A:A,B:B)","v":379},{"$f":"_xlfn.XLOOKUP(G169,A:A,C:C)","v":758}]
[null,null,null,null,null,"Nassau County, New York","New York",{"$f":"_xlfn.XLOOKUP(G170,A:A,B:B)","v":379},{"$f":"_xlfn.XLOOKUP(G170,A:A,C:C)","v":758}]
[null,null,null,null,null,"Nebraska","Midwest Region",{"$f":"_xlfn.XLOOKUP(G171,A:A,B:B)","v":225},{"$f":"_xlfn.XLOOKUP(G171,A:A,C:C)","v":450}]
[null,null,null,null,null,"Nevada","West Region",{"$f":"_xlfn.XLOOKUP(G172,A:A,B:B)","v":264},{"$f":"_xlfn.XLOOKUP(G172,A:A,C:C)","v":528}]
[null,null,null,null,null,"New Castle County, Delaware","Philadelphia",{"$f":"_xlfn.XLOOKUP(G173,A:A,B:B)","v":318},{"$f":"_xlfn.XLOOKUP(G173,A:A,C:C)","v":636}]
[null,null,null,null,null,"New Hampshire","Northeast Region",{"$f":"_xlfn.XLOOKUP(G174,A:A,B:B)","v":298},{"$f":"_xlfn.XLOOKUP(G174,A:A,C:C)","v":596}]
[null,null,null,null,null,"New Jersey","Northeast Region",{"$f":"_xlfn.XLOOKUP(G175,A:A,B:B)","v":298},{"$f":"_xlfn.XLOOKUP(G175,A:A,C:C)","v":596}]
[null,null,null,null,null,"New Mexico","West Region",{"$f":"_xlfn.XLOOKUP(G176,A:A,B:B)","v":264},{"$f":"_xlfn.XLOOKUP(G176,A:A,C:C)","v":528}]
[null,null,null,null,null,"New York","Northeast Region",{"$f":"_xlfn.XLOOKUP(G177,A:A,B:B)","v":298},{"$f":"_xlfn.XLOOKUP(G177,A:A,C:C)","v":596}]
[null,null,null,null,null,"New York County, New York","New York",{"$f":"_xlfn.XLOOKUP(G178,A:A,B:B)","v":379},{"$f":"_xlfn.XLOOKUP(G178,A:A,C:C)","v":758}]
[null,null,null,null,null,"Newton County, Georgia","Atlanta",{"$f":"_xlfn.XLOOKUP(G179,A:A,B:B)","v":300},{"$f":"_xlfn.XLOOKUP(G179,A:A,C:C)","v":600}]
[null,null,null,null,null,"Newton County, Indiana","Chicago",{"$f":"_xlfn.XLOOKUP(G180,A:A,B:B)","v":265},{"$f":"_xlfn.XLOOKUP(G180,A:A,C:C)","v":530}]
[null,null,null,null,null,"Norfolk County, Massachusetts","Boston",{"$f":"_xlfn.XLOOKUP(G181,A:A,B:B)","v":294},{"$f":"_xlfn.XLOOKUP(G181,A:A,C:C)","v":588}]
[null,null,null,null,null,"North Carolina","South Region",{"$f":"_xlfn.XLOOKUP(G182,A:A,B:B)","v":242},{"$f":"_xlfn.XLOOKUP(G182,A:A,C:C)","v":484}]
[null,null,null,null,null,"North Dakota","Midwest Region",{"$f":"_xlfn.XLOOKUP(G183,A:A,B:B)","v":225},{"$f":"_xlfn.XLOOKUP(G183,A:A,C:C)","v":450}]
[null,null,null,null,null,"Oakland County, Michigan","Detroit",{"$f":"_xlfn.XLOOKUP(G184,A:A,B:B)","v":315},{"$f":"_xlfn.XLOOKUP(G184,A:A,C:C)","v":630}]
[null,null,null,null,null,"Ocean County, New Jersey","New York",{"$f":"_xlfn.XLOOKUP(G185,A:A,B:B)","v":379},{"$f":"_xlfn.XLOOKUP(G185,A:A,C:C)","v":758}]
[null,null,null,null,null,"Ohio","Midwest Region",{"$f":"_xlfn.XLOOKUP(G186,A:A,B:B)","v":225},{"$f":"_xlfn.XLOOKUP(G186,A:A,C:C)","v":450}]
[null,null,null,null,null,"Oklahoma","South Region",{"$f":"_xlfn.XLOOKUP(G187,A:A,B:B)","v":242},{"$f":"_xlfn.XLOOKUP(G187,A:A,C:C)","v":484}]
[null,null,null,null,null,"Orange County, California","Los Angeles",{"$f":"_xlfn.XLOOKUP(G188,A:A,B:B)","v":339},{"$f":"_xlfn.XLOOKUP(G188,A:A,C:C)","v":678}]
[null,null,null,null,null,"Orange County, New York","New York",{"$f":"_xlfn.XLOOKUP(G189,A:A,B:B)","v":379},{"$f":"_xlfn.XLOOKUP(G189,A:A,C:C)","v":758}]
[null,null,null,null,null,"Oregon","West Region",{"$f":"_xlfn.XLOOKUP(G190,A:A,B:B)","v":264},{"$f":"_xlfn.XLOOKUP(G190,A:A,C:C)","v":528}]
[null,null,null,null,null,"Palm Beach County, Florida","Miami",{"$f":"_xlfn.XLOOKUP(G191,A:A,B:B)","v":364},{"$f":"_xlfn.XLOOKUP(G191,A:A,C:C)","v":728}]
[null,null,null,null,null,"Park County, Colorado","Denver",{"$f":"_xlfn.XLOOKUP(G192,A:A,B:B)","v":279},{"$f":"_xlfn.XLOOKUP(G192,A:A,C:C)","v":558}]
[null,null,null,null,null,"Parker County, Texas","Dallas-Ft. Worth",{"$f":"_xlfn.XLOOKUP(G193,A:A,B:B)","v":288},{"$f":"_xlfn.XLOOKUP(G193,A:A,C:C)","v":576}]
[null,null,null,null,null,"Pasco County, Florida","Tampa",{"$f":"_xlfn.XLOOKUP(G194,A:A,B:B)","v":297},{"$f":"_xlfn.XLOOKUP(G194,A:A,C:C)","v":594}]
[null,null,null,null,null,"Passaic County, New Jersey","New York",{"$f":"_xlfn.XLOOKUP(G195,A:A,B:B)","v":379},{"$f":"_xlfn.XLOOKUP(G195,A:A,C:C)","v":758}]
[null,null,null,null,null,"Paulding County, Georgia","Atlanta",{"$f":"_xlfn.XLOOKUP(G196,A:A,B:B)","v":300},{"$f":"_xlfn.XLOOKUP(G196,A:A,C:C)","v":600}]
[null,null,null,null,null,"Pennsylvania","Northeast Region",{"$f":"_xlfn.XLOOKUP(G197,A:A,B:B)","v":298},{"$f":"_xlfn.XLOOKUP(G197,A:A,C:C)","v":596}]
[null,null,null,null,null,"Philadelphia County, Pennsylvania","Philadelphia",{"$f":"_xlfn.XLOOKUP(G198,A:A,B:B)","v":318},{"$f":"_xlfn.XLOOKUP(G198,A:A,C:C)","v":636}]
[null,null,null,null,null,"Pickens County, Georgia","Atlanta",{"$f":"_xlfn.XLOOKUP(G199,A:A,B:B)","v":300},{"$f":"_xlfn.XLOOKUP(G199,A:A,C:C)","v":600}]
[null,null,null,null,null,"Pierce County, Washington","Seattle",{"$f":"_xlfn.XLOOKUP(G200,A:A,B:B)","v":281},{"$f":"_xlfn.XLOOKUP(G200,A:A,C:C)","v":562}]
[null,null,null,null,null,"Pierce County, Wisconsin","Minneapolis-St. Paul",{"$f":"_xlfn.XLOOKUP(G201,A:A,B:B)","v":214},{"$f":"_xlfn.XLOOKUP(G201,A:A,C:C)","v":428}]
[null,null,null,null,null,"Pike County, Georgia","Atlanta",{"$f":"_xlfn.XLOOKUP(G202,A:A,B:B)","v":300},{"$f":"_xlfn.XLOOKUP(G202,A:A,C:C)","v":600}]
[null,null,null,null,null,"Pike County, Pennsylvania","New York",{"$f":"_xlfn.XLOOKUP(G203,A:A,B:B)","v":379},{"$f":"_xlfn.XLOOKUP(G203,A:A,C:C)","v":758}]
[null,null,null,null,null,"Pinal County, Arizona","Phoenix",{"$f":"_xlfn.XLOOKUP(G204,A:A,B:B)","v":271},{"$f":"_xlfn.XLOOKUP(G204,A:A,C:C)","v":542}]
[null,null,null,null,null,"Pinellas County, Florida","Tampa",{"$f":"_xlfn.XLOOKUP(G205,A:A,B:B)","v":297},{"$f":"_xlfn.XLOOKUP(G205,A:A,C:C)","v":594}]
[null,null,null,null,null,"Plymouth County, Massachusetts","Boston",{"$f":"_xlfn.XLOOKUP(G206,A:A,B:B)","v":294},{"$f":"_xlfn.XLOOKUP(G206,A:A,C:C)","v":588}]
[null,null,null,null,null,"Portage County, Ohio","Cleveland",{"$f":"_xlfn.XLOOKUP(G207,A:A,B:B)","v":225},{"$f":"_xlfn.XLOOKUP(G207,A:A,C:C)","v":450}]
[null,null,null,null,null,"Porter County, Indiana","Chicago",{"$f":"_xlfn.XLOOKUP(G208,A:A,B:B)","v":265},{"$f":"_xlfn.XLOOKUP(G208,A:A,C:C)","v":530}]
[null,null,null,null,null,"Prince George County, Maryland","Washington, D.C.",{"$f":"_xlfn.XLOOKUP(G209,A:A,B:B)","v":294},{"$f":"_xlfn.XLOOKUP(G209,A:A,C:C)","v":588}]
[null,null,null,null,null,"Prince William County, Virginia","Washington, D.C.",{"$f":"_xlfn.XLOOKUP(G210,A:A,B:B)","v":294},{"$f":"_xlfn.XLOOKUP(G210,A:A,C:C)","v":588}]
[null,null,null,null,null,"Putnam County, New York","New York",{"$f":"_xlfn.XLOOKUP(G211,A:A,B:B)","v":379},{"$f":"_xlfn.XLOOKUP(G211,A:A,C:C)","v":758}]
[null,null,null,null,null,"Queen Anne’s County, Maryland","Baltimore",{"$f":"_xlfn.XLOOKUP(G212,A:A,B:B)","v":277},{"$f":"_xlfn.XLOOKUP(G212,A:A,C:C)","v":554}]
[null,null,null,null,null,"Queens County, New York","New York",{"$f":"_xlfn.XLOOKUP(G213,A:A,B:B)","v":379},{"$f":"_xlfn.XLOOKUP(G213,A:A,C:C)","v":758}]
[null,null,null,null,null,"Ramsey County, Minnosota","Minneapolis-St. Paul",{"$f":"_xlfn.XLOOKUP(G214,A:A,B:B)","v":214},{"$f":"_xlfn.XLOOKUP(G214,A:A,C:C)","v":428}]
[null,null,null,null,null,"Rappahannock County, Virginia","Washington, D.C.",{"$f":"_xlfn.XLOOKUP(G215,A:A,B:B)","v":294},{"$f":"_xlfn.XLOOKUP(G215,A:A,C:C)","v":588}]
[null,null,null,null,null,"Rhode Island","Northeast Region",{"$f":"_xlfn.XLOOKUP(G216,A:A,B:B)","v":298},{"$f":"_xlfn.XLOOKUP(G216,A:A,C:C)","v":596}]
[null,null,null,null,null,"Richmond County, New York","New York",{"$f":"_xlfn.XLOOKUP(G217,A:A,B:B)","v":379},{"$f":"_xlfn.XLOOKUP(G217,A:A,C:C)","v":758}]
[null,null,null,null,null,"Riverside County, California","Los Angeles",{"$f":"_xlfn.XLOOKUP(G218,A:A,B:B)","v":339},{"$f":"_xlfn.XLOOKUP(G218,A:A,C:C)","v":678}]
[null,null,null,null,null,"Rockdale County, Georgia","Atlanta",{"$f":"_xlfn.XLOOKUP(G219,A:A,B:B)","v":300},{"$f":"_xlfn.XLOOKUP(G219,A:A,C:C)","v":600}]
[null,null,null,null,null,"Rockingham County, New Hampshire","Boston",{"$f":"_xlfn.XLOOKUP(G220,A:A,B:B)","v":294},{"$f":"_xlfn.XLOOKUP(G220,A:A,C:C)","v":588}]
[null,null,null,null,null,"Rockland County, New York","New York",{"$f":"_xlfn.XLOOKUP(G221,A:A,B:B)","v":379},{"$f":"_xlfn.XLOOKUP(G221,A:A,C:C)","v":758}]
[null,null,null,null,null,"Rockwall County, Texas","Dallas-Ft. Worth",{"$f":"_xlfn.XLOOKUP(G222,A:A,B:B)","v":288},{"$f":"_xlfn.XLOOKUP(G222,A:A,C:C)","v":576}]
[null,null,null,null,null,"Salem County, New Jersey","Philadelphia",{"$f":"_xlfn.XLOOKUP(G223,A:A,B:B)","v":318},{"$f":"_xlfn.XLOOKUP(G223,A:A,C:C)","v":636}]
[null,null,null,null,null,"San Bernardino County, California","Los Angeles",{"$f":"_xlfn.XLOOKUP(G224,A:A,B:B)","v":339},{"$f":"_xlfn.XLOOKUP(G224,A:A,C:C)","v":678}]
[null,null,null,null,null,"San Diego County, CA","San Diego",{"$f":"_xlfn.XLOOKUP(G225,A:A,B:B)","v":322},{"$f":"_xlfn.XLOOKUP(G225,A:A,C:C)","v":644}]
[null,null,null,null,null,"San Francisco County, California","San Francisco",{"$f":"_xlfn.XLOOKUP(G226,A:A,B:B)","v":301},{"$f":"_xlfn.XLOOKUP(G226,A:A,C:C)","v":602}]
[null,null,null,null,null,"San Mateo County, California","San Francisco",{"$f":"_xlfn.XLOOKUP(G227,A:A,B:B)","v":301},{"$f":"_xlfn.XLOOKUP(G227,A:A,C:C)","v":602}]
[null,null,null,null,null,"Scott County, Minnosota","Minneapolis-St. Paul",{"$f":"_xlfn.XLOOKUP(G228,A:A,B:B)","v":214},{"$f":"_xlfn.XLOOKUP(G228,A:A,C:C)","v":428}]
[null,null,null,null,null,"Sherburne County, Minnosota","Minneapolis-St. Paul",{"$f":"_xlfn.XLOOKUP(G229,A:A,B:B)","v":214},{"$f":"_xlfn.XLOOKUP(G229,A:A,C:C)","v":428}]
[null,null,null,null,null,"Sibley County, Minnosota","Minneapolis-St. Paul",{"$f":"_xlfn.XLOOKUP(G230,A:A,B:B)","v":214},{"$f":"_xlfn.XLOOKUP(G230,A:A,C:C)","v":428}]
[null,null,null,null,null,"Snohomish County, Washington","Seattle",{"$f":"_xlfn.XLOOKUP(G231,A:A,B:B)","v":281},{"$f":"_xlfn.XLOOKUP(G231,A:A,C:C)","v":562}]
[null,null,null,null,null,"Somerset County, New Jersey","New York",{"$f":"_xlfn.XLOOKUP(G232,A:A,B:B)","v":379},{"$f":"_xlfn.XLOOKUP(G232,A:A,C:C)","v":758}]
[null,null,null,null,null,"Somervell County, Texas","Dallas-Ft. Worth",{"$f":"_xlfn.XLOOKUP(G233,A:A,B:B)","v":288},{"$f":"_xlfn.XLOOKUP(G233,A:A,C:C)","v":576}]
[null,null,null,null,null,"South Carolina","South Region",{"$f":"_xlfn.XLOOKUP(G234,A:A,B:B)","v":242},{"$f":"_xlfn.XLOOKUP(G234,A:A,C:C)","v":484}]
[null,null,null,null,null,"South Dakota","Midwest Region",{"$f":"_xlfn.XLOOKUP(G235,A:A,B:B)","v":225},{"$f":"_xlfn.XLOOKUP(G235,A:A,C:C)","v":450}]
[null,null,null,null,null,"Spalding County, Georgia","Atlanta",{"$f":"_xlfn.XLOOKUP(G236,A:A,B:B)","v":300},{"$f":"_xlfn.XLOOKUP(G236,A:A,C:C)","v":600}]
[null,null,null,null,null,"Spotsylvania County, Virginia","Washington, D.C.",{"$f":"_xlfn.XLOOKUP(G237,A:A,B:B)","v":294},{"$f":"_xlfn.XLOOKUP(G237,A:A,C:C)","v":588}]
[null,null,null,null,null,"St. Charles County, Missouri","St. Louis",{"$f":"_xlfn.XLOOKUP(G238,A:A,B:B)","v":244},{"$f":"_xlfn.XLOOKUP(G238,A:A,C:C)","v":488}]
[null,null,null,null,null,"St. Clair County, Illinois","St. Louis",{"$f":"_xlfn.XLOOKUP(G239,A:A,B:B)","v":244},{"$f":"_xlfn.XLOOKUP(G239,A:A,C:C)","v":488}]
[null,null,null,null,null,"St. Clair County, Michigan","Detroit",{"$f":"_xlfn.XLOOKUP(G240,A:A,B:B)","v":315},{"$f":"_xlfn.XLOOKUP(G240,A:A,C:C)","v":630}]
[null,null,null,null,null,"St. Croix County, Wisconsin","Minneapolis-St. Paul",{"$f":"_xlfn.XLOOKUP(G241,A:A,B:B)","v":214},{"$f":"_xlfn.XLOOKUP(G241,A:A,C:C)","v":428}]
[null,null,null,null,null,"St. Louis city County, Missouri","St. Louis",{"$f":"_xlfn.XLOOKUP(G242,A:A,B:B)","v":244},{"$f":"_xlfn.XLOOKUP(G242,A:A,C:C)","v":488}]
[null,null,null,null,null,"St. Louis county County, Missouri","St. Louis",{"$f":"_xlfn.XLOOKUP(G243,A:A,B:B)","v":244},{"$f":"_xlfn.XLOOKUP(G243,A:A,C:C)","v":488}]
[null,null,null,null,null,"Stafford County, Virginia","Washington, D.C.",{"$f":"_xlfn.XLOOKUP(G244,A:A,B:B)","v":294},{"$f":"_xlfn.XLOOKUP(G244,A:A,C:C)","v":588}]
[null,null,null,null,null,"Strafford County, New Hampshire","Boston",{"$f":"_xlfn.XLOOKUP(G245,A:A,B:B)","v":294},{"$f":"_xlfn.XLOOKUP(G245,A:A,C:C)","v":588}]
[null,null,null,null,null,"Suffolk County, Massachusetts","Boston",{"$f":"_xlfn.XLOOKUP(G246,A:A,B:B)","v":294},{"$f":"_xlfn.XLOOKUP(G246,A:A,C:C)","v":588}]
[null,null,null,null,null,"Suffolk County, New York","New York",{"$f":"_xlfn.XLOOKUP(G247,A:A,B:B)","v":379},{"$f":"_xlfn.XLOOKUP(G247,A:A,C:C)","v":758}]
[null,null,null,null,null,"Summit County, Ohio","Cleveland",{"$f":"_xlfn.XLOOKUP(G248,A:A,B:B)","v":225},{"$f":"_xlfn.XLOOKUP(G248,A:A,C:C)","v":450}]
[null,null,null,null,null,"Sussex County, New Jersey","New York",{"$f":"_xlfn.XLOOKUP(G249,A:A,B:B)","v":379},{"$f":"_xlfn.XLOOKUP(G249,A:A,C:C)","v":758}]
[null,null,null,null,null,"Tarrant County, Texas","Dallas-Ft. Worth",{"$f":"_xlfn.XLOOKUP(G250,A:A,B:B)","v":288},{"$f":"_xlfn.XLOOKUP(G250,A:A,C:C)","v":576}]
[null,null,null,null,null,"Tennessee","South Region",{"$f":"_xlfn.XLOOKUP(G251,A:A,B:B)","v":242},{"$f":"_xlfn.XLOOKUP(G251,A:A,C:C)","v":484}]
[null,null,null,null,null,"Texas","South Region",{"$f":"_xlfn.XLOOKUP(G252,A:A,B:B)","v":242},{"$f":"_xlfn.XLOOKUP(G252,A:A,C:C)","v":484}]
[null,null,null,null,null,"Union County, New Jersey","New York",{"$f":"_xlfn.XLOOKUP(G253,A:A,B:B)","v":379},{"$f":"_xlfn.XLOOKUP(G253,A:A,C:C)","v":758}]
[null,null,null,null,null,"Utah","West Region",{"$f":"_xlfn.XLOOKUP(G254,A:A,B:B)","v":264},{"$f":"_xlfn.XLOOKUP(G254,A:A,C:C)","v":528}]
[null,null,null,null,null,"Vermont","Northeast Region",{"$f":"_xlfn.XLOOKUP(G255,A:A,B:B)","v":298},{"$f":"_xlfn.XLOOKUP(G255,A:A,C:C)","v":596}]
[null,null,null,null,null,"Virginia","South Region",{"$f":"_xlfn.XLOOKUP(G256,A:A,B:B)","v":242},{"$f":"_xlfn.XLOOKUP(G256,A:A,C:C)","v":484}]
[null,null,null,null,null,"Waller County, Texas","Houston",{"$f":"_xlfn.XLOOKUP(G257,A:A,B:B)","v":312},{"$f":"_xlfn.XLOOKUP(G257,A:A,C:C)","v":624}]
[null,null,null,null,null,"Walton County, Georgia","Atlanta",{"$f":"_xlfn.XLOOKUP(G258,A:A,B:B)","v":300},{"$f":"_xlfn.XLOOKUP(G258,A:A,C:C)","v":600}]
[null,null,null,null,null,"Warren County, Missouri","St. Louis",{"$f":"_xlfn.XLOOKUP(G259,A:A,B:B)","v":244},{"$f":"_xlfn.XLOOKUP(G259,A:A,C:C)","v":488}]
[null,null,null,null,null,"Warren County, Virginia","Washington, D.C.",{"$f":"_xlfn.XLOOKUP(G260,A:A,B:B)","v":294},{"$f":"_xlfn.XLOOKUP(G260,A:A,C:C)","v":588}]
[null,null,null,null,null,"Washington","West Region",{"$f":"_xlfn.XLOOKUP(G261,A:A,B:B)","v":264},{"$f":"_xlfn.XLOOKUP(G261,A:A,C:C)","v":528}]
[null,null,null,null,null,"Washington County, Minnosota","Minneapolis-St. Paul",{"$f":"_xlfn.XLOOKUP(G262,A:A,B:B)","v":214},{"$f":"_xlfn.XLOOKUP(G262,A:A,C:C)","v":428}]
[null,null,null,null,null,"Wayne County, Michigan","Detroit",{"$f":"_xlfn.XLOOKUP(G263,A:A,B:B)","v":315},{"$f":"_xlfn.XLOOKUP(G263,A:A,C:C)","v":630}]
[null,null,null,null,null,"West Virginia","South Region",{"$f":"_xlfn.XLOOKUP(G264,A:A,B:B)","v":242},{"$f":"_xlfn.XLOOKUP(G264,A:A,C:C)","v":484}]
[null,null,null,null,null,"Westchester County, New York","New York",{"$f":"_xlfn.XLOOKUP(G265,A:A,B:B)","v":379},{"$f":"_xlfn.XLOOKUP(G265,A:A,C:C)","v":758}]
[null,null,null,null,null,"Will County, Illinois","Chicago",{"$f":"_xlfn.XLOOKUP(G266,A:A,B:B)","v":265},{"$f":"_xlfn.XLOOKUP(G266,A:A,C:C)","v":530}]
[null,null,null,null,null,"Wisconsin","Midwest Region",{"$f":"_xlfn.XLOOKUP(G267,A:A,B:B)","v":225},{"$f":"_xlfn.XLOOKUP(G267,A:A,C:C)","v":450}]
[null,null,null,null,null,"Wise County, Texas","Dallas-Ft. Worth",{"$f":"_xlfn.XLOOKUP(G268,A:A,B:B)","v":288},{"$f":"_xlfn.XLOOKUP(G268,A:A,C:C)","v":576}]
[null,null,null,null,null,"Wright County, Minnosota","Minneapolis-St. Paul",{"$f":"_xlfn.XLOOKUP(G269,A:A,B:B)","v":214},{"$f":"_xlfn.XLOOKUP(G269,A:A,C:C)","v":428}]
[null,null,null,null,null,"Wyoming","West Region",{"$f":"_xlfn.XLOOKUP(G270,A:A,B:B)","v":264},{"$f":"_xlfn.XLOOKUP(G270,A:A,C:C)","v":528}]