{"text_format":"1","workbook":"xlsx","n_sheets":3,"sheets":["Sheet1","Sheet2","Sheet3"],"not_rendered":{"charts":0,"images":0,"macros":0,"external_links":0,"defined_names":0,"comments":0,"pivot_tables":0},"unopened":[],"bounds":{"document_bytes":16777216,"sheet_cells":100000,"rows_first":2000,"rows_last":500,"rows_between":2000,"halvings":0,"cell_chars":16384,"cell_head_chars":4096},"cells_cut":0,"cells_raw":0,"read":"whole","date_system":"1900"}

{"sheet":"Sheet1","index":0,"n_rows":10,"n_cols":16,"rows_kept":10,"cut":false,"hidden":false,"merged":[[2,13,2,15]]}
["Expense","One Person","Two Persons","Three Persons","Four Persons",null,null,null,"Under 65",83,null,null,null,"Public Transp","Allowed Amount"]
["Food ",458,820,977,1143,null,null,null,"65 and Older",158,null,null,null,"National ",215]
["Housekeeping supplies",44,75,83,82,null,null,null,null,null,null,null,null,"Ownership Costs"]
["Apparel & services",87,157,187,300,null,null,null,null,null,null,null,null,"Location","One Car","Two Cars"]
["Personal care products & services",48,80,87,97,null,null,null,null,null,null,null,null,"National",619,1238]
["Miscellaneous",171,279,343,405]
["Total",808,1411,1677,2027]
["For each additional person, add to four-person total allowance:",386,null,null,null,null,null,null,null,null,null,null,null,"South Region Operating Costs"]
[null,null,null,null,null,null,null,null,null,null,null,null,null," Location\n","One Car ","Two Cars"]
[null,null,null,null,null,null,null,null,null,null,null,null,null,"South Region ",260,520]

{"sheet":"Sheet2","index":1,"n_rows":102,"n_cols":6,"rows_kept":102,"cut":false,"hidden":false,"merged":[[0,0,2,0]]}
["County",2024,2024,2024,2024,2024]
[null,"Published","Published","Published","Published ALE Housing Expense for a Family of 4","Published"]
[null,"ALE Housing Expense for a Family of 1","ALE Housing Expense for a Family of 2"," ALE Housing Expense for a Family of 3"," ALE Housing Expense for a Family of 4","ALE Housing Expense for a Family of 5 or more"]
["Anderson County",1523,1789,1885,2102,2136]
["Bedford County",1429,1678,1768,1971,2003]
["Benton County",1260,1480,1560,1739,1767]
["Bledsoe County",1257,1477,1556,1735,1763]
["Blount County",1569,1843,1942,2165,2200]
["Bradley County",1497,1758,1853,2066,2099]
["Campbell County",1315,1544,1627,1814,1843]
["Cannon County",1486,1745,1839,2050,2084]
["Carroll County",1265,1486,1566,1746,1774]
["Carter County",1257,1477,1556,1735,1763]
["Cheatham County",1724,2025,2134,2379,2418]
["Chester County",1316,1546,1629,1816,1846]
["Claiborne County",1238,1454,1532,1708,1736]
["Clay County",1235,1450,1528,1704,1731]
["Cocke County",1232,1447,1525,1700,1728]
["Coffee County",1479,1738,1831,2042,2075]
["Crockett County",1266,1487,1567,1747,1775]
["Cumberland County",1298,1524,1606,1791,1820]
["Davidson County",1845,2167,2283,2546,2587]
["Decatur County",1311,1539,1622,1809,1838]
["DeKalb County",1340,1574,1659,1850,1880]
["Dickson County",1566,1839,1938,2161,2196]
["Dyer County",1358,1595,1681,1874,1905]
["Fayette County",1705,2002,2110,2353,2391]
["Fentress County",1167,1370,1444,1610,1636]
["Franklin County",1466,1721,1814,2023,2055]
["Gibson County",1408,1653,1742,1942,1974]
["Giles County",1402,1647,1735,1935,1966]
["Grainger County",1340,1574,1659,1850,1880]
["Greene County",1285,1509,1590,1773,1801]
["Grundy County",1205,1415,1491,1662,1689]
["Hamblen County",1314,1543,1626,1813,1842]
["Hamilton County",1593,1870,1971,2198,2233]
["Hancock County",1271,1493,1573,1754,1782]
["Hardeman County",1227,1442,1519,1694,1721]
["Hardin County",1201,1410,1486,1657,1684]
["Hawkins County",1304,1532,1614,1800,1829]
["Haywood County",1311,1540,1623,1810,1839]
["Henderson County",1256,1475,1554,1733,1761]
["Henry County",1292,1517,1599,1783,1812]
["Hickman County",1408,1653,1742,1942,1974]
["Houston County",1401,1646,1734,1933,1965]
["Humphreys County",1374,1614,1701,1897,1927]
["Jackson County",1277,1499,1580,1762,1790]
["Jefferson County",1360,1597,1683,1877,1907]
["Johnson County",1178,1384,1458,1626,1652]
["Knox County",1609,1889,1991,2220,2256]
["Lake County",1282,1506,1587,1770,1798]
["Lauderdale County",1240,1457,1535,1712,1739]
["Lawrence County",1378,1619,1706,1902,1933]
["Lewis County",1319,1549,1632,1820,1849]
["Lincoln County",1404,1649,1738,1938,1969]
["Loudon County",1551,1821,1919,2140,2174]
["McMinn County",1329,1561,1645,1834,1864]
["McNairy County",1272,1494,1574,1755,1783]
["Macon County",1445,1697,1788,1994,2026]
["Madison County",1488,1748,1842,2054,2087]
["Marion County",1407,1652,1741,1941,1973]
["Marshall County",1467,1723,1816,2025,2058]
["Maury County",1638,1924,2027,2260,2297]
["Meigs County",1323,1554,1637,1825,1855]
["Monroe County",1356,1592,1678,1871,1901]
["Montgomery County",1597,1876,1977,2204,2240]
["Moore County",1612,1893,1995,2224,2260]
["Morgan County",1331,1563,1647,1836,1866]
["Obion County",1202,1412,1488,1659,1686]
["Overton County",1297,1523,1605,1790,1818]
["Perry County",1256,1476,1555,1734,1762]
["Pickett County",1307,1535,1617,1803,1832]
["Polk County",1302,1530,1612,1797,1826]
["Putnam County",1471,1727,1820,2029,2062]
["Rhea County",1378,1618,1705,1901,1932]
["Roane County",1502,1764,1859,2073,2106]
["Robertson County",1694,1989,2096,2337,2375]
["Rutherford County",1750,2056,2166,2415,2454]
["Scott County",1245,1462,1541,1718,1746]
["Sequatchie County",1448,1701,1792,1998,2030]
["Sevier County",1479,1738,1831,2042,2075]
["Shelby County",1715,2014,2122,2366,2404]
["Smith County",1422,1670,1760,1962,1994]
["Stewart County",1429,1679,1769,1972,2004]
["Sullivan County",1381,1622,1709,1906,1936]
["Sumner County",1802,2116,2230,2486,2527]
["Tipton County",1550,1820,1918,2139,2173]
["Trousdale County",1501,1763,1858,2072,2105]
["Unicoi County",1275,1498,1578,1759,1788]
["Union County",1336,1569,1653,1843,1873]
["Van Buren County",1100,1292,1361,1518,1542]
["Warren County",1264,1484,1564,1744,1772]
["Washington County",1495,1756,1850,2063,2096]
["Wayne County",1179,1385,1459,1627,1653]
["Weakley County",1209,1420,1496,1668,1695]
["White County",1307,1535,1618,1804,1833]
["Williamson County",2482,2915,3072,3425,3481]
["Wilson County",1931,2268,2390,2665,2708]
[]
["Related Topic"]
[]
["Local Standards: Housing and Utilities "]

{"sheet":"Sheet3","index":2,"n_rows":49,"n_cols":8,"rows_kept":49,"cut":false,"hidden":false,"merged":[[13,0,13,5],[41,0,41,2],[48,0,49,0],[46,1,47,1],[46,2,47,2],[48,1,49,1],[48,2,49,2],[46,0,47,0],[44,0,44,2],[11,0,11,5],[3,0,3,5],[0,0,1,7],[4,0,4,1],[5,0,5,1],[6,0,6,1],[7,0,7,1],[8,0,8,1],[9,0,9,1],[41,4,41,7],[10,0,10,1],[42,5,42,6],[43,5,43,6],[42,0,42,1],[43,0,43,1]]}
["2024 Published ALE "]
[]
[]
["Food, Clothing & Other items"]
["Expense",null,"One Person","Two Persons","Three Persons","Four Persons"]
["Food",null,{"$f":"Sheet1!B2","v":458},{"$f":"Sheet1!C2","v":820},{"$f":"Sheet1!D2","v":977},{"$f":"Sheet1!E2","v":1143}]
["Housekeeping supplies",null,{"$f":"Sheet1!B3","v":44},{"$f":"Sheet1!C3","v":75},{"$f":"Sheet1!D3","v":83},{"$f":"Sheet1!E3","v":82}]
["Apparel & services",null,{"$f":"Sheet1!B4","v":87},{"$f":"Sheet1!C4","v":157},{"$f":"Sheet1!D4","v":187},{"$f":"Sheet1!E4","v":300}]
["Personal care prod's/srvcs",null,{"$f":"Sheet1!B5","v":48},{"$f":"Sheet1!C5","v":80},{"$f":"Sheet1!D5","v":87},{"$f":"Sheet1!E5","v":97}]
["Miscellaneous",null,{"$f":"Sheet1!B6","v":171},{"$f":"Sheet1!C6","v":279},{"$f":"Sheet1!D6","v":343},{"$f":"Sheet1!E6","v":405}]
["Total",null,{"$f":"Sheet1!B7","v":808},{"$f":"Sheet1!C7","v":1411},{"$f":"Sheet1!D7","v":1677},{"$f":"Sheet1!E7","v":2027}]
[{"$f":"\"For each additional person, add to four-person total allowance: $\"&Sheet1!B8","v":"For each additional person, add to four-person total allowance: $386"}]
[]
["Housing Expense for a Family of:"]
["County",1,2,3,4,"5 (+)"]
["Anderson",{"$f":"_xlfn.XLOOKUP($A16&\" County\",Sheet2!$A$4:$A$98,Sheet2!B$4:B$98)","v":1523},{"$f":"_xlfn.XLOOKUP($A16&\" County\",Sheet2!$A$4:$A$98,Sheet2!C$4:C$98)","v":1789},{"$f":"_xlfn.XLOOKUP($A16&\" County\",Sheet2!$A$4:$A$98,Sheet2!D$4:D$98)","v":1885},{"$f":"_xlfn.XLOOKUP($A16&\" County\",Sheet2!$A$4:$A$98,Sheet2!E$4:E$98)","v":2102},{"$f":"_xlfn.XLOOKUP($A16&\" County\",Sheet2!$A$4:$A$98,Sheet2!F$4:F$98)","v":2136}]
["Blount",{"$f":"_xlfn.XLOOKUP($A17&\" County\",Sheet2!$A$4:$A$98,Sheet2!B$4:B$98)","v":1569},{"$f":"_xlfn.XLOOKUP($A17&\" County\",Sheet2!$A$4:$A$98,Sheet2!C$4:C$98)","v":1843},{"$f":"_xlfn.XLOOKUP($A17&\" County\",Sheet2!$A$4:$A$98,Sheet2!D$4:D$98)","v":1942},{"$f":"_xlfn.XLOOKUP($A17&\" County\",Sheet2!$A$4:$A$98,Sheet2!E$4:E$98)","v":2165},{"$f":"_xlfn.XLOOKUP($A17&\" County\",Sheet2!$A$4:$A$98,Sheet2!F$4:F$98)","v":2200}]
["Bradley",{"$f":"_xlfn.XLOOKUP($A18&\" County\",Sheet2!$A$4:$A$98,Sheet2!B$4:B$98)","v":1497},{"$f":"_xlfn.XLOOKUP($A18&\" County\",Sheet2!$A$4:$A$98,Sheet2!C$4:C$98)","v":1758},{"$f":"_xlfn.XLOOKUP($A18&\" County\",Sheet2!$A$4:$A$98,Sheet2!D$4:D$98)","v":1853},{"$f":"_xlfn.XLOOKUP($A18&\" County\",Sheet2!$A$4:$A$98,Sheet2!E$4:E$98)","v":2066},{"$f":"_xlfn.XLOOKUP($A18&\" County\",Sheet2!$A$4:$A$98,Sheet2!F$4:F$98)","v":2099}]
["Cumberland",{"$f":"_xlfn.XLOOKUP($A19&\" County\",Sheet2!$A$4:$A$98,Sheet2!B$4:B$98)","v":1298},{"$f":"_xlfn.XLOOKUP($A19&\" County\",Sheet2!$A$4:$A$98,Sheet2!C$4:C$98)","v":1524},{"$f":"_xlfn.XLOOKUP($A19&\" County\",Sheet2!$A$4:$A$98,Sheet2!D$4:D$98)","v":1606},{"$f":"_xlfn.XLOOKUP($A19&\" County\",Sheet2!$A$4:$A$98,Sheet2!E$4:E$98)","v":1791},{"$f":"_xlfn.XLOOKUP($A19&\" County\",Sheet2!$A$4:$A$98,Sheet2!F$4:F$98)","v":1820}]
["Davidson",{"$f":"_xlfn.XLOOKUP($A20&\" County\",Sheet2!$A$4:$A$98,Sheet2!B$4:B$98)","v":1845},{"$f":"_xlfn.XLOOKUP($A20&\" County\",Sheet2!$A$4:$A$98,Sheet2!C$4:C$98)","v":2167},{"$f":"_xlfn.XLOOKUP($A20&\" County\",Sheet2!$A$4:$A$98,Sheet2!D$4:D$98)","v":2283},{"$f":"_xlfn.XLOOKUP($A20&\" County\",Sheet2!$A$4:$A$98,Sheet2!E$4:E$98)","v":2546},{"$f":"_xlfn.XLOOKUP($A20&\" County\",Sheet2!$A$4:$A$98,Sheet2!F$4:F$98)","v":2587}]
["DeKalb",{"$f":"_xlfn.XLOOKUP($A21&\" County\",Sheet2!$A$4:$A$98,Sheet2!B$4:B$98)","v":1340},{"$f":"_xlfn.XLOOKUP($A21&\" County\",Sheet2!$A$4:$A$98,Sheet2!C$4:C$98)","v":1574},{"$f":"_xlfn.XLOOKUP($A21&\" County\",Sheet2!$A$4:$A$98,Sheet2!D$4:D$98)","v":1659},{"$f":"_xlfn.XLOOKUP($A21&\" County\",Sheet2!$A$4:$A$98,Sheet2!E$4:E$98)","v":1850},{"$f":"_xlfn.XLOOKUP($A21&\" County\",Sheet2!$A$4:$A$98,Sheet2!F$4:F$98)","v":1880}]
["Franklin",{"$f":"_xlfn.XLOOKUP($A22&\" County\",Sheet2!$A$4:$A$98,Sheet2!B$4:B$98)","v":1466},{"$f":"_xlfn.XLOOKUP($A22&\" County\",Sheet2!$A$4:$A$98,Sheet2!C$4:C$98)","v":1721},{"$f":"_xlfn.XLOOKUP($A22&\" County\",Sheet2!$A$4:$A$98,Sheet2!D$4:D$98)","v":1814},{"$f":"_xlfn.XLOOKUP($A22&\" County\",Sheet2!$A$4:$A$98,Sheet2!E$4:E$98)","v":2023},{"$f":"_xlfn.XLOOKUP($A22&\" County\",Sheet2!$A$4:$A$98,Sheet2!F$4:F$98)","v":2055}]
["Grundy",{"$f":"_xlfn.XLOOKUP($A23&\" County\",Sheet2!$A$4:$A$98,Sheet2!B$4:B$98)","v":1205},{"$f":"_xlfn.XLOOKUP($A23&\" County\",Sheet2!$A$4:$A$98,Sheet2!C$4:C$98)","v":1415},{"$f":"_xlfn.XLOOKUP($A23&\" County\",Sheet2!$A$4:$A$98,Sheet2!D$4:D$98)","v":1491},{"$f":"_xlfn.XLOOKUP($A23&\" County\",Sheet2!$A$4:$A$98,Sheet2!E$4:E$98)","v":1662},{"$f":"_xlfn.XLOOKUP($A23&\" County\",Sheet2!$A$4:$A$98,Sheet2!F$4:F$98)","v":1689}]
["Hamilton",{"$f":"_xlfn.XLOOKUP($A24&\" County\",Sheet2!$A$4:$A$98,Sheet2!B$4:B$98)","v":1593},{"$f":"_xlfn.XLOOKUP($A24&\" County\",Sheet2!$A$4:$A$98,Sheet2!C$4:C$98)","v":1870},{"$f":"_xlfn.XLOOKUP($A24&\" County\",Sheet2!$A$4:$A$98,Sheet2!D$4:D$98)","v":1971},{"$f":"_xlfn.XLOOKUP($A24&\" County\",Sheet2!$A$4:$A$98,Sheet2!E$4:E$98)","v":2198},{"$f":"_xlfn.XLOOKUP($A24&\" County\",Sheet2!$A$4:$A$98,Sheet2!F$4:F$98)","v":2233}]
["Knox",{"$f":"_xlfn.XLOOKUP($A25&\" County\",Sheet2!$A$4:$A$98,Sheet2!B$4:B$98)","v":1609},{"$f":"_xlfn.XLOOKUP($A25&\" County\",Sheet2!$A$4:$A$98,Sheet2!C$4:C$98)","v":1889},{"$f":"_xlfn.XLOOKUP($A25&\" County\",Sheet2!$A$4:$A$98,Sheet2!D$4:D$98)","v":1991},{"$f":"_xlfn.XLOOKUP($A25&\" County\",Sheet2!$A$4:$A$98,Sheet2!E$4:E$98)","v":2220},{"$f":"_xlfn.XLOOKUP($A25&\" County\",Sheet2!$A$4:$A$98,Sheet2!F$4:F$98)","v":2256}]
["Loudon",{"$f":"_xlfn.XLOOKUP($A26&\" County\",Sheet2!$A$4:$A$98,Sheet2!B$4:B$98)","v":1551},{"$f":"_xlfn.XLOOKUP($A26&\" County\",Sheet2!$A$4:$A$98,Sheet2!C$4:C$98)","v":1821},{"$f":"_xlfn.XLOOKUP($A26&\" County\",Sheet2!$A$4:$A$98,Sheet2!D$4:D$98)","v":1919},{"$f":"_xlfn.XLOOKUP($A26&\" County\",Sheet2!$A$4:$A$98,Sheet2!E$4:E$98)","v":2140},{"$f":"_xlfn.XLOOKUP($A26&\" County\",Sheet2!$A$4:$A$98,Sheet2!F$4:F$98)","v":2174}]
["McMinn",{"$f":"_xlfn.XLOOKUP($A27&\" County\",Sheet2!$A$4:$A$98,Sheet2!B$4:B$98)","v":1329},{"$f":"_xlfn.XLOOKUP($A27&\" County\",Sheet2!$A$4:$A$98,Sheet2!C$4:C$98)","v":1561},{"$f":"_xlfn.XLOOKUP($A27&\" County\",Sheet2!$A$4:$A$98,Sheet2!D$4:D$98)","v":1645},{"$f":"_xlfn.XLOOKUP($A27&\" County\",Sheet2!$A$4:$A$98,Sheet2!E$4:E$98)","v":1834},{"$f":"_xlfn.XLOOKUP($A27&\" County\",Sheet2!$A$4:$A$98,Sheet2!F$4:F$98)","v":1864}]
["Madison",{"$f":"_xlfn.XLOOKUP($A28&\" County\",Sheet2!$A$4:$A$98,Sheet2!B$4:B$98)","v":1488},{"$f":"_xlfn.XLOOKUP($A28&\" County\",Sheet2!$A$4:$A$98,Sheet2!C$4:C$98)","v":1748},{"$f":"_xlfn.XLOOKUP($A28&\" County\",Sheet2!$A$4:$A$98,Sheet2!D$4:D$98)","v":1842},{"$f":"_xlfn.XLOOKUP($A28&\" County\",Sheet2!$A$4:$A$98,Sheet2!E$4:E$98)","v":2054},{"$f":"_xlfn.XLOOKUP($A28&\" County\",Sheet2!$A$4:$A$98,Sheet2!F$4:F$98)","v":2087}]
["Marion",{"$f":"_xlfn.XLOOKUP($A29&\" County\",Sheet2!$A$4:$A$98,Sheet2!B$4:B$98)","v":1407},{"$f":"_xlfn.XLOOKUP($A29&\" County\",Sheet2!$A$4:$A$98,Sheet2!C$4:C$98)","v":1652},{"$f":"_xlfn.XLOOKUP($A29&\" County\",Sheet2!$A$4:$A$98,Sheet2!D$4:D$98)","v":1741},{"$f":"_xlfn.XLOOKUP($A29&\" County\",Sheet2!$A$4:$A$98,Sheet2!E$4:E$98)","v":1941},{"$f":"_xlfn.XLOOKUP($A29&\" County\",Sheet2!$A$4:$A$98,Sheet2!F$4:F$98)","v":1973}]
["Meigs",{"$f":"_xlfn.XLOOKUP($A30&\" County\",Sheet2!$A$4:$A$98,Sheet2!B$4:B$98)","v":1323},{"$f":"_xlfn.XLOOKUP($A30&\" County\",Sheet2!$A$4:$A$98,Sheet2!C$4:C$98)","v":1554},{"$f":"_xlfn.XLOOKUP($A30&\" County\",Sheet2!$A$4:$A$98,Sheet2!D$4:D$98)","v":1637},{"$f":"_xlfn.XLOOKUP($A30&\" County\",Sheet2!$A$4:$A$98,Sheet2!E$4:E$98)","v":1825},{"$f":"_xlfn.XLOOKUP($A30&\" County\",Sheet2!$A$4:$A$98,Sheet2!F$4:F$98)","v":1855}]
["Monroe",{"$f":"_xlfn.XLOOKUP($A31&\" County\",Sheet2!$A$4:$A$98,Sheet2!B$4:B$98)","v":1356},{"$f":"_xlfn.XLOOKUP($A31&\" County\",Sheet2!$A$4:$A$98,Sheet2!C$4:C$98)","v":1592},{"$f":"_xlfn.XLOOKUP($A31&\" County\",Sheet2!$A$4:$A$98,Sheet2!D$4:D$98)","v":1678},{"$f":"_xlfn.XLOOKUP($A31&\" County\",Sheet2!$A$4:$A$98,Sheet2!E$4:E$98)","v":1871},{"$f":"_xlfn.XLOOKUP($A31&\" County\",Sheet2!$A$4:$A$98,Sheet2!F$4:F$98)","v":1901}]
["Polk",{"$f":"_xlfn.XLOOKUP($A32&\" County\",Sheet2!$A$4:$A$98,Sheet2!B$4:B$98)","v":1302},{"$f":"_xlfn.XLOOKUP($A32&\" County\",Sheet2!$A$4:$A$98,Sheet2!C$4:C$98)","v":1530},{"$f":"_xlfn.XLOOKUP($A32&\" County\",Sheet2!$A$4:$A$98,Sheet2!D$4:D$98)","v":1612},{"$f":"_xlfn.XLOOKUP($A32&\" County\",Sheet2!$A$4:$A$98,Sheet2!E$4:E$98)","v":1797},{"$f":"_xlfn.XLOOKUP($A32&\" County\",Sheet2!$A$4:$A$98,Sheet2!F$4:F$98)","v":1826}]
["Rhea",{"$f":"_xlfn.XLOOKUP($A33&\" County\",Sheet2!$A$4:$A$98,Sheet2!B$4:B$98)","v":1378},{"$f":"_xlfn.XLOOKUP($A33&\" County\",Sheet2!$A$4:$A$98,Sheet2!C$4:C$98)","v":1618},{"$f":"_xlfn.XLOOKUP($A33&\" County\",Sheet2!$A$4:$A$98,Sheet2!D$4:D$98)","v":1705},{"$f":"_xlfn.XLOOKUP($A33&\" County\",Sheet2!$A$4:$A$98,Sheet2!E$4:E$98)","v":1901},{"$f":"_xlfn.XLOOKUP($A33&\" County\",Sheet2!$A$4:$A$98,Sheet2!F$4:F$98)","v":1932}]
["Roane",{"$f":"_xlfn.XLOOKUP($A34&\" County\",Sheet2!$A$4:$A$98,Sheet2!B$4:B$98)","v":1502},{"$f":"_xlfn.XLOOKUP($A34&\" County\",Sheet2!$A$4:$A$98,Sheet2!C$4:C$98)","v":1764},{"$f":"_xlfn.XLOOKUP($A34&\" County\",Sheet2!$A$4:$A$98,Sheet2!D$4:D$98)","v":1859},{"$f":"_xlfn.XLOOKUP($A34&\" County\",Sheet2!$A$4:$A$98,Sheet2!E$4:E$98)","v":2073},{"$f":"_xlfn.XLOOKUP($A34&\" County\",Sheet2!$A$4:$A$98,Sheet2!F$4:F$98)","v":2106}]
["Rutherford",{"$f":"_xlfn.XLOOKUP($A35&\" County\",Sheet2!$A$4:$A$98,Sheet2!B$4:B$98)","v":1750},{"$f":"_xlfn.XLOOKUP($A35&\" County\",Sheet2!$A$4:$A$98,Sheet2!C$4:C$98)","v":2056},{"$f":"_xlfn.XLOOKUP($A35&\" County\",Sheet2!$A$4:$A$98,Sheet2!D$4:D$98)","v":2166},{"$f":"_xlfn.XLOOKUP($A35&\" County\",Sheet2!$A$4:$A$98,Sheet2!E$4:E$98)","v":2415},{"$f":"_xlfn.XLOOKUP($A35&\" County\",Sheet2!$A$4:$A$98,Sheet2!F$4:F$98)","v":2454}]
["Sequatchie",{"$f":"_xlfn.XLOOKUP($A36&\" County\",Sheet2!$A$4:$A$98,Sheet2!B$4:B$98)","v":1448},{"$f":"_xlfn.XLOOKUP($A36&\" County\",Sheet2!$A$4:$A$98,Sheet2!C$4:C$98)","v":1701},{"$f":"_xlfn.XLOOKUP($A36&\" County\",Sheet2!$A$4:$A$98,Sheet2!D$4:D$98)","v":1792},{"$f":"_xlfn.XLOOKUP($A36&\" County\",Sheet2!$A$4:$A$98,Sheet2!E$4:E$98)","v":1998},{"$f":"_xlfn.XLOOKUP($A36&\" County\",Sheet2!$A$4:$A$98,Sheet2!F$4:F$98)","v":2030}]
["Sevier",{"$f":"_xlfn.XLOOKUP($A37&\" County\",Sheet2!$A$4:$A$98,Sheet2!B$4:B$98)","v":1479},{"$f":"_xlfn.XLOOKUP($A37&\" County\",Sheet2!$A$4:$A$98,Sheet2!C$4:C$98)","v":1738},{"$f":"_xlfn.XLOOKUP($A37&\" County\",Sheet2!$A$4:$A$98,Sheet2!D$4:D$98)","v":1831},{"$f":"_xlfn.XLOOKUP($A37&\" County\",Sheet2!$A$4:$A$98,Sheet2!E$4:E$98)","v":2042},{"$f":"_xlfn.XLOOKUP($A37&\" County\",Sheet2!$A$4:$A$98,Sheet2!F$4:F$98)","v":2075}]
["Shelby",{"$f":"_xlfn.XLOOKUP($A38&\" County\",Sheet2!$A$4:$A$98,Sheet2!B$4:B$98)","v":1715},{"$f":"_xlfn.XLOOKUP($A38&\" County\",Sheet2!$A$4:$A$98,Sheet2!C$4:C$98)","v":2014},{"$f":"_xlfn.XLOOKUP($A38&\" County\",Sheet2!$A$4:$A$98,Sheet2!D$4:D$98)","v":2122},{"$f":"_xlfn.XLOOKUP($A38&\" County\",Sheet2!$A$4:$A$98,Sheet2!E$4:E$98)","v":2366},{"$f":"_xlfn.XLOOKUP($A38&\" County\",Sheet2!$A$4:$A$98,Sheet2!F$4:F$98)","v":2404}]
["Union",{"$f":"_xlfn.XLOOKUP($A39&\" County\",Sheet2!$A$4:$A$98,Sheet2!B$4:B$98)","v":1336},{"$f":"_xlfn.XLOOKUP($A39&\" County\",Sheet2!$A$4:$A$98,Sheet2!C$4:C$98)","v":1569},{"$f":"_xlfn.XLOOKUP($A39&\" County\",Sheet2!$A$4:$A$98,Sheet2!D$4:D$98)","v":1653},{"$f":"_xlfn.XLOOKUP($A39&\" County\",Sheet2!$A$4:$A$98,Sheet2!E$4:E$98)","v":1843},{"$f":"_xlfn.XLOOKUP($A39&\" County\",Sheet2!$A$4:$A$98,Sheet2!F$4:F$98)","v":1873}]
[]
[]
["Transportation",null,null,null,"Out-of-Pocket Health Care"]
["Public Transportation",null,"Allowed",null,null,"Under 65",null,{"$f":"Sheet1!J1","v":83}]
["National ",null,{"$f":"Sheet1!O2","v":215},null,null,"65 and Older",null,{"$f":"Sheet1!J2","v":158}]
[]
["South Region ","One Car","Two Cars"]
["Ownership Costs",{"$f":"Sheet1!O5","v":619},{"$f":"Sheet1!P5","v":1238}]
[]
["Operating Costs",{"$f":"Sheet1!O10","v":260},{"$f":"Sheet1!P10","v":520}]