{"text_format":"1","workbook":"xlsx","n_sheets":3,"sheets":["Sheet1","Sheet2","Sheet3"],"not_rendered":{"charts":0,"images":0,"macros":0,"external_links":0,"defined_names":0,"comments":0,"pivot_tables":0},"unopened":[],"bounds":{"document_bytes":16777216,"sheet_cells":100000,"rows_first":2000,"rows_last":500,"rows_between":2000,"halvings":0,"cell_chars":16384,"cell_head_chars":4096},"cells_cut":0,"cells_raw":0,"read":"whole","date_system":"1900"}

{"sheet":"Sheet1","index":0,"n_rows":10,"n_cols":16,"rows_kept":10,"cut":false,"hidden":false,"merged":[[2,13,2,15]]}
["Expense","One Person","Two Persons","Three Persons","Four Persons",null,null,null,"Under 65",79,null,null,null,"Public Transp","Allowed Amount"]
["Food",466,777,936,1123,null,null,null,"65 and Older",154,null,null,null,"National ",218]
["Housekeeping supplies",47,80,85,90,null,null,null,null,null,null,null,null,"Ownership Costs"]
["Apparel & services",96,145,207,252,null,null,null,null,null,null,null,null,"Location","One Car","Two Cars"]
["Personal care products & services",43,78,91,97,null,null,null,null,null,null,null,null,"National",629,1258]
["Miscellaneous",189,309,381,431,null,null,null,null,null,null,null,null,"South Region",242,484]
["Total",841,1389,1700,1993]
["For each additional person, add to four-person total allowance:",356,null,null,null,null,null,null,null,null,null,null,null,"South Region Operating Costs"]
[null,null,null,null,null,null,null,null,null,null,null,null,null," Location\n","One Car ","Two Cars"]
[null,null,null,null,null,null,null,null,null,null,null,null,null,"South Region ",242,484]

{"sheet":"Sheet2","index":1,"n_rows":102,"n_cols":6,"rows_kept":102,"cut":false,"hidden":false,"merged":[[0,0,2,0]]}
["County",2023,2023,2023,2023,2023]
[null,"Published","Published","Published","Published ALE Housing Expense for a Family of 4","Published"]
[null,"ALE Housing Expense for a Family of 1","ALE Housing Expense for a Family of 2"," ALE Housing Expense for a Family of 3"," ALE Housing Expense for a Family of 4","ALE Housing Expense for a Family of 5 or more"]
["Anderson County",1471,1728,1821,2030,2063]
["Bedford County",1399,1644,1732,1931,1962]
["Benton County",1219,1432,1509,1683,1710]
["Bledsoe County",1282,1506,1587,1770,1798]
["Blount County",1555,1827,1925,2146,2181]
["Bradley County",1478,1736,1829,2039,2072]
["Campbell County",1276,1498,1579,1761,1789]
["Cannon County",1438,1689,1780,1985,2017]
["Carroll County",1242,1459,1537,1714,1741]
["Carter County",1284,1508,1589,1772,1800]
["Cheatham County",1631,1916,2019,2251,2288]
["Chester County",1339,1572,1657,1848,1877]
["Claiborne County",1214,1426,1503,1676,1703]
["Clay County",1196,1405,1480,1650,1677]
["Cocke County",1259,1479,1558,1737,1765]
["Coffee County",1443,1695,1786,1991,2024]
["Crockett County",1256,1475,1554,1733,1761]
["Cumberland County",1264,1484,1564,1744,1772]
["Davidson County",1799,2112,2226,2482,2522]
["Decatur County",1315,1545,1628,1815,1845]
["DeKalb County",1315,1545,1628,1815,1845]
["Dickson County",1533,1800,1897,2115,2149]
["Dyer County",1321,1552,1635,1823,1852]
["Fayette County",1654,1943,2047,2282,2319]
["Fentress County",1144,1344,1416,1579,1604]
["Franklin County",1430,1680,1770,1974,2005]
["Gibson County",1399,1644,1732,1931,1962]
["Giles County",1420,1667,1757,1959,1991]
["Grainger County",1357,1593,1679,1872,1902]
["Greene County",1291,1517,1598,1782,1811]
["Grundy County",1214,1426,1503,1676,1703]
["Hamblen County",1298,1524,1606,1791,1820]
["Hamilton County",1569,1843,1942,2165,2200]
["Hancock County",1244,1461,1539,1716,1744]
["Hardeman County",1225,1439,1516,1690,1718]
["Hardin County",1172,1376,1450,1617,1643]
["Hawkins County",1295,1521,1603,1787,1816]
["Haywood County",1278,1501,1582,1764,1792]
["Henderson County",1218,1431,1508,1681,1709]
["Henry County",1255,1474,1553,1732,1760]
["Hickman County",1352,1588,1673,1865,1896]
["Houston County",1351,1587,1672,1864,1894]
["Humphreys County",1353,1589,1674,1867,1897]
["Jackson County",1268,1489,1569,1749,1778]
["Jefferson County",1345,1579,1664,1855,1885]
["Johnson County",1165,1368,1442,1608,1634]
["Knox County",1583,1859,1959,2184,2220]
["Lake County",1213,1424,1501,1674,1701]
["Lauderdale County",1251,1469,1548,1726,1754]
["Lawrence County",1315,1545,1628,1815,1845]
["Lewis County",1290,1515,1596,1780,1808]
["Lincoln County",1424,1672,1762,1965,1996]
["Loudon County",1522,1788,1884,2101,2135]
["McMinn County",1339,1572,1657,1848,1877]
["McNairy County",1264,1484,1564,1744,1772]
["Macon County",1371,1610,1697,1892,1923]
["Madison County",1478,1736,1829,2039,2072]
["Marion County",1412,1658,1747,1948,1979]
["Marshall County",1431,1681,1771,1975,2007]
["Maury County",1599,1878,1979,2207,2242]
["Meigs County",1361,1598,1684,1878,1908]
["Monroe County",1344,1578,1663,1854,1884]
["Montgomery County",1582,1858,1958,2183,2218]
["Moore County",1615,1897,1999,2229,2265]
["Morgan County",1241,1458,1536,1713,1740]
["Obion County",1213,1424,1501,1674,1701]
["Overton County",1235,1450,1528,1704,1731]
["Perry County",1150,1350,1423,1587,1612]
["Pickett County",1289,1514,1595,1778,1807]
["Polk County",1307,1535,1617,1803,1832]
["Putnam County",1422,1670,1760,1962,1994]
["Rhea County",1356,1592,1678,1871,1901]
["Roane County",1488,1747,1841,2053,2086]
["Robertson County",1648,1936,2040,2275,2311]
["Rutherford County",1705,2002,2110,2353,2391]
["Scott County",1209,1420,1496,1668,1695]
["Sequatchie County",1403,1647,1736,1936,1967]
["Sevier County",1470,1726,1819,2028,2061]
["Shelby County",1673,1964,2070,2308,2345]
["Smith County",1428,1677,1767,1970,2002]
["Stewart County",1515,1779,1875,2091,2124]
["Sullivan County",1374,1614,1701,1897,1927]
["Sumner County",1765,2073,2184,2435,2474]
["Tipton County",1524,1790,1886,2103,2137]
["Trousdale County",1490,1750,1844,2056,2089]
["Unicoi County",1227,1441,1518,1693,1720]
["Union County",1319,1549,1632,1820,1849]
["Van Buren County",1058,1242,1309,1460,1483]
["Warren County",1223,1437,1514,1688,1715]
["Washington County",1446,1698,1789,1995,2027]
["Wayne County",1257,1477,1556,1735,1763]
["Weakley County",1196,1405,1480,1650,1677]
["White County",1291,1517,1598,1782,1811]
["Williamson County",2458,2887,3042,3392,3447]
["Wilson County",1910,2243,2364,2636,2678]
[]
["Related Topic"]
[]
["Local Standards: Housing and Utilities "]

{"sheet":"Sheet3","index":2,"n_rows":49,"n_cols":8,"rows_kept":49,"cut":false,"hidden":false,"merged":[[41,4,41,7],[10,0,10,1],[42,5,42,6],[43,5,43,6],[42,0,42,1],[43,0,43,1],[13,0,13,5],[41,0,41,2],[48,0,49,0],[46,1,47,1],[46,2,47,2],[48,1,49,1],[48,2,49,2],[46,0,47,0],[44,0,44,2],[11,0,11,5],[3,0,3,5],[0,0,1,7],[4,0,4,1],[5,0,5,1],[6,0,6,1],[7,0,7,1],[8,0,8,1],[9,0,9,1]]}
["2023 Published ALE "]
[]
[]
["Food, Clothing & Other items"]
["Expense",null,"One Person","Two Persons","Three Persons","Four Persons"]
["Food",null,466,777,936,1123]
["Housekeeping supplies",null,47,80,85,90]
["Apparel & services",null,96,145,207,252]
["Personal care prod's/srvcs",null,43,78,91,97]
["Miscellaneous",null,189,309,381,431]
["Total",null,841,1389,1700,1993]
["For each additional person, add to four-person total allowance: $356"]
[]
["Housing Expense for a Family of:"]
["County",1,2,3,4,"5 (+)"]
["Anderson",{"$f":"_xlfn.XLOOKUP($A16&\" County\",Sheet2!$A$4:$A$98,Sheet2!B$4:B$98)","v":1471},{"$f":"_xlfn.XLOOKUP($A16&\" County\",Sheet2!$A$4:$A$98,Sheet2!C$4:C$98)","v":1728},{"$f":"_xlfn.XLOOKUP($A16&\" County\",Sheet2!$A$4:$A$98,Sheet2!D$4:D$98)","v":1821},{"$f":"_xlfn.XLOOKUP($A16&\" County\",Sheet2!$A$4:$A$98,Sheet2!E$4:E$98)","v":2030},{"$f":"_xlfn.XLOOKUP($A16&\" County\",Sheet2!$A$4:$A$98,Sheet2!F$4:F$98)","v":2063}]
["Blount",{"$f":"_xlfn.XLOOKUP($A17&\" County\",Sheet2!$A$4:$A$98,Sheet2!B$4:B$98)","v":1555},{"$f":"_xlfn.XLOOKUP($A17&\" County\",Sheet2!$A$4:$A$98,Sheet2!C$4:C$98)","v":1827},{"$f":"_xlfn.XLOOKUP($A17&\" County\",Sheet2!$A$4:$A$98,Sheet2!D$4:D$98)","v":1925},{"$f":"_xlfn.XLOOKUP($A17&\" County\",Sheet2!$A$4:$A$98,Sheet2!E$4:E$98)","v":2146},{"$f":"_xlfn.XLOOKUP($A17&\" County\",Sheet2!$A$4:$A$98,Sheet2!F$4:F$98)","v":2181}]
["Bradley",{"$f":"_xlfn.XLOOKUP($A18&\" County\",Sheet2!$A$4:$A$98,Sheet2!B$4:B$98)","v":1478},{"$f":"_xlfn.XLOOKUP($A18&\" County\",Sheet2!$A$4:$A$98,Sheet2!C$4:C$98)","v":1736},{"$f":"_xlfn.XLOOKUP($A18&\" County\",Sheet2!$A$4:$A$98,Sheet2!D$4:D$98)","v":1829},{"$f":"_xlfn.XLOOKUP($A18&\" County\",Sheet2!$A$4:$A$98,Sheet2!E$4:E$98)","v":2039},{"$f":"_xlfn.XLOOKUP($A18&\" County\",Sheet2!$A$4:$A$98,Sheet2!F$4:F$98)","v":2072}]
["Cumberland",{"$f":"_xlfn.XLOOKUP($A19&\" County\",Sheet2!$A$4:$A$98,Sheet2!B$4:B$98)","v":1264},{"$f":"_xlfn.XLOOKUP($A19&\" County\",Sheet2!$A$4:$A$98,Sheet2!C$4:C$98)","v":1484},{"$f":"_xlfn.XLOOKUP($A19&\" County\",Sheet2!$A$4:$A$98,Sheet2!D$4:D$98)","v":1564},{"$f":"_xlfn.XLOOKUP($A19&\" County\",Sheet2!$A$4:$A$98,Sheet2!E$4:E$98)","v":1744},{"$f":"_xlfn.XLOOKUP($A19&\" County\",Sheet2!$A$4:$A$98,Sheet2!F$4:F$98)","v":1772}]
["Davidson",{"$f":"_xlfn.XLOOKUP($A20&\" County\",Sheet2!$A$4:$A$98,Sheet2!B$4:B$98)","v":1799},{"$f":"_xlfn.XLOOKUP($A20&\" County\",Sheet2!$A$4:$A$98,Sheet2!C$4:C$98)","v":2112},{"$f":"_xlfn.XLOOKUP($A20&\" County\",Sheet2!$A$4:$A$98,Sheet2!D$4:D$98)","v":2226},{"$f":"_xlfn.XLOOKUP($A20&\" County\",Sheet2!$A$4:$A$98,Sheet2!E$4:E$98)","v":2482},{"$f":"_xlfn.XLOOKUP($A20&\" County\",Sheet2!$A$4:$A$98,Sheet2!F$4:F$98)","v":2522}]
["DeKalb",{"$f":"_xlfn.XLOOKUP($A21&\" County\",Sheet2!$A$4:$A$98,Sheet2!B$4:B$98)","v":1315},{"$f":"_xlfn.XLOOKUP($A21&\" County\",Sheet2!$A$4:$A$98,Sheet2!C$4:C$98)","v":1545},{"$f":"_xlfn.XLOOKUP($A21&\" County\",Sheet2!$A$4:$A$98,Sheet2!D$4:D$98)","v":1628},{"$f":"_xlfn.XLOOKUP($A21&\" County\",Sheet2!$A$4:$A$98,Sheet2!E$4:E$98)","v":1815},{"$f":"_xlfn.XLOOKUP($A21&\" County\",Sheet2!$A$4:$A$98,Sheet2!F$4:F$98)","v":1845}]
["Franklin",{"$f":"_xlfn.XLOOKUP($A22&\" County\",Sheet2!$A$4:$A$98,Sheet2!B$4:B$98)","v":1430},{"$f":"_xlfn.XLOOKUP($A22&\" County\",Sheet2!$A$4:$A$98,Sheet2!C$4:C$98)","v":1680},{"$f":"_xlfn.XLOOKUP($A22&\" County\",Sheet2!$A$4:$A$98,Sheet2!D$4:D$98)","v":1770},{"$f":"_xlfn.XLOOKUP($A22&\" County\",Sheet2!$A$4:$A$98,Sheet2!E$4:E$98)","v":1974},{"$f":"_xlfn.XLOOKUP($A22&\" County\",Sheet2!$A$4:$A$98,Sheet2!F$4:F$98)","v":2005}]
["Grundy",{"$f":"_xlfn.XLOOKUP($A23&\" County\",Sheet2!$A$4:$A$98,Sheet2!B$4:B$98)","v":1214},{"$f":"_xlfn.XLOOKUP($A23&\" County\",Sheet2!$A$4:$A$98,Sheet2!C$4:C$98)","v":1426},{"$f":"_xlfn.XLOOKUP($A23&\" County\",Sheet2!$A$4:$A$98,Sheet2!D$4:D$98)","v":1503},{"$f":"_xlfn.XLOOKUP($A23&\" County\",Sheet2!$A$4:$A$98,Sheet2!E$4:E$98)","v":1676},{"$f":"_xlfn.XLOOKUP($A23&\" County\",Sheet2!$A$4:$A$98,Sheet2!F$4:F$98)","v":1703}]
["Hamilton",{"$f":"_xlfn.XLOOKUP($A24&\" County\",Sheet2!$A$4:$A$98,Sheet2!B$4:B$98)","v":1569},{"$f":"_xlfn.XLOOKUP($A24&\" County\",Sheet2!$A$4:$A$98,Sheet2!C$4:C$98)","v":1843},{"$f":"_xlfn.XLOOKUP($A24&\" County\",Sheet2!$A$4:$A$98,Sheet2!D$4:D$98)","v":1942},{"$f":"_xlfn.XLOOKUP($A24&\" County\",Sheet2!$A$4:$A$98,Sheet2!E$4:E$98)","v":2165},{"$f":"_xlfn.XLOOKUP($A24&\" County\",Sheet2!$A$4:$A$98,Sheet2!F$4:F$98)","v":2200}]
["Knox",{"$f":"_xlfn.XLOOKUP($A25&\" County\",Sheet2!$A$4:$A$98,Sheet2!B$4:B$98)","v":1583},{"$f":"_xlfn.XLOOKUP($A25&\" County\",Sheet2!$A$4:$A$98,Sheet2!C$4:C$98)","v":1859},{"$f":"_xlfn.XLOOKUP($A25&\" County\",Sheet2!$A$4:$A$98,Sheet2!D$4:D$98)","v":1959},{"$f":"_xlfn.XLOOKUP($A25&\" County\",Sheet2!$A$4:$A$98,Sheet2!E$4:E$98)","v":2184},{"$f":"_xlfn.XLOOKUP($A25&\" County\",Sheet2!$A$4:$A$98,Sheet2!F$4:F$98)","v":2220}]
["Loudon",{"$f":"_xlfn.XLOOKUP($A26&\" County\",Sheet2!$A$4:$A$98,Sheet2!B$4:B$98)","v":1522},{"$f":"_xlfn.XLOOKUP($A26&\" County\",Sheet2!$A$4:$A$98,Sheet2!C$4:C$98)","v":1788},{"$f":"_xlfn.XLOOKUP($A26&\" County\",Sheet2!$A$4:$A$98,Sheet2!D$4:D$98)","v":1884},{"$f":"_xlfn.XLOOKUP($A26&\" County\",Sheet2!$A$4:$A$98,Sheet2!E$4:E$98)","v":2101},{"$f":"_xlfn.XLOOKUP($A26&\" County\",Sheet2!$A$4:$A$98,Sheet2!F$4:F$98)","v":2135}]
["McMinn",{"$f":"_xlfn.XLOOKUP($A27&\" County\",Sheet2!$A$4:$A$98,Sheet2!B$4:B$98)","v":1339},{"$f":"_xlfn.XLOOKUP($A27&\" County\",Sheet2!$A$4:$A$98,Sheet2!C$4:C$98)","v":1572},{"$f":"_xlfn.XLOOKUP($A27&\" County\",Sheet2!$A$4:$A$98,Sheet2!D$4:D$98)","v":1657},{"$f":"_xlfn.XLOOKUP($A27&\" County\",Sheet2!$A$4:$A$98,Sheet2!E$4:E$98)","v":1848},{"$f":"_xlfn.XLOOKUP($A27&\" County\",Sheet2!$A$4:$A$98,Sheet2!F$4:F$98)","v":1877}]
["Madison",{"$f":"_xlfn.XLOOKUP($A28&\" County\",Sheet2!$A$4:$A$98,Sheet2!B$4:B$98)","v":1478},{"$f":"_xlfn.XLOOKUP($A28&\" County\",Sheet2!$A$4:$A$98,Sheet2!C$4:C$98)","v":1736},{"$f":"_xlfn.XLOOKUP($A28&\" County\",Sheet2!$A$4:$A$98,Sheet2!D$4:D$98)","v":1829},{"$f":"_xlfn.XLOOKUP($A28&\" County\",Sheet2!$A$4:$A$98,Sheet2!E$4:E$98)","v":2039},{"$f":"_xlfn.XLOOKUP($A28&\" County\",Sheet2!$A$4:$A$98,Sheet2!F$4:F$98)","v":2072}]
["Marion",{"$f":"_xlfn.XLOOKUP($A29&\" County\",Sheet2!$A$4:$A$98,Sheet2!B$4:B$98)","v":1412},{"$f":"_xlfn.XLOOKUP($A29&\" County\",Sheet2!$A$4:$A$98,Sheet2!C$4:C$98)","v":1658},{"$f":"_xlfn.XLOOKUP($A29&\" County\",Sheet2!$A$4:$A$98,Sheet2!D$4:D$98)","v":1747},{"$f":"_xlfn.XLOOKUP($A29&\" County\",Sheet2!$A$4:$A$98,Sheet2!E$4:E$98)","v":1948},{"$f":"_xlfn.XLOOKUP($A29&\" County\",Sheet2!$A$4:$A$98,Sheet2!F$4:F$98)","v":1979}]
["Meigs",{"$f":"_xlfn.XLOOKUP($A30&\" County\",Sheet2!$A$4:$A$98,Sheet2!B$4:B$98)","v":1361},{"$f":"_xlfn.XLOOKUP($A30&\" County\",Sheet2!$A$4:$A$98,Sheet2!C$4:C$98)","v":1598},{"$f":"_xlfn.XLOOKUP($A30&\" County\",Sheet2!$A$4:$A$98,Sheet2!D$4:D$98)","v":1684},{"$f":"_xlfn.XLOOKUP($A30&\" County\",Sheet2!$A$4:$A$98,Sheet2!E$4:E$98)","v":1878},{"$f":"_xlfn.XLOOKUP($A30&\" County\",Sheet2!$A$4:$A$98,Sheet2!F$4:F$98)","v":1908}]
["Monroe",{"$f":"_xlfn.XLOOKUP($A31&\" County\",Sheet2!$A$4:$A$98,Sheet2!B$4:B$98)","v":1344},{"$f":"_xlfn.XLOOKUP($A31&\" County\",Sheet2!$A$4:$A$98,Sheet2!C$4:C$98)","v":1578},{"$f":"_xlfn.XLOOKUP($A31&\" County\",Sheet2!$A$4:$A$98,Sheet2!D$4:D$98)","v":1663},{"$f":"_xlfn.XLOOKUP($A31&\" County\",Sheet2!$A$4:$A$98,Sheet2!E$4:E$98)","v":1854},{"$f":"_xlfn.XLOOKUP($A31&\" County\",Sheet2!$A$4:$A$98,Sheet2!F$4:F$98)","v":1884}]
["Polk",{"$f":"_xlfn.XLOOKUP($A32&\" County\",Sheet2!$A$4:$A$98,Sheet2!B$4:B$98)","v":1307},{"$f":"_xlfn.XLOOKUP($A32&\" County\",Sheet2!$A$4:$A$98,Sheet2!C$4:C$98)","v":1535},{"$f":"_xlfn.XLOOKUP($A32&\" County\",Sheet2!$A$4:$A$98,Sheet2!D$4:D$98)","v":1617},{"$f":"_xlfn.XLOOKUP($A32&\" County\",Sheet2!$A$4:$A$98,Sheet2!E$4:E$98)","v":1803},{"$f":"_xlfn.XLOOKUP($A32&\" County\",Sheet2!$A$4:$A$98,Sheet2!F$4:F$98)","v":1832}]
["Rhea",{"$f":"_xlfn.XLOOKUP($A33&\" County\",Sheet2!$A$4:$A$98,Sheet2!B$4:B$98)","v":1356},{"$f":"_xlfn.XLOOKUP($A33&\" County\",Sheet2!$A$4:$A$98,Sheet2!C$4:C$98)","v":1592},{"$f":"_xlfn.XLOOKUP($A33&\" County\",Sheet2!$A$4:$A$98,Sheet2!D$4:D$98)","v":1678},{"$f":"_xlfn.XLOOKUP($A33&\" County\",Sheet2!$A$4:$A$98,Sheet2!E$4:E$98)","v":1871},{"$f":"_xlfn.XLOOKUP($A33&\" County\",Sheet2!$A$4:$A$98,Sheet2!F$4:F$98)","v":1901}]
["Roane",{"$f":"_xlfn.XLOOKUP($A34&\" County\",Sheet2!$A$4:$A$98,Sheet2!B$4:B$98)","v":1488},{"$f":"_xlfn.XLOOKUP($A34&\" County\",Sheet2!$A$4:$A$98,Sheet2!C$4:C$98)","v":1747},{"$f":"_xlfn.XLOOKUP($A34&\" County\",Sheet2!$A$4:$A$98,Sheet2!D$4:D$98)","v":1841},{"$f":"_xlfn.XLOOKUP($A34&\" County\",Sheet2!$A$4:$A$98,Sheet2!E$4:E$98)","v":2053},{"$f":"_xlfn.XLOOKUP($A34&\" County\",Sheet2!$A$4:$A$98,Sheet2!F$4:F$98)","v":2086}]
["Rutherford",{"$f":"_xlfn.XLOOKUP($A35&\" County\",Sheet2!$A$4:$A$98,Sheet2!B$4:B$98)","v":1705},{"$f":"_xlfn.XLOOKUP($A35&\" County\",Sheet2!$A$4:$A$98,Sheet2!C$4:C$98)","v":2002},{"$f":"_xlfn.XLOOKUP($A35&\" County\",Sheet2!$A$4:$A$98,Sheet2!D$4:D$98)","v":2110},{"$f":"_xlfn.XLOOKUP($A35&\" County\",Sheet2!$A$4:$A$98,Sheet2!E$4:E$98)","v":2353},{"$f":"_xlfn.XLOOKUP($A35&\" County\",Sheet2!$A$4:$A$98,Sheet2!F$4:F$98)","v":2391}]
["Sequatchie",{"$f":"_xlfn.XLOOKUP($A36&\" County\",Sheet2!$A$4:$A$98,Sheet2!B$4:B$98)","v":1403},{"$f":"_xlfn.XLOOKUP($A36&\" County\",Sheet2!$A$4:$A$98,Sheet2!C$4:C$98)","v":1647},{"$f":"_xlfn.XLOOKUP($A36&\" County\",Sheet2!$A$4:$A$98,Sheet2!D$4:D$98)","v":1736},{"$f":"_xlfn.XLOOKUP($A36&\" County\",Sheet2!$A$4:$A$98,Sheet2!E$4:E$98)","v":1936},{"$f":"_xlfn.XLOOKUP($A36&\" County\",Sheet2!$A$4:$A$98,Sheet2!F$4:F$98)","v":1967}]
["Sevier",{"$f":"_xlfn.XLOOKUP($A37&\" County\",Sheet2!$A$4:$A$98,Sheet2!B$4:B$98)","v":1470},{"$f":"_xlfn.XLOOKUP($A37&\" County\",Sheet2!$A$4:$A$98,Sheet2!C$4:C$98)","v":1726},{"$f":"_xlfn.XLOOKUP($A37&\" County\",Sheet2!$A$4:$A$98,Sheet2!D$4:D$98)","v":1819},{"$f":"_xlfn.XLOOKUP($A37&\" County\",Sheet2!$A$4:$A$98,Sheet2!E$4:E$98)","v":2028},{"$f":"_xlfn.XLOOKUP($A37&\" County\",Sheet2!$A$4:$A$98,Sheet2!F$4:F$98)","v":2061}]
["Shelby",{"$f":"_xlfn.XLOOKUP($A38&\" County\",Sheet2!$A$4:$A$98,Sheet2!B$4:B$98)","v":1673},{"$f":"_xlfn.XLOOKUP($A38&\" County\",Sheet2!$A$4:$A$98,Sheet2!C$4:C$98)","v":1964},{"$f":"_xlfn.XLOOKUP($A38&\" County\",Sheet2!$A$4:$A$98,Sheet2!D$4:D$98)","v":2070},{"$f":"_xlfn.XLOOKUP($A38&\" County\",Sheet2!$A$4:$A$98,Sheet2!E$4:E$98)","v":2308},{"$f":"_xlfn.XLOOKUP($A38&\" County\",Sheet2!$A$4:$A$98,Sheet2!F$4:F$98)","v":2345}]
["Union",{"$f":"_xlfn.XLOOKUP($A39&\" County\",Sheet2!$A$4:$A$98,Sheet2!B$4:B$98)","v":1319},{"$f":"_xlfn.XLOOKUP($A39&\" County\",Sheet2!$A$4:$A$98,Sheet2!C$4:C$98)","v":1549},{"$f":"_xlfn.XLOOKUP($A39&\" County\",Sheet2!$A$4:$A$98,Sheet2!D$4:D$98)","v":1632},{"$f":"_xlfn.XLOOKUP($A39&\" County\",Sheet2!$A$4:$A$98,Sheet2!E$4:E$98)","v":1820},{"$f":"_xlfn.XLOOKUP($A39&\" County\",Sheet2!$A$4:$A$98,Sheet2!F$4:F$98)","v":1849}]
[]
[]
["Transportation",null,null,null,"Out-of-Pocket Health Care"]
["Public Transportation",null,"Allowed",null,null,"Under 65",null,79]
["National ",null,218,null,null,"65 and Older",null,154]
[]
["South Region ","One Car","Two Cars"]
["Ownership Costs",242,484]
[]
["Operating Costs",242,484]